| Back to Multiple platform build/check report for BioC 3.7 |
|
This page was generated on 2018-10-17 08:24:43 -0400 (Wed, 17 Oct 2018).
| Package 1245/1561 | Hostname | OS / Arch | INSTALL | BUILD | CHECK | BUILD BIN | ||||||
| RIPSeeker 1.20.0 Yue Li
| malbec2 | Linux (Ubuntu 16.04.1 LTS) / x86_64 | OK | OK | [ OK ] | |||||||
| tokay2 | Windows Server 2012 R2 Standard / x64 | OK | OK | WARNINGS | OK | |||||||
| merida2 | OS X 10.11.6 El Capitan / x86_64 | OK | OK | OK | OK |
| Package: RIPSeeker |
| Version: 1.20.0 |
| Command: /home/biocbuild/bbs-3.7-bioc/R/bin/R CMD check --install=check:RIPSeeker.install-out.txt --library=/home/biocbuild/bbs-3.7-bioc/R/library --no-vignettes --timings RIPSeeker_1.20.0.tar.gz |
| StartedAt: 2018-10-16 03:18:18 -0400 (Tue, 16 Oct 2018) |
| EndedAt: 2018-10-16 03:21:32 -0400 (Tue, 16 Oct 2018) |
| EllapsedTime: 194.6 seconds |
| RetCode: 0 |
| Status: OK |
| CheckDir: RIPSeeker.Rcheck |
| Warnings: 0 |
##############################################################################
##############################################################################
###
### Running command:
###
### /home/biocbuild/bbs-3.7-bioc/R/bin/R CMD check --install=check:RIPSeeker.install-out.txt --library=/home/biocbuild/bbs-3.7-bioc/R/library --no-vignettes --timings RIPSeeker_1.20.0.tar.gz
###
##############################################################################
##############################################################################
* using log directory ‘/home/biocbuild/bbs-3.7-bioc/meat/RIPSeeker.Rcheck’
* using R version 3.5.1 Patched (2018-07-12 r74967)
* using platform: x86_64-pc-linux-gnu (64-bit)
* using session charset: UTF-8
* using option ‘--no-vignettes’
* checking for file ‘RIPSeeker/DESCRIPTION’ ... OK
* checking extension type ... Package
* this is package ‘RIPSeeker’ version ‘1.20.0’
* checking package namespace information ... OK
* checking package dependencies ... NOTE
Depends: includes the non-default packages:
‘S4Vectors’ ‘IRanges’ ‘GenomicRanges’ ‘SummarizedExperiment’
‘Rsamtools’ ‘GenomicAlignments’ ‘rtracklayer’
Adding so many packages to the search path is excessive and importing
selectively is preferable.
* checking if this is a source package ... OK
* checking if there is a namespace ... OK
* checking for hidden files and directories ... OK
* checking for portable file names ... OK
* checking for sufficient/correct file permissions ... OK
* checking whether package ‘RIPSeeker’ can be installed ... OK
* checking installed package size ... OK
* checking package directory ... OK
* checking ‘build’ directory ... OK
* checking DESCRIPTION meta-information ... OK
* checking top-level files ... OK
* checking for left-over files ... OK
* checking index information ... OK
* checking package subdirectories ... OK
* checking R files for non-ASCII characters ... OK
* checking R files for syntax errors ... OK
* checking whether the package can be loaded ... OK
* checking whether the package can be loaded with stated dependencies ... OK
* checking whether the package can be unloaded cleanly ... OK
* checking whether the namespace can be loaded with stated dependencies ... OK
* checking whether the namespace can be unloaded cleanly ... OK
* checking dependencies in R code ... NOTE
'library' or 'require' call to ‘Rsamtools’ which was already attached by Depends.
Please remove these calls from your code.
'library' or 'require' calls in package code:
‘ChIPpeakAnno’ ‘GenomicFeatures’ ‘biomaRt’ ‘parallel’
Please use :: or requireNamespace() instead.
See section 'Suggested packages' in the 'Writing R Extensions' manual.
* checking S3 generic/method consistency ... OK
* checking replacement functions ... OK
* checking foreign function calls ... OK
* checking R code for possible problems ... NOTE
annotateRIP: no visible global function definition for ‘getAnnotation’
annotateRIP: no visible global function definition for ‘getBM’
annotateRIP: no visible global function definition for ‘write.table’
binCount: no visible global function definition for ‘seqlengths’
combineRIP: no visible global function definition for ‘seqlengths<-’
combineRIP: no visible global function definition for ‘seqlengths’
computeRPKM: no visible global function definition for ‘exonsBy’
computeRPKM: no visible global function definition for ‘cdsBy’
computeRPKM: no visible global function definition for
‘intronsByTranscript’
computeRPKM: no visible global function definition for
‘fiveUTRsByTranscript’
computeRPKM: no visible global function definition for
‘threeUTRsByTranscript’
computeRPKM: no visible global function definition for ‘seqlevels<-’
computeRPKM: no visible global function definition for ‘seqlevels’
computeRPKM: no visible global function definition for ‘read.delim’
computeRPKM: no visible global function definition for ‘getBM’
exportGRanges: no visible global function definition for ‘write.table’
galp2gal: no visible global function definition for ‘seqlengths’
getAlignGal: no visible global function definition for ‘seqlengths<-’
getAlignGal: no visible global function definition for ‘seqlengths’
mainSeek: no visible global function definition for ‘mclapply’
mainSeekSingleChrom: no visible global function definition for
‘seqlengths’
plotCoverage: no visible global function definition for ‘seqlengths’
ripSeek: no visible global function definition for ‘as.roman’
ripSeek: no visible global function definition for ‘write.table’
rulebaseRIPSeek: no visible global function definition for ‘getBM’
rulebaseRIPSeek: no visible global function definition for
‘write.table’
selectBinSize: no visible global function definition for ‘seqlengths’
viewRIP: no visible global function definition for
‘GRangesForUCSCGenome’
Undefined global functions or variables:
GRangesForUCSCGenome as.roman cdsBy exonsBy fiveUTRsByTranscript
getAnnotation getBM intronsByTranscript mclapply read.delim
seqlengths seqlengths<- seqlevels seqlevels<- threeUTRsByTranscript
write.table
Consider adding
importFrom("utils", "as.roman", "read.delim", "write.table")
to your NAMESPACE file.
* checking Rd files ... OK
* checking Rd metadata ... OK
* checking Rd cross-references ... OK
* checking for missing documentation entries ... OK
* checking for code/documentation mismatches ... OK
* checking Rd \usage sections ... OK
* checking Rd contents ... OK
* checking for unstated dependencies in examples ... OK
* checking files in ‘vignettes’ ... OK
* checking examples ... OK
Examples with CPU or elapsed time > 5s
user system elapsed
disambiguateMultihits 14.372 0.012 14.404
mainSeek 13.480 0.008 13.496
combineRIP 1.308 0.036 19.024
* checking for unstated dependencies in vignettes ... OK
* checking package vignettes in ‘inst/doc’ ... OK
* checking running R code from vignettes ... SKIPPED
* checking re-building of vignette outputs ... SKIPPED
* checking PDF version of manual ... OK
* DONE
Status: 3 NOTEs
See
‘/home/biocbuild/bbs-3.7-bioc/meat/RIPSeeker.Rcheck/00check.log’
for details.
RIPSeeker.Rcheck/00install.out
############################################################################## ############################################################################## ### ### Running command: ### ### /home/biocbuild/bbs-3.7-bioc/R/bin/R CMD INSTALL RIPSeeker ### ############################################################################## ############################################################################## * installing to library ‘/home/biocbuild/bbs-3.7-bioc/R/library’ * installing *source* package ‘RIPSeeker’ ... ** R ** inst ** byte-compile and prepare package for lazy loading ** help *** installing help indices ** building package indices ** installing vignettes ** testing if installed package can be loaded * DONE (RIPSeeker)
RIPSeeker.Rcheck/RIPSeeker-Ex.timings
| name | user | system | elapsed | |
| RIPSeeker-package | 0.000 | 0.000 | 0.001 | |
| addDummyProb | 0.548 | 0.012 | 0.582 | |
| addPseudoAlignment | 0.708 | 0.008 | 0.714 | |
| annotateRIP | 0.004 | 0.004 | 0.008 | |
| binCount | 0.284 | 0.012 | 0.296 | |
| combineAlignGals | 0.164 | 0.004 | 0.186 | |
| combineRIP | 1.308 | 0.036 | 19.024 | |
| computeLogOdd | 1.604 | 0.020 | 1.628 | |
| computeRPKM | 0.004 | 0.000 | 0.005 | |
| disambiguateMultihits | 14.372 | 0.012 | 14.404 | |
| empiricalFDR | 0.004 | 0.000 | 0.001 | |
| evalBinSize | 0.252 | 0.008 | 0.258 | |
| exportGRanges | 0.000 | 0.000 | 0.002 | |
| galp2gal | 0.176 | 0.000 | 0.194 | |
| getAlignGal | 0.116 | 0.004 | 0.118 | |
| logScoreWithControl | 0.004 | 0.000 | 0.004 | |
| logScoreWithoutControl | 0.000 | 0.004 | 0.003 | |
| mainSeek | 13.480 | 0.008 | 13.496 | |
| mainSeekSingleChrom | 1.204 | 0.000 | 1.207 | |
| nbh.GRanges | 0 | 0 | 0 | |
| nbh | 1.400 | 0.008 | 1.409 | |
| nbh.integer | 0.000 | 0.000 | 0.001 | |
| nbh_chk | 0 | 0 | 0 | |
| nbh_em | 0.176 | 0.000 | 0.178 | |
| nbh_gen | 0.004 | 0.000 | 0.002 | |
| nbh_init | 1.004 | 0.000 | 1.005 | |
| nbh_vit | 0.160 | 0.000 | 0.158 | |
| nbm_chk | 0.000 | 0.000 | 0.001 | |
| nbm_em | 0.248 | 0.000 | 0.250 | |
| plotCoverage | 0.632 | 0.024 | 0.653 | |
| plotStrandedCoverage | 1.160 | 0.004 | 1.164 | |
| randindx | 0.148 | 0.004 | 0.151 | |
| ripSeek | 0.004 | 0.000 | 0.004 | |
| rulebaseRIPSeek | 0.000 | 0.000 | 0.003 | |
| scoreMergedBins | 0.004 | 0.004 | 0.007 | |
| seekRIP | 0.004 | 0.000 | 0.005 | |
| selectBinSize | 2.344 | 0.024 | 2.368 | |
| statdis | 0.144 | 0.004 | 0.147 | |
| viewRIP | 0.004 | 0.000 | 0.003 | |