| Back to Multiple platform build/check report for BioC 3.7 | 
  | 
This page was generated on 2018-10-17 08:39:19 -0400 (Wed, 17 Oct 2018).
| Package 1144/1561 | Hostname | OS / Arch | INSTALL | BUILD | CHECK | BUILD BIN | ||||||
| PSEA 1.14.0 Alexandre Kuhn 
  | malbec2 | Linux (Ubuntu 16.04.1 LTS) / x86_64 | OK | OK | OK | |||||||
| tokay2 | Windows Server 2012 R2 Standard / x64 | OK | OK | [ OK ] | OK | |||||||
| merida2 | OS X 10.11.6 El Capitan / x86_64 | OK | OK | OK | OK | 
| Package: PSEA | 
| Version: 1.14.0 | 
| Command: C:\Users\biocbuild\bbs-3.7-bioc\R\bin\R.exe CMD check --force-multiarch --install=check:PSEA.install-out.txt --library=C:\Users\biocbuild\bbs-3.7-bioc\R\library --no-vignettes --timings PSEA_1.14.0.tar.gz | 
| StartedAt: 2018-10-17 04:07:03 -0400 (Wed, 17 Oct 2018) | 
| EndedAt: 2018-10-17 04:08:01 -0400 (Wed, 17 Oct 2018) | 
| EllapsedTime: 58.7 seconds | 
| RetCode: 0 | 
| Status: OK | 
| CheckDir: PSEA.Rcheck | 
| Warnings: 0 | 
##############################################################################
##############################################################################
###
### Running command:
###
###   C:\Users\biocbuild\bbs-3.7-bioc\R\bin\R.exe CMD check --force-multiarch --install=check:PSEA.install-out.txt --library=C:\Users\biocbuild\bbs-3.7-bioc\R\library --no-vignettes --timings PSEA_1.14.0.tar.gz
###
##############################################################################
##############################################################################
* using log directory 'C:/Users/biocbuild/bbs-3.7-bioc/meat/PSEA.Rcheck'
* using R version 3.5.1 Patched (2018-07-24 r75005)
* using platform: x86_64-w64-mingw32 (64-bit)
* using session charset: ISO8859-1
* using option '--no-vignettes'
* checking for file 'PSEA/DESCRIPTION' ... OK
* this is package 'PSEA' version '1.14.0'
* checking package namespace information ... OK
* checking package dependencies ... OK
* checking if this is a source package ... OK
* checking if there is a namespace ... OK
* checking for hidden files and directories ... OK
* checking for portable file names ... OK
* checking whether package 'PSEA' can be installed ... OK
* checking installed package size ... NOTE
  installed size is  5.9Mb
  sub-directories of 1Mb or more:
    data   5.7Mb
* checking package directory ... OK
* checking 'build' directory ... OK
* checking DESCRIPTION meta-information ... NOTE
Malformed Title field: should not end in a period.
* checking top-level files ... OK
* checking for left-over files ... OK
* checking index information ... OK
* checking package subdirectories ... OK
* checking R files for non-ASCII characters ... OK
* checking R files for syntax errors ... OK
* loading checks for arch 'i386'
** checking whether the package can be loaded ... OK
** checking whether the package can be loaded with stated dependencies ... OK
** checking whether the package can be unloaded cleanly ... OK
** checking whether the namespace can be loaded with stated dependencies ... OK
** checking whether the namespace can be unloaded cleanly ... OK
* loading checks for arch 'x64'
** checking whether the package can be loaded ... OK
** checking whether the package can be loaded with stated dependencies ... OK
** checking whether the package can be unloaded cleanly ... OK
** checking whether the namespace can be loaded with stated dependencies ... OK
** checking whether the namespace can be unloaded cleanly ... OK
* checking dependencies in R code ... OK
* checking S3 generic/method consistency ... OK
* checking replacement functions ... OK
* checking foreign function calls ... OK
* checking R code for possible problems ... NOTE
crplot: no visible global function definition for 'residuals'
crplot: no visible global function definition for 'dev.new'
crplot: no visible global function definition for 'plot'
crplot: no visible global function definition for 'abline'
crplot: no visible global function definition for 'points'
lmfitst : <anonymous>: no visible global function definition for
  'lm.fit'
swlm: no visible global function definition for 'formula'
swlm: no visible global function definition for 'lm'
Undefined global functions or variables:
  abline dev.new formula lm lm.fit plot points residuals
Consider adding
  importFrom("grDevices", "dev.new")
  importFrom("graphics", "abline", "plot", "points")
  importFrom("stats", "formula", "lm", "lm.fit", "residuals")
to your NAMESPACE file.
* checking Rd files ... OK
* checking Rd metadata ... OK
* checking Rd cross-references ... OK
* checking for missing documentation entries ... OK
* checking for code/documentation mismatches ... OK
* checking Rd \usage sections ... OK
* checking Rd contents ... OK
* checking for unstated dependencies in examples ... OK
* checking contents of 'data' directory ... OK
* checking data for non-ASCII characters ... OK
* checking data for ASCII and uncompressed saves ... OK
* checking files in 'vignettes' ... OK
* checking examples ...
** running examples for arch 'i386' ... OK
** running examples for arch 'x64' ... OK
* checking for unstated dependencies in vignettes ... OK
* checking package vignettes in 'inst/doc' ... OK
* checking running R code from vignettes ... SKIPPED
* checking re-building of vignette outputs ... SKIPPED
* checking PDF version of manual ... OK
* DONE
Status: 3 NOTEs
See
  'C:/Users/biocbuild/bbs-3.7-bioc/meat/PSEA.Rcheck/00check.log'
for details.
PSEA.Rcheck/00install.out
##############################################################################
##############################################################################
###
### Running command:
###
###   C:\cygwin\bin\curl.exe -O https://malbec2.bioconductor.org/BBS/3.7/bioc/src/contrib/PSEA_1.14.0.tar.gz && rm -rf PSEA.buildbin-libdir && mkdir PSEA.buildbin-libdir && C:\Users\biocbuild\bbs-3.7-bioc\R\bin\R.exe CMD INSTALL --merge-multiarch --build --library=PSEA.buildbin-libdir PSEA_1.14.0.tar.gz && C:\Users\biocbuild\bbs-3.7-bioc\R\bin\R.exe CMD INSTALL PSEA_1.14.0.zip && rm PSEA_1.14.0.tar.gz PSEA_1.14.0.zip
###
##############################################################################
##############################################################################
  % Total    % Received % Xferd  Average Speed   Time    Time     Time  Current
                                 Dload  Upload   Total   Spent    Left  Speed
  0     0    0     0    0     0      0      0 --:--:-- --:--:-- --:--:--     0
100 5847k  100 5847k    0     0  60.0M      0 --:--:-- --:--:-- --:--:-- 62.7M
install for i386
* installing *source* package 'PSEA' ...
** R
** data
** inst
** byte-compile and prepare package for lazy loading
** help
*** installing help indices
  converting help for package 'PSEA'
    finding HTML links ... done
    coefmat                                 html  
    crplot                                  html  
    em_quantvg                              html  
    expression                              html  
    expression_GSE19380                     html  
    fmm                                     html  
    groups                                  html  
    information                             html  
    lmfitst                                 html  
    marker                                  html  
    pvalmat                                 html  
    slt                                     html  
    swlm                                    html  
** building package indices
** installing vignettes
** testing if installed package can be loaded
In R CMD INSTALL
install for x64
* installing *source* package 'PSEA' ...
** testing if installed package can be loaded
* MD5 sums
packaged installation of 'PSEA' as PSEA_1.14.0.zip
* DONE (PSEA)
In R CMD INSTALL
In R CMD INSTALL
* installing to library 'C:/Users/biocbuild/bbs-3.7-bioc/R/library'
package 'PSEA' successfully unpacked and MD5 sums checked
In R CMD INSTALL
| 
 PSEA.Rcheck/examples_i386/PSEA-Ex.timings 
  | 
 PSEA.Rcheck/examples_x64/PSEA-Ex.timings 
  |