| Back to Multiple platform build/check report for BioC 3.7 |
|
This page was generated on 2018-10-17 08:26:43 -0400 (Wed, 17 Oct 2018).
| Package 1144/1561 | Hostname | OS / Arch | INSTALL | BUILD | CHECK | BUILD BIN | ||||||
| PSEA 1.14.0 Alexandre Kuhn
| malbec2 | Linux (Ubuntu 16.04.1 LTS) / x86_64 | OK | OK | [ OK ] | |||||||
| tokay2 | Windows Server 2012 R2 Standard / x64 | OK | OK | OK | OK | |||||||
| merida2 | OS X 10.11.6 El Capitan / x86_64 | OK | OK | OK | OK |
| Package: PSEA |
| Version: 1.14.0 |
| Command: /home/biocbuild/bbs-3.7-bioc/R/bin/R CMD check --install=check:PSEA.install-out.txt --library=/home/biocbuild/bbs-3.7-bioc/R/library --no-vignettes --timings PSEA_1.14.0.tar.gz |
| StartedAt: 2018-10-16 02:52:37 -0400 (Tue, 16 Oct 2018) |
| EndedAt: 2018-10-16 02:53:03 -0400 (Tue, 16 Oct 2018) |
| EllapsedTime: 26.0 seconds |
| RetCode: 0 |
| Status: OK |
| CheckDir: PSEA.Rcheck |
| Warnings: 0 |
##############################################################################
##############################################################################
###
### Running command:
###
### /home/biocbuild/bbs-3.7-bioc/R/bin/R CMD check --install=check:PSEA.install-out.txt --library=/home/biocbuild/bbs-3.7-bioc/R/library --no-vignettes --timings PSEA_1.14.0.tar.gz
###
##############################################################################
##############################################################################
* using log directory ‘/home/biocbuild/bbs-3.7-bioc/meat/PSEA.Rcheck’
* using R version 3.5.1 Patched (2018-07-12 r74967)
* using platform: x86_64-pc-linux-gnu (64-bit)
* using session charset: UTF-8
* using option ‘--no-vignettes’
* checking for file ‘PSEA/DESCRIPTION’ ... OK
* this is package ‘PSEA’ version ‘1.14.0’
* checking package namespace information ... OK
* checking package dependencies ... OK
* checking if this is a source package ... OK
* checking if there is a namespace ... OK
* checking for hidden files and directories ... OK
* checking for portable file names ... OK
* checking for sufficient/correct file permissions ... OK
* checking whether package ‘PSEA’ can be installed ... OK
* checking installed package size ... NOTE
installed size is 5.9Mb
sub-directories of 1Mb or more:
data 5.7Mb
* checking package directory ... OK
* checking ‘build’ directory ... OK
* checking DESCRIPTION meta-information ... NOTE
Malformed Title field: should not end in a period.
* checking top-level files ... OK
* checking for left-over files ... OK
* checking index information ... OK
* checking package subdirectories ... OK
* checking R files for non-ASCII characters ... OK
* checking R files for syntax errors ... OK
* checking whether the package can be loaded ... OK
* checking whether the package can be loaded with stated dependencies ... OK
* checking whether the package can be unloaded cleanly ... OK
* checking whether the namespace can be loaded with stated dependencies ... OK
* checking whether the namespace can be unloaded cleanly ... OK
* checking dependencies in R code ... OK
* checking S3 generic/method consistency ... OK
* checking replacement functions ... OK
* checking foreign function calls ... OK
* checking R code for possible problems ... NOTE
crplot: no visible global function definition for ‘residuals’
crplot: no visible global function definition for ‘dev.new’
crplot: no visible global function definition for ‘plot’
crplot: no visible global function definition for ‘abline’
crplot: no visible global function definition for ‘points’
lmfitst : <anonymous>: no visible global function definition for
‘lm.fit’
swlm: no visible global function definition for ‘formula’
swlm: no visible global function definition for ‘lm’
Undefined global functions or variables:
abline dev.new formula lm lm.fit plot points residuals
Consider adding
importFrom("grDevices", "dev.new")
importFrom("graphics", "abline", "plot", "points")
importFrom("stats", "formula", "lm", "lm.fit", "residuals")
to your NAMESPACE file.
* checking Rd files ... OK
* checking Rd metadata ... OK
* checking Rd cross-references ... OK
* checking for missing documentation entries ... OK
* checking for code/documentation mismatches ... OK
* checking Rd \usage sections ... OK
* checking Rd contents ... OK
* checking for unstated dependencies in examples ... OK
* checking contents of ‘data’ directory ... OK
* checking data for non-ASCII characters ... OK
* checking data for ASCII and uncompressed saves ... OK
* checking files in ‘vignettes’ ... OK
* checking examples ... OK
* checking for unstated dependencies in vignettes ... OK
* checking package vignettes in ‘inst/doc’ ... OK
* checking running R code from vignettes ... SKIPPED
* checking re-building of vignette outputs ... SKIPPED
* checking PDF version of manual ... OK
* DONE
Status: 3 NOTEs
See
‘/home/biocbuild/bbs-3.7-bioc/meat/PSEA.Rcheck/00check.log’
for details.
PSEA.Rcheck/00install.out
############################################################################## ############################################################################## ### ### Running command: ### ### /home/biocbuild/bbs-3.7-bioc/R/bin/R CMD INSTALL PSEA ### ############################################################################## ############################################################################## * installing to library ‘/home/biocbuild/bbs-3.7-bioc/R/library’ * installing *source* package ‘PSEA’ ... ** R ** data ** inst ** byte-compile and prepare package for lazy loading ** help *** installing help indices ** building package indices ** installing vignettes ** testing if installed package can be loaded * DONE (PSEA)
PSEA.Rcheck/PSEA-Ex.timings
| name | user | system | elapsed | |
| coefmat | 0.116 | 0.008 | 0.121 | |
| crplot | 0.020 | 0.000 | 0.017 | |
| em_quantvg | 0.016 | 0.004 | 0.020 | |
| fmm | 0.016 | 0.000 | 0.018 | |
| lmfitst | 0.036 | 0.000 | 0.036 | |
| marker | 0.008 | 0.000 | 0.007 | |
| pvalmat | 0.056 | 0.008 | 0.064 | |
| slt | 0.000 | 0.004 | 0.005 | |
| swlm | 0.056 | 0.004 | 0.056 | |