| Back to Multiple platform build/check report for BioC 3.7 |
|
This page was generated on 2018-10-17 08:44:21 -0400 (Wed, 17 Oct 2018).
| Package 1023/1561 | Hostname | OS / Arch | INSTALL | BUILD | CHECK | BUILD BIN | ||||||
| Onassis 1.2.7 Eugenia Galeota
| malbec2 | Linux (Ubuntu 16.04.1 LTS) / x86_64 | OK | OK | OK | |||||||
| tokay2 | Windows Server 2012 R2 Standard / x64 | OK | OK | [ OK ] | OK | |||||||
| merida2 | OS X 10.11.6 El Capitan / x86_64 | OK | OK | OK | OK |
| Package: Onassis |
| Version: 1.2.7 |
| Command: C:\Users\biocbuild\bbs-3.7-bioc\R\bin\R.exe CMD check --force-multiarch --install=check:Onassis.install-out.txt --library=C:\Users\biocbuild\bbs-3.7-bioc\R\library --no-vignettes --timings Onassis_1.2.7.tar.gz |
| StartedAt: 2018-10-17 03:44:23 -0400 (Wed, 17 Oct 2018) |
| EndedAt: 2018-10-17 03:50:15 -0400 (Wed, 17 Oct 2018) |
| EllapsedTime: 351.6 seconds |
| RetCode: 0 |
| Status: OK |
| CheckDir: Onassis.Rcheck |
| Warnings: 0 |
##############################################################################
##############################################################################
###
### Running command:
###
### C:\Users\biocbuild\bbs-3.7-bioc\R\bin\R.exe CMD check --force-multiarch --install=check:Onassis.install-out.txt --library=C:\Users\biocbuild\bbs-3.7-bioc\R\library --no-vignettes --timings Onassis_1.2.7.tar.gz
###
##############################################################################
##############################################################################
* using log directory 'C:/Users/biocbuild/bbs-3.7-bioc/meat/Onassis.Rcheck'
* using R version 3.5.1 Patched (2018-07-24 r75005)
* using platform: x86_64-w64-mingw32 (64-bit)
* using session charset: ISO8859-1
* using option '--no-vignettes'
* checking for file 'Onassis/DESCRIPTION' ... OK
* this is package 'Onassis' version '1.2.7'
* package encoding: UTF-8
* checking package namespace information ... OK
* checking package dependencies ... OK
* checking if this is a source package ... OK
* checking if there is a namespace ... OK
* checking for hidden files and directories ... OK
* checking for portable file names ... OK
* checking whether package 'Onassis' can be installed ... OK
* checking installed package size ... OK
* checking package directory ... OK
* checking 'build' directory ... OK
* checking DESCRIPTION meta-information ... OK
* checking top-level files ... OK
* checking for left-over files ... OK
* checking index information ... OK
* checking package subdirectories ... OK
* checking R files for non-ASCII characters ... OK
* checking R files for syntax errors ... OK
* loading checks for arch 'i386'
** checking whether the package can be loaded ... OK
** checking whether the package can be loaded with stated dependencies ... OK
** checking whether the package can be unloaded cleanly ... OK
** checking whether the namespace can be loaded with stated dependencies ... OK
** checking whether the namespace can be unloaded cleanly ... OK
* loading checks for arch 'x64'
** checking whether the package can be loaded ... OK
** checking whether the package can be loaded with stated dependencies ... OK
** checking whether the package can be unloaded cleanly ... OK
** checking whether the namespace can be loaded with stated dependencies ... OK
** checking whether the namespace can be unloaded cleanly ... OK
* checking dependencies in R code ... NOTE
':::' call which should be '::': 'tools:::file_path_as_absolute'
See the note in ?`:::` about the use of this operator.
* checking S3 generic/method consistency ... OK
* checking replacement functions ... OK
* checking foreign function calls ... OK
* checking R code for possible problems ... NOTE
annotate,data.frame-character-character: no visible binding for global
variable 'sample_id'
annotateDF,EntityFinder-data.frame-character-CMoptions: no visible
binding for global variable 'ID'
annotateDF,EntityFinder-data.frame-character-CMoptions: no visible
binding for global variable 'NEW'
Undefined global functions or variables:
ID NEW sample_id
* checking Rd files ... OK
* checking Rd metadata ... OK
* checking Rd cross-references ... OK
* checking for missing documentation entries ... OK
* checking for code/documentation mismatches ... OK
* checking Rd \usage sections ... OK
* checking Rd contents ... OK
* checking for unstated dependencies in examples ... OK
* checking files in 'vignettes' ... OK
* checking examples ...
** running examples for arch 'i386' ... OK
Examples with CPU or elapsed time > 5s
user system elapsed
semanticdifference 30.94 1.10 32.13
EntityFinder 5.58 1.16 10.38
collapse 3.07 0.60 6.35
sim 3.20 0.45 6.36
annotate 2.45 0.53 5.67
mergeonassis 2.09 0.30 7.38
compare 1.92 0.45 7.67
multisim 1.83 0.45 7.38
** running examples for arch 'x64' ... OK
Examples with CPU or elapsed time > 5s
user system elapsed
semanticdifference 33.78 1.37 35.16
EntityFinder 18.44 1.22 9.16
collapse 8.22 0.84 6.21
annotate 6.15 0.51 5.13
sim 4.34 0.47 6.42
compare 4.11 0.63 7.39
mergeonassis 2.74 0.54 6.92
multisim 2.57 0.45 7.10
* checking for unstated dependencies in vignettes ... OK
* checking package vignettes in 'inst/doc' ... OK
* checking running R code from vignettes ... SKIPPED
* checking re-building of vignette outputs ... SKIPPED
* checking PDF version of manual ... OK
* DONE
Status: 2 NOTEs
See
'C:/Users/biocbuild/bbs-3.7-bioc/meat/Onassis.Rcheck/00check.log'
for details.
Onassis.Rcheck/00install.out
##############################################################################
##############################################################################
###
### Running command:
###
### C:\cygwin\bin\curl.exe -O https://malbec2.bioconductor.org/BBS/3.7/bioc/src/contrib/Onassis_1.2.7.tar.gz && rm -rf Onassis.buildbin-libdir && mkdir Onassis.buildbin-libdir && C:\Users\biocbuild\bbs-3.7-bioc\R\bin\R.exe CMD INSTALL --merge-multiarch --build --library=Onassis.buildbin-libdir Onassis_1.2.7.tar.gz && C:\Users\biocbuild\bbs-3.7-bioc\R\bin\R.exe CMD INSTALL Onassis_1.2.7.zip && rm Onassis_1.2.7.tar.gz Onassis_1.2.7.zip
###
##############################################################################
##############################################################################
% Total % Received % Xferd Average Speed Time Time Time Current
Dload Upload Total Spent Left Speed
0 0 0 0 0 0 0 0 --:--:-- --:--:-- --:--:-- 0
100 1050k 100 1050k 0 0 15.5M 0 --:--:-- --:--:-- --:--:-- 17.3M
install for i386
* installing *source* package 'Onassis' ...
** R
** inst
** byte-compile and prepare package for lazy loading
** help
*** installing help indices
converting help for package 'Onassis'
finding HTML links ... done
CMdictionary-class html
CMdictionary html
CMoptions-class html
CMoptions html
CaseMatch html
EntityFinder-class html
EntityFinder html
FindAllMatches html
GEOHandler-functions html
Onassis-class html
Onassis html
OrderIndependentLookup html
SearchStrategy html
Similarity-class html
Similarity html
Stemmer html
StopWords html
SynonymType html
annotate html
annotateDF html
annotateTissueDisease html
collapse html
compare html
createScoreMatrix html
dictInfo html
dictRef html
dictTypes html
dict_location html
dictionary html
entities html
experiment_types html
filterTerms html
filterconcepts html
findEntities html
findHealthy html
getGEOMetadata html
groupConfig html
groupsim html
groupwiseConfigRef html
icConfig html
listCMOptions html
listSimilarities html
mergeonassis html
multisim html
ontology html
organism_types html
pairsim html
pairwiseConfig html
pairwiseConfigRef html
paramValueIndex html
samplesim html
scores html
semanticdifference html
sim html
simil html
similarityInstance html
typeSystemRef html
** building package indices
** installing vignettes
** testing if installed package can be loaded
In R CMD INSTALL
install for x64
* installing *source* package 'Onassis' ...
** testing if installed package can be loaded
* MD5 sums
packaged installation of 'Onassis' as Onassis_1.2.7.zip
* DONE (Onassis)
In R CMD INSTALL
In R CMD INSTALL
* installing to library 'C:/Users/biocbuild/bbs-3.7-bioc/R/library'
package 'Onassis' successfully unpacked and MD5 sums checked
In R CMD INSTALL
|
Onassis.Rcheck/examples_i386/Onassis-Ex.timings
|
Onassis.Rcheck/examples_x64/Onassis-Ex.timings
|