| Back to Multiple platform build/check report for BioC 3.7 |
|
This page was generated on 2018-10-17 08:44:22 -0400 (Wed, 17 Oct 2018).
| Package 1023/1561 | Hostname | OS / Arch | INSTALL | BUILD | CHECK | BUILD BIN | ||||||
| Onassis 1.2.7 Eugenia Galeota
| malbec2 | Linux (Ubuntu 16.04.1 LTS) / x86_64 | OK | OK | OK | |||||||
| tokay2 | Windows Server 2012 R2 Standard / x64 | OK | OK | OK | [ OK ] | |||||||
| merida2 | OS X 10.11.6 El Capitan / x86_64 | OK | OK | OK | OK |
| Package: Onassis |
| Version: 1.2.7 |
| Command: rm -rf Onassis.buildbin-libdir && mkdir Onassis.buildbin-libdir && C:\Users\biocbuild\bbs-3.7-bioc\R\bin\R.exe CMD INSTALL --merge-multiarch --build --library=Onassis.buildbin-libdir Onassis_1.2.7.tar.gz |
| StartedAt: 2018-10-17 06:45:12 -0400 (Wed, 17 Oct 2018) |
| EndedAt: 2018-10-17 06:45:39 -0400 (Wed, 17 Oct 2018) |
| EllapsedTime: 27.1 seconds |
| RetCode: 0 |
| Status: OK |
| PackageFile: Onassis_1.2.7.zip |
| PackageFileSize: 1.749 MiB |
##############################################################################
##############################################################################
###
### Running command:
###
### rm -rf Onassis.buildbin-libdir && mkdir Onassis.buildbin-libdir && C:\Users\biocbuild\bbs-3.7-bioc\R\bin\R.exe CMD INSTALL --merge-multiarch --build --library=Onassis.buildbin-libdir Onassis_1.2.7.tar.gz
###
##############################################################################
##############################################################################
install for i386
* installing *source* package 'Onassis' ...
** R
** inst
** byte-compile and prepare package for lazy loading
** help
*** installing help indices
converting help for package 'Onassis'
finding HTML links ... done
CMdictionary-class html
CMdictionary html
CMoptions-class html
CMoptions html
CaseMatch html
EntityFinder-class html
EntityFinder html
FindAllMatches html
GEOHandler-functions html
Onassis-class html
Onassis html
OrderIndependentLookup html
SearchStrategy html
Similarity-class html
Similarity html
Stemmer html
StopWords html
SynonymType html
annotate html
annotateDF html
annotateTissueDisease html
collapse html
compare html
createScoreMatrix html
dictInfo html
dictRef html
dictTypes html
dict_location html
dictionary html
entities html
experiment_types html
filterTerms html
filterconcepts html
findEntities html
findHealthy html
getGEOMetadata html
groupConfig html
groupsim html
groupwiseConfigRef html
icConfig html
listCMOptions html
listSimilarities html
mergeonassis html
multisim html
ontology html
organism_types html
pairsim html
pairwiseConfig html
pairwiseConfigRef html
paramValueIndex html
samplesim html
scores html
semanticdifference html
sim html
simil html
similarityInstance html
typeSystemRef html
** building package indices
** installing vignettes
** testing if installed package can be loaded
In R CMD INSTALL
install for x64
* installing *source* package 'Onassis' ...
** testing if installed package can be loaded
* MD5 sums
packaged installation of 'Onassis' as Onassis_1.2.7.zip
* DONE (Onassis)
In R CMD INSTALL
In R CMD INSTALL