| Back to Multiple platform build/check report for BioC 3.7 |
|
This page was generated on 2018-10-17 08:39:07 -0400 (Wed, 17 Oct 2018).
| Package 890/1561 | Hostname | OS / Arch | INSTALL | BUILD | CHECK | BUILD BIN | ||||||
| MethylMix 2.10.2 Olivier Gevaert
| malbec2 | Linux (Ubuntu 16.04.1 LTS) / x86_64 | OK | OK | OK | |||||||
| tokay2 | Windows Server 2012 R2 Standard / x64 | [ OK ] | OK | OK | OK | |||||||
| merida2 | OS X 10.11.6 El Capitan / x86_64 | OK | OK | OK | OK |
| Package: MethylMix |
| Version: 2.10.2 |
| Command: C:\cygwin\bin\curl.exe -O https://malbec2.bioconductor.org/BBS/3.7/bioc/src/contrib/MethylMix_2.10.2.tar.gz && rm -rf MethylMix.buildbin-libdir && mkdir MethylMix.buildbin-libdir && C:\Users\biocbuild\bbs-3.7-bioc\R\bin\R.exe CMD INSTALL --merge-multiarch --build --library=MethylMix.buildbin-libdir MethylMix_2.10.2.tar.gz && C:\Users\biocbuild\bbs-3.7-bioc\R\bin\R.exe CMD INSTALL MethylMix_2.10.2.zip && rm MethylMix_2.10.2.tar.gz MethylMix_2.10.2.zip |
| StartedAt: 2018-10-16 19:02:07 -0400 (Tue, 16 Oct 2018) |
| EndedAt: 2018-10-16 19:03:14 -0400 (Tue, 16 Oct 2018) |
| EllapsedTime: 67.6 seconds |
| RetCode: 0 |
| Status: OK |
##############################################################################
##############################################################################
###
### Running command:
###
### C:\cygwin\bin\curl.exe -O https://malbec2.bioconductor.org/BBS/3.7/bioc/src/contrib/MethylMix_2.10.2.tar.gz && rm -rf MethylMix.buildbin-libdir && mkdir MethylMix.buildbin-libdir && C:\Users\biocbuild\bbs-3.7-bioc\R\bin\R.exe CMD INSTALL --merge-multiarch --build --library=MethylMix.buildbin-libdir MethylMix_2.10.2.tar.gz && C:\Users\biocbuild\bbs-3.7-bioc\R\bin\R.exe CMD INSTALL MethylMix_2.10.2.zip && rm MethylMix_2.10.2.tar.gz MethylMix_2.10.2.zip
###
##############################################################################
##############################################################################
% Total % Received % Xferd Average Speed Time Time Time Current
Dload Upload Total Spent Left Speed
0 0 0 0 0 0 0 0 --:--:-- --:--:-- --:--:-- 0
0 0 0 0 0 0 0 0 --:--:-- --:--:-- --:--:-- 0
100 2587k 100 2587k 0 0 23.1M 0 --:--:-- --:--:-- --:--:-- 24.5M
install for i386
* installing *source* package 'MethylMix' ...
** R
** data
*** moving datasets to lazyload DB
** byte-compile and prepare package for lazy loading
** help
*** installing help indices
converting help for package 'MethylMix'
finding HTML links ... done
BatchData html
ClusterProbes html
ComBat_NoFiles html
Download_DNAmethylation html
Download_GeneExpression html
GEcancer html
GetData html
METcancer html
METnormal html
MethylMix html
MethylMix_MixtureModel html
MethylMix_ModelGeneExpression html
MethylMix_ModelSingleGene html
MethylMix_PlotModel html
MethylMix_Predict html
MethylMix_RemoveFlipOver html
Preprocess_CancerSite_Methylation27k html
Preprocess_CancerSite_Methylation450k html
Preprocess_DNAmethylation html
Preprocess_GeneExpression html
Preprocess_MAdata_Cancer html
Preprocess_MAdata_Normal html
ProbeAnnotation html
SNPprobes html
TCGA_BatchCorrection_MolecularData html
TCGA_GENERIC_BatchCorrection html
TCGA_GENERIC_CheckBatchEffect html
TCGA_GENERIC_CleanUpSampleNames html
TCGA_GENERIC_GetSampleGroups html
TCGA_GENERIC_LoadIlluminaMethylationData
html
TCGA_GENERIC_MET_ClusterProbes_Helper_ClusterGenes_with_hclust
html
TCGA_GENERIC_MergeData html
TCGA_Load_MolecularData html
TCGA_Process_EstimateMissingValues html
betaEst_2 html
blc_2 html
combineForEachOutput html
get_firehoseData html
predictOneGene html
** building package indices
** installing vignettes
** testing if installed package can be loaded
In R CMD INSTALL
install for x64
* installing *source* package 'MethylMix' ...
** testing if installed package can be loaded
* MD5 sums
packaged installation of 'MethylMix' as MethylMix_2.10.2.zip
* DONE (MethylMix)
In R CMD INSTALL
In R CMD INSTALL
* installing to library 'C:/Users/biocbuild/bbs-3.7-bioc/R/library'
package 'MethylMix' successfully unpacked and MD5 sums checked
In R CMD INSTALL