| Back to Multiple platform build/check report for BioC 3.7 |
|
This page was generated on 2018-10-17 08:53:27 -0400 (Wed, 17 Oct 2018).
| Package 890/1561 | Hostname | OS / Arch | INSTALL | BUILD | CHECK | BUILD BIN | ||||||
| MethylMix 2.10.2 Olivier Gevaert
| malbec2 | Linux (Ubuntu 16.04.1 LTS) / x86_64 | OK | OK | OK | |||||||
| tokay2 | Windows Server 2012 R2 Standard / x64 | OK | OK | OK | OK | |||||||
| merida2 | OS X 10.11.6 El Capitan / x86_64 | OK | OK | OK | [ OK ] |
| Package: MethylMix |
| Version: 2.10.2 |
| Command: rm -rf MethylMix.buildbin-libdir && mkdir MethylMix.buildbin-libdir && /Users/biocbuild/BBS/utils/build-universal.sh MethylMix_2.10.2.tar.gz /Library/Frameworks/R.framework/Versions/Current/Resources/bin/R MethylMix.buildbin-libdir |
| StartedAt: 2018-10-17 01:41:03 -0400 (Wed, 17 Oct 2018) |
| EndedAt: 2018-10-17 01:41:49 -0400 (Wed, 17 Oct 2018) |
| EllapsedTime: 45.5 seconds |
| RetCode: 0 |
| Status: OK |
| PackageFile: MethylMix_2.10.2.tgz |
| PackageFileSize: 3.025 MiB |
############################################################################## ############################################################################## ### ### Running command: ### ### rm -rf MethylMix.buildbin-libdir && mkdir MethylMix.buildbin-libdir && /Users/biocbuild/BBS/utils/build-universal.sh MethylMix_2.10.2.tar.gz /Library/Frameworks/R.framework/Versions/Current/Resources/bin/R MethylMix.buildbin-libdir ### ############################################################################## ############################################################################## >>>>>>> >>>>>>> INSTALLATION WITH 'R CMD INSTALL --preclean --no-multiarch --library=MethylMix.buildbin-libdir MethylMix_2.10.2.tar.gz' >>>>>>> * installing *source* package ‘MethylMix’ ... ** R ** data *** moving datasets to lazyload DB ** inst ** byte-compile and prepare package for lazy loading ** help *** installing help indices ** building package indices ** installing vignettes ** testing if installed package can be loaded * DONE (MethylMix)