| Back to Multiple platform build/check report for BioC 3.7 |
|
This page was generated on 2018-10-17 08:42:49 -0400 (Wed, 17 Oct 2018).
| Package 868/1561 | Hostname | OS / Arch | INSTALL | BUILD | CHECK | BUILD BIN | ||||||
| MetaboSignal 1.10.0 Andrea Rodriguez-Martinez
| malbec2 | Linux (Ubuntu 16.04.1 LTS) / x86_64 | OK | OK | OK | |||||||
| tokay2 | Windows Server 2012 R2 Standard / x64 | [ OK ] | OK | OK | OK | |||||||
| merida2 | OS X 10.11.6 El Capitan / x86_64 | OK | OK | OK | OK |
| Package: MetaboSignal |
| Version: 1.10.0 |
| Command: C:\cygwin\bin\curl.exe -O https://malbec2.bioconductor.org/BBS/3.7/bioc/src/contrib/MetaboSignal_1.10.0.tar.gz && rm -rf MetaboSignal.buildbin-libdir && mkdir MetaboSignal.buildbin-libdir && C:\Users\biocbuild\bbs-3.7-bioc\R\bin\R.exe CMD INSTALL --merge-multiarch --build --library=MetaboSignal.buildbin-libdir MetaboSignal_1.10.0.tar.gz && C:\Users\biocbuild\bbs-3.7-bioc\R\bin\R.exe CMD INSTALL MetaboSignal_1.10.0.zip && rm MetaboSignal_1.10.0.tar.gz MetaboSignal_1.10.0.zip |
| StartedAt: 2018-10-16 20:28:42 -0400 (Tue, 16 Oct 2018) |
| EndedAt: 2018-10-16 20:30:46 -0400 (Tue, 16 Oct 2018) |
| EllapsedTime: 124.5 seconds |
| RetCode: 0 |
| Status: OK |
##############################################################################
##############################################################################
###
### Running command:
###
### C:\cygwin\bin\curl.exe -O https://malbec2.bioconductor.org/BBS/3.7/bioc/src/contrib/MetaboSignal_1.10.0.tar.gz && rm -rf MetaboSignal.buildbin-libdir && mkdir MetaboSignal.buildbin-libdir && C:\Users\biocbuild\bbs-3.7-bioc\R\bin\R.exe CMD INSTALL --merge-multiarch --build --library=MetaboSignal.buildbin-libdir MetaboSignal_1.10.0.tar.gz && C:\Users\biocbuild\bbs-3.7-bioc\R\bin\R.exe CMD INSTALL MetaboSignal_1.10.0.zip && rm MetaboSignal_1.10.0.tar.gz MetaboSignal_1.10.0.zip
###
##############################################################################
##############################################################################
% Total % Received % Xferd Average Speed Time Time Time Current
Dload Upload Total Spent Left Speed
0 0 0 0 0 0 0 0 --:--:-- --:--:-- --:--:-- 0
23 2628k 23 624k 0 0 9.8M 0 --:--:-- --:--:-- --:--:-- 10.8M
100 2628k 100 2628k 0 0 27.8M 0 --:--:-- --:--:-- --:--:-- 29.8M
install for i386
* installing *source* package 'MetaboSignal' ...
** R
** data
*** moving datasets to lazyload DB
** inst
** byte-compile and prepare package for lazy loading
** help
*** installing help indices
converting help for package 'MetaboSignal'
finding HTML links ... done
MS2_mergeNetworks html
MS2_ppiNetwork html
MS_changeNames html
MS_convertGene html
MS_distances html
MS_exportCytoscape html
MS_findMappedNodes html
MS_getPathIds html
MS_keggFinder html
MS_keggNetwork html
MS_nodeBW html
MS_removeDrugs html
MS_removeNode html
MS_replaceNode html
MS_shortestPaths html
MS_shortestPathsNetwork html
MS_tissueFilter html
MS_topologyFilter html
MetaboSignal_table html
directionality_reactions html
hpaNormalTissue html
keggNet_example html
kegg_pathways html
mergedNet_example html
ppiNet_example html
regulatory_interactions html
** building package indices
** installing vignettes
'MetaboSignal.Rmd' using 'UTF-8'
'MetaboSignal2.Rmd' using 'UTF-8'
** testing if installed package can be loaded
In R CMD INSTALL
install for x64
* installing *source* package 'MetaboSignal' ...
** testing if installed package can be loaded
* MD5 sums
packaged installation of 'MetaboSignal' as MetaboSignal_1.10.0.zip
* DONE (MetaboSignal)
In R CMD INSTALL
In R CMD INSTALL
* installing to library 'C:/Users/biocbuild/bbs-3.7-bioc/R/library'
package 'MetaboSignal' successfully unpacked and MD5 sums checked
In R CMD INSTALL