| Back to Multiple platform build/check report for BioC 3.7 |
|
This page was generated on 2018-10-17 08:29:22 -0400 (Wed, 17 Oct 2018).
| Package 868/1561 | Hostname | OS / Arch | INSTALL | BUILD | CHECK | BUILD BIN | ||||||
| MetaboSignal 1.10.0 Andrea Rodriguez-Martinez
| malbec2 | Linux (Ubuntu 16.04.1 LTS) / x86_64 | OK | OK | [ OK ] | |||||||
| tokay2 | Windows Server 2012 R2 Standard / x64 | OK | OK | OK | OK | |||||||
| merida2 | OS X 10.11.6 El Capitan / x86_64 | OK | OK | OK | OK |
| Package: MetaboSignal |
| Version: 1.10.0 |
| Command: /home/biocbuild/bbs-3.7-bioc/R/bin/R CMD check --install=check:MetaboSignal.install-out.txt --library=/home/biocbuild/bbs-3.7-bioc/R/library --no-vignettes --timings MetaboSignal_1.10.0.tar.gz |
| StartedAt: 2018-10-16 01:48:43 -0400 (Tue, 16 Oct 2018) |
| EndedAt: 2018-10-16 01:52:35 -0400 (Tue, 16 Oct 2018) |
| EllapsedTime: 232.0 seconds |
| RetCode: 0 |
| Status: OK |
| CheckDir: MetaboSignal.Rcheck |
| Warnings: 0 |
##############################################################################
##############################################################################
###
### Running command:
###
### /home/biocbuild/bbs-3.7-bioc/R/bin/R CMD check --install=check:MetaboSignal.install-out.txt --library=/home/biocbuild/bbs-3.7-bioc/R/library --no-vignettes --timings MetaboSignal_1.10.0.tar.gz
###
##############################################################################
##############################################################################
* using log directory ‘/home/biocbuild/bbs-3.7-bioc/meat/MetaboSignal.Rcheck’
* using R version 3.5.1 Patched (2018-07-12 r74967)
* using platform: x86_64-pc-linux-gnu (64-bit)
* using session charset: UTF-8
* using option ‘--no-vignettes’
* checking for file ‘MetaboSignal/DESCRIPTION’ ... OK
* checking extension type ... Package
* this is package ‘MetaboSignal’ version ‘1.10.0’
* package encoding: UTF-8
* checking package namespace information ... OK
* checking package dependencies ... OK
* checking if this is a source package ... OK
* checking if there is a namespace ... OK
* checking for hidden files and directories ... OK
* checking for portable file names ... OK
* checking for sufficient/correct file permissions ... OK
* checking whether package ‘MetaboSignal’ can be installed ... OK
* checking installed package size ... OK
* checking package directory ... OK
* checking ‘build’ directory ... OK
* checking DESCRIPTION meta-information ... OK
* checking top-level files ... OK
* checking for left-over files ... OK
* checking index information ... OK
* checking package subdirectories ... OK
* checking R files for non-ASCII characters ... OK
* checking R files for syntax errors ... OK
* checking whether the package can be loaded ... OK
* checking whether the package can be loaded with stated dependencies ... OK
* checking whether the package can be unloaded cleanly ... OK
* checking whether the namespace can be loaded with stated dependencies ... OK
* checking whether the namespace can be unloaded cleanly ... OK
* checking dependencies in R code ... OK
* checking S3 generic/method consistency ... OK
* checking replacement functions ... OK
* checking foreign function calls ... OK
* checking R code for possible problems ... NOTE
MS_tissueFilter: no visible binding for global variable
'hpaNormalTissue'
get_molecule_type: no visible binding for global variable
'regulatory_interactions'
Undefined global functions or variables:
hpaNormalTissue regulatory_interactions
* checking Rd files ... OK
* checking Rd metadata ... OK
* checking Rd cross-references ... OK
* checking for missing documentation entries ... OK
* checking for code/documentation mismatches ... OK
* checking Rd \usage sections ... OK
* checking Rd contents ... OK
* checking for unstated dependencies in examples ... OK
* checking contents of ‘data’ directory ... OK
* checking data for non-ASCII characters ... OK
* checking data for ASCII and uncompressed saves ... OK
* checking installed files from ‘inst/doc’ ... OK
* checking files in ‘vignettes’ ... OK
* checking examples ... OK
Examples with CPU or elapsed time > 5s
user system elapsed
MS_keggFinder 0.308 0.008 6.811
* checking for unstated dependencies in ‘tests’ ... OK
* checking tests ...
Running ‘runTests.R’
OK
* checking for unstated dependencies in vignettes ... OK
* checking package vignettes in ‘inst/doc’ ... OK
* checking running R code from vignettes ... SKIPPED
* checking re-building of vignette outputs ... SKIPPED
* checking PDF version of manual ... OK
* DONE
Status: 1 NOTE
See
‘/home/biocbuild/bbs-3.7-bioc/meat/MetaboSignal.Rcheck/00check.log’
for details.
MetaboSignal.Rcheck/00install.out
############################################################################## ############################################################################## ### ### Running command: ### ### /home/biocbuild/bbs-3.7-bioc/R/bin/R CMD INSTALL MetaboSignal ### ############################################################################## ############################################################################## * installing to library ‘/home/biocbuild/bbs-3.7-bioc/R/library’ * installing *source* package ‘MetaboSignal’ ... ** R ** data *** moving datasets to lazyload DB ** inst ** byte-compile and prepare package for lazy loading ** help *** installing help indices ** building package indices ** installing vignettes 'MetaboSignal.Rmd' using 'UTF-8' 'MetaboSignal2.Rmd' using 'UTF-8' ** testing if installed package can be loaded * DONE (MetaboSignal)
MetaboSignal.Rcheck/tests/runTests.Rout
R version 3.5.1 Patched (2018-07-12 r74967) -- "Feather Spray"
Copyright (C) 2018 The R Foundation for Statistical Computing
Platform: x86_64-pc-linux-gnu (64-bit)
R is free software and comes with ABSOLUTELY NO WARRANTY.
You are welcome to redistribute it under certain conditions.
Type 'license()' or 'licence()' for distribution details.
R is a collaborative project with many contributors.
Type 'contributors()' for more information and
'citation()' on how to cite R or R packages in publications.
Type 'demo()' for some demos, 'help()' for on-line help, or
'help.start()' for an HTML browser interface to help.
Type 'q()' to quit R.
> BiocGenerics:::testPackage("MetaboSignal")
Note: some source_nodes or target_nodes were not mapped onto the network
Calculating distances
Building shortest path network
Note that all source_nodes and target_nodes were successfully mapped onto the network
Calculating distances
Building shortest path network
Note that all source_nodes and target_nodes were successfully mapped onto the network
Calculating distances
Building shortest path network
Note that all source_nodes and target_nodes were successfully mapped onto the network
Network features:
Number of nodes:59
Number of edges:100
Network features:
Number of nodes:59
Number of edges:100
RUNIT TEST PROTOCOL -- Tue Oct 16 01:52:32 2018
***********************************************
Number of test functions: 9
Number of errors: 0
Number of failures: 0
1 Test Suite :
MetaboSignal RUnit Tests - 9 test functions, 0 errors, 0 failures
Number of test functions: 9
Number of errors: 0
Number of failures: 0
>
> proc.time()
user system elapsed
12.040 0.332 13.006
MetaboSignal.Rcheck/MetaboSignal-Ex.timings
| name | user | system | elapsed | |
| MS2_mergeNetworks | 0.052 | 0.000 | 0.049 | |
| MS2_ppiNetwork | 0.944 | 0.012 | 0.956 | |
| MS_changeNames | 0 | 0 | 0 | |
| MS_convertGene | 0.304 | 0.000 | 0.969 | |
| MS_distances | 0.16 | 0.00 | 0.16 | |
| MS_exportCytoscape | 0.000 | 0.000 | 0.001 | |
| MS_findMappedNodes | 0.004 | 0.000 | 0.004 | |
| MS_getPathIds | 0 | 0 | 0 | |
| MS_keggFinder | 0.308 | 0.008 | 6.811 | |
| MS_keggNetwork | 0 | 0 | 0 | |
| MS_nodeBW | 0.024 | 0.004 | 0.028 | |
| MS_removeDrugs | 0.004 | 0.000 | 0.003 | |
| MS_removeNode | 0.008 | 0.000 | 0.006 | |
| MS_replaceNode | 0.004 | 0.000 | 0.005 | |
| MS_shortestPaths | 0.012 | 0.000 | 0.015 | |
| MS_shortestPathsNetwork | 0 | 0 | 0 | |
| MS_tissueFilter | 0.000 | 0.000 | 0.001 | |
| MS_topologyFilter | 0.168 | 0.004 | 0.173 | |