| Back to Multiple platform build/check report for BioC 3.7 |
|
This page was generated on 2018-10-17 08:34:05 -0400 (Wed, 17 Oct 2018).
| Package 848/1561 | Hostname | OS / Arch | INSTALL | BUILD | CHECK | BUILD BIN | ||||||
| MCRestimate 2.36.0 Marc Johannes
| malbec2 | Linux (Ubuntu 16.04.1 LTS) / x86_64 | OK | OK | OK | |||||||
| tokay2 | Windows Server 2012 R2 Standard / x64 | [ OK ] | OK | OK | OK | |||||||
| merida2 | OS X 10.11.6 El Capitan / x86_64 | OK | OK | OK | OK |
| Package: MCRestimate |
| Version: 2.36.0 |
| Command: C:\cygwin\bin\curl.exe -O https://malbec2.bioconductor.org/BBS/3.7/bioc/src/contrib/MCRestimate_2.36.0.tar.gz && rm -rf MCRestimate.buildbin-libdir && mkdir MCRestimate.buildbin-libdir && C:\Users\biocbuild\bbs-3.7-bioc\R\bin\R.exe CMD INSTALL --merge-multiarch --build --library=MCRestimate.buildbin-libdir MCRestimate_2.36.0.tar.gz && C:\Users\biocbuild\bbs-3.7-bioc\R\bin\R.exe CMD INSTALL MCRestimate_2.36.0.zip && rm MCRestimate_2.36.0.tar.gz MCRestimate_2.36.0.zip |
| StartedAt: 2018-10-16 19:09:41 -0400 (Tue, 16 Oct 2018) |
| EndedAt: 2018-10-16 19:10:22 -0400 (Tue, 16 Oct 2018) |
| EllapsedTime: 41.6 seconds |
| RetCode: 0 |
| Status: OK |
##############################################################################
##############################################################################
###
### Running command:
###
### C:\cygwin\bin\curl.exe -O https://malbec2.bioconductor.org/BBS/3.7/bioc/src/contrib/MCRestimate_2.36.0.tar.gz && rm -rf MCRestimate.buildbin-libdir && mkdir MCRestimate.buildbin-libdir && C:\Users\biocbuild\bbs-3.7-bioc\R\bin\R.exe CMD INSTALL --merge-multiarch --build --library=MCRestimate.buildbin-libdir MCRestimate_2.36.0.tar.gz && C:\Users\biocbuild\bbs-3.7-bioc\R\bin\R.exe CMD INSTALL MCRestimate_2.36.0.zip && rm MCRestimate_2.36.0.tar.gz MCRestimate_2.36.0.zip
###
##############################################################################
##############################################################################
% Total % Received % Xferd Average Speed Time Time Time Current
Dload Upload Total Spent Left Speed
0 0 0 0 0 0 0 0 --:--:-- --:--:-- --:--:-- 0
100 34246 100 34246 0 0 523k 0 --:--:-- --:--:-- --:--:-- 586k
install for i386
* installing *source* package 'MCRestimate' ...
** R
** inst
** byte-compile and prepare package for lazy loading
** help
*** installing help indices
converting help for package 'MCRestimate'
finding HTML links ... done
ClassifierBuild html
MCRconfusion html
MCRestimate html
MCRestimateMerge html
PLR html
SVM.OVA.wrap html
class.factor.format html
geneReduction html
important.variable.names html
indVotes html
intersectList html
plot.MCRestimate html
replace.NA html
select.NA.elements html
wrapper.fkt html
** building package indices
** installing vignettes
** testing if installed package can be loaded
In R CMD INSTALL
install for x64
* installing *source* package 'MCRestimate' ...
** testing if installed package can be loaded
* MD5 sums
packaged installation of 'MCRestimate' as MCRestimate_2.36.0.zip
* DONE (MCRestimate)
In R CMD INSTALL
In R CMD INSTALL
* installing to library 'C:/Users/biocbuild/bbs-3.7-bioc/R/library'
package 'MCRestimate' successfully unpacked and MD5 sums checked
In R CMD INSTALL