| Back to Multiple platform build/check report for BioC 3.7 | 
 | 
This page was generated on 2018-10-17 08:22:36 -0400 (Wed, 17 Oct 2018).
| Package 848/1561 | Hostname | OS / Arch | INSTALL | BUILD | CHECK | BUILD BIN | ||||||
| MCRestimate 2.36.0 Marc Johannes 
 | malbec2 | Linux (Ubuntu 16.04.1 LTS) / x86_64 | OK | OK | [ OK ] |  | ||||||
| tokay2 | Windows Server 2012 R2 Standard / x64 | OK | OK | OK | OK |  | ||||||
| merida2 | OS X 10.11.6 El Capitan / x86_64 | OK | OK | OK | OK |  | 
| Package: MCRestimate | 
| Version: 2.36.0 | 
| Command: /home/biocbuild/bbs-3.7-bioc/R/bin/R CMD check --install=check:MCRestimate.install-out.txt --library=/home/biocbuild/bbs-3.7-bioc/R/library --no-vignettes --timings MCRestimate_2.36.0.tar.gz | 
| StartedAt: 2018-10-16 01:43:51 -0400 (Tue, 16 Oct 2018) | 
| EndedAt: 2018-10-16 01:44:48 -0400 (Tue, 16 Oct 2018) | 
| EllapsedTime: 57.1 seconds | 
| RetCode: 0 | 
| Status: OK | 
| CheckDir: MCRestimate.Rcheck | 
| Warnings: 0 | 
##############################################################################
##############################################################################
###
### Running command:
###
###   /home/biocbuild/bbs-3.7-bioc/R/bin/R CMD check --install=check:MCRestimate.install-out.txt --library=/home/biocbuild/bbs-3.7-bioc/R/library --no-vignettes --timings MCRestimate_2.36.0.tar.gz
###
##############################################################################
##############################################################################
* using log directory ‘/home/biocbuild/bbs-3.7-bioc/meat/MCRestimate.Rcheck’
* using R version 3.5.1 Patched (2018-07-12 r74967)
* using platform: x86_64-pc-linux-gnu (64-bit)
* using session charset: UTF-8
* using option ‘--no-vignettes’
* checking for file ‘MCRestimate/DESCRIPTION’ ... OK
* this is package ‘MCRestimate’ version ‘2.36.0’
* checking package namespace information ... OK
* checking package dependencies ... OK
* checking if this is a source package ... OK
* checking if there is a namespace ... OK
* checking for hidden files and directories ... OK
* checking for portable file names ... OK
* checking for sufficient/correct file permissions ... OK
* checking whether package ‘MCRestimate’ can be installed ... OK
* checking installed package size ... OK
* checking package directory ... OK
* checking ‘build’ directory ... OK
* checking DESCRIPTION meta-information ... NOTE
Malformed Description field: should contain one or more complete sentences.
* checking top-level files ... OK
* checking for left-over files ... OK
* checking index information ... OK
* checking package subdirectories ... OK
* checking R files for non-ASCII characters ... OK
* checking R files for syntax errors ... OK
* checking whether the package can be loaded ... OK
* checking whether the package can be loaded with stated dependencies ... OK
* checking whether the package can be unloaded cleanly ... OK
* checking whether the namespace can be loaded with stated dependencies ... OK
* checking whether the namespace can be unloaded cleanly ... OK
* checking dependencies in R code ... NOTE
'library' or 'require' calls in package code:
  ‘ROC’ ‘genefilter’ ‘gpls’
  Please use :: or requireNamespace() instead.
  See section 'Suggested packages' in the 'Writing R Extensions' manual.
Package in Depends field not imported from: ‘golubEsets’
  These packages need to be imported from (in the NAMESPACE file)
  for when this namespace is loaded but not attached.
* checking S3 generic/method consistency ... OK
* checking replacement functions ... OK
* checking foreign function calls ... OK
* checking R code for possible problems ... NOTE
MCRestimate.default : my.balanced.folds: warning in
  get("balanced.folds", en = asNamespace("pamr")): partial argument
  match of 'en' to 'envir'
important.variable.names : <anonymous>: warning in median(x, na =
  TRUE): partial argument match of 'na' to 'na.rm'
important.variable.names : <anonymous>: warning in var(x, na = TRUE):
  partial argument match of 'na' to 'na.rm'
plot.MCRestimate: warning in layout(c(1, 2), height = c(5, 1)): partial
  argument match of 'height' to 'heights'
GPLS.wrap: no visible global function definition for ‘glpls1a’
varSel.AUC : AUC.rfc: no visible global function definition for ‘AUC’
varSel.AUC : AUC.rfc: no visible global function definition for
  ‘rocdemo.sca’
varSel.AUC : AUC.rfc: no visible binding for global variable
  ‘dxrule.sca’
varSel.highest.t.stat: no visible global function definition for
  ‘rowttests’
varSel.highest.t.stat.eSRG: no visible global function definition for
  ‘rowttests’
Undefined global functions or variables:
  AUC dxrule.sca glpls1a rocdemo.sca rowttests
* checking Rd files ... NOTE
prepare_Rd: PLR.Rd:19: Dropping empty section \details
* checking Rd metadata ... OK
* checking Rd cross-references ... OK
* checking for missing documentation entries ... OK
* checking for code/documentation mismatches ... OK
* checking Rd \usage sections ... OK
* checking Rd contents ... OK
* checking for unstated dependencies in examples ... OK
* checking files in ‘vignettes’ ... OK
* checking examples ... OK
Examples with CPU or elapsed time > 5s
                 user system elapsed
ClassifierBuild 5.904   0.04   5.948
* checking for unstated dependencies in vignettes ... OK
* checking package vignettes in ‘inst/doc’ ... OK
* checking running R code from vignettes ... SKIPPED
* checking re-building of vignette outputs ... SKIPPED
* checking PDF version of manual ... OK
* DONE
Status: 4 NOTEs
See
  ‘/home/biocbuild/bbs-3.7-bioc/meat/MCRestimate.Rcheck/00check.log’
for details.
MCRestimate.Rcheck/00install.out
############################################################################## ############################################################################## ### ### Running command: ### ### /home/biocbuild/bbs-3.7-bioc/R/bin/R CMD INSTALL MCRestimate ### ############################################################################## ############################################################################## * installing to library ‘/home/biocbuild/bbs-3.7-bioc/R/library’ * installing *source* package ‘MCRestimate’ ... ** R ** inst ** byte-compile and prepare package for lazy loading ** help *** installing help indices ** building package indices ** installing vignettes ** testing if installed package can be loaded * DONE (MCRestimate)
MCRestimate.Rcheck/MCRestimate-Ex.timings
| name | user | system | elapsed | |
| ClassifierBuild | 5.904 | 0.040 | 5.948 | |
| MCRconfusion | 1.100 | 0.000 | 1.103 | |
| MCRestimate | 1.792 | 0.032 | 1.842 | |
| PLR | 1.120 | 0.020 | 1.151 | |
| SVM.OVA.wrap | 0.000 | 0.000 | 0.002 | |
| class.factor.format | 0.096 | 0.012 | 0.108 | |
| geneReduction | 0.000 | 0.000 | 0.003 | |
| important.variable.names | 2.044 | 0.020 | 2.067 | |
| indVotes | 1.064 | 0.000 | 1.065 | |
| intersectList | 0.004 | 0.000 | 0.001 | |
| plot.MCRestimate | 0.012 | 0.000 | 0.013 | |
| wrapper.fkt | 1.992 | 0.028 | 2.019 | |