| Back to Multiple platform build/check report for BioC 3.7 |
|
This page was generated on 2018-10-17 08:34:29 -0400 (Wed, 17 Oct 2018).
| Package 791/1561 | Hostname | OS / Arch | INSTALL | BUILD | CHECK | BUILD BIN | ||||||
| LiquidAssociation 1.34.0 Yen-Yi Ho
| malbec2 | Linux (Ubuntu 16.04.1 LTS) / x86_64 | OK | OK | OK | |||||||
| tokay2 | Windows Server 2012 R2 Standard / x64 | [ OK ] | OK | OK | OK | |||||||
| merida2 | OS X 10.11.6 El Capitan / x86_64 | OK | OK | OK | OK |
| Package: LiquidAssociation |
| Version: 1.34.0 |
| Command: C:\cygwin\bin\curl.exe -O https://malbec2.bioconductor.org/BBS/3.7/bioc/src/contrib/LiquidAssociation_1.34.0.tar.gz && rm -rf LiquidAssociation.buildbin-libdir && mkdir LiquidAssociation.buildbin-libdir && C:\Users\biocbuild\bbs-3.7-bioc\R\bin\R.exe CMD INSTALL --merge-multiarch --build --library=LiquidAssociation.buildbin-libdir LiquidAssociation_1.34.0.tar.gz && C:\Users\biocbuild\bbs-3.7-bioc\R\bin\R.exe CMD INSTALL LiquidAssociation_1.34.0.zip && rm LiquidAssociation_1.34.0.tar.gz LiquidAssociation_1.34.0.zip |
| StartedAt: 2018-10-16 19:17:58 -0400 (Tue, 16 Oct 2018) |
| EndedAt: 2018-10-16 19:18:48 -0400 (Tue, 16 Oct 2018) |
| EllapsedTime: 50.2 seconds |
| RetCode: 0 |
| Status: OK |
##############################################################################
##############################################################################
###
### Running command:
###
### C:\cygwin\bin\curl.exe -O https://malbec2.bioconductor.org/BBS/3.7/bioc/src/contrib/LiquidAssociation_1.34.0.tar.gz && rm -rf LiquidAssociation.buildbin-libdir && mkdir LiquidAssociation.buildbin-libdir && C:\Users\biocbuild\bbs-3.7-bioc\R\bin\R.exe CMD INSTALL --merge-multiarch --build --library=LiquidAssociation.buildbin-libdir LiquidAssociation_1.34.0.tar.gz && C:\Users\biocbuild\bbs-3.7-bioc\R\bin\R.exe CMD INSTALL LiquidAssociation_1.34.0.zip && rm LiquidAssociation_1.34.0.tar.gz LiquidAssociation_1.34.0.zip
###
##############################################################################
##############################################################################
% Total % Received % Xferd Average Speed Time Time Time Current
Dload Upload Total Spent Left Speed
0 0 0 0 0 0 0 0 --:--:-- --:--:-- --:--:-- 0
100 43360 100 43360 0 0 834k 0 --:--:-- --:--:-- --:--:-- 940k
install for i386
* installing *source* package 'LiquidAssociation' ...
** R
** byte-compile and prepare package for lazy loading
** help
*** installing help indices
converting help for package 'LiquidAssociation'
finding HTML links ... done
CNM-class html
CNM.full-methods html
CNM.simple-methods html
GLA-methods html
LA-methods html
LiquidAssociation-Internal html
LiquidAssociation-package html
getsGLA-methods html
getsLA-methods html
plotGLA-methods html
** building package indices
** installing vignettes
** testing if installed package can be loaded
In R CMD INSTALL
install for x64
* installing *source* package 'LiquidAssociation' ...
** testing if installed package can be loaded
* MD5 sums
packaged installation of 'LiquidAssociation' as LiquidAssociation_1.34.0.zip
* DONE (LiquidAssociation)
In R CMD INSTALL
In R CMD INSTALL
* installing to library 'C:/Users/biocbuild/bbs-3.7-bioc/R/library'
package 'LiquidAssociation' successfully unpacked and MD5 sums checked
In R CMD INSTALL