| Back to Multiple platform build/check report for BioC 3.7 |
|
This page was generated on 2018-10-17 08:48:22 -0400 (Wed, 17 Oct 2018).
| Package 791/1561 | Hostname | OS / Arch | INSTALL | BUILD | CHECK | BUILD BIN | ||||||
| LiquidAssociation 1.34.0 Yen-Yi Ho
| malbec2 | Linux (Ubuntu 16.04.1 LTS) / x86_64 | OK | OK | OK | |||||||
| tokay2 | Windows Server 2012 R2 Standard / x64 | OK | OK | OK | OK | |||||||
| merida2 | OS X 10.11.6 El Capitan / x86_64 | OK | OK | OK | [ OK ] |
| Package: LiquidAssociation |
| Version: 1.34.0 |
| Command: rm -rf LiquidAssociation.buildbin-libdir && mkdir LiquidAssociation.buildbin-libdir && /Users/biocbuild/BBS/utils/build-universal.sh LiquidAssociation_1.34.0.tar.gz /Library/Frameworks/R.framework/Versions/Current/Resources/bin/R LiquidAssociation.buildbin-libdir |
| StartedAt: 2018-10-17 01:35:12 -0400 (Wed, 17 Oct 2018) |
| EndedAt: 2018-10-17 01:36:41 -0400 (Wed, 17 Oct 2018) |
| EllapsedTime: 88.6 seconds |
| RetCode: 0 |
| Status: OK |
| PackageFile: LiquidAssociation_1.34.0.tgz |
| PackageFileSize: 349.2 KiB |
############################################################################## ############################################################################## ### ### Running command: ### ### rm -rf LiquidAssociation.buildbin-libdir && mkdir LiquidAssociation.buildbin-libdir && /Users/biocbuild/BBS/utils/build-universal.sh LiquidAssociation_1.34.0.tar.gz /Library/Frameworks/R.framework/Versions/Current/Resources/bin/R LiquidAssociation.buildbin-libdir ### ############################################################################## ############################################################################## >>>>>>> >>>>>>> INSTALLATION WITH 'R CMD INSTALL --preclean --no-multiarch --library=LiquidAssociation.buildbin-libdir LiquidAssociation_1.34.0.tar.gz' >>>>>>> * installing *source* package ‘LiquidAssociation’ ... ** R ** inst ** byte-compile and prepare package for lazy loading ** help *** installing help indices ** building package indices ** installing vignettes ** testing if installed package can be loaded * DONE (LiquidAssociation)