| Back to Multiple platform build/check report for BioC 3.7 |
|
This page was generated on 2018-10-17 08:43:51 -0400 (Wed, 17 Oct 2018).
| Package 732/1561 | Hostname | OS / Arch | INSTALL | BUILD | CHECK | BUILD BIN | ||||||
| ImpulseDE2 1.4.0 David S Fischer
| malbec2 | Linux (Ubuntu 16.04.1 LTS) / x86_64 | OK | OK | OK | |||||||
| tokay2 | Windows Server 2012 R2 Standard / x64 | OK | OK | [ OK ] | OK | |||||||
| merida2 | OS X 10.11.6 El Capitan / x86_64 | OK | OK | OK | OK |
| Package: ImpulseDE2 |
| Version: 1.4.0 |
| Command: C:\Users\biocbuild\bbs-3.7-bioc\R\bin\R.exe CMD check --force-multiarch --install=check:ImpulseDE2.install-out.txt --library=C:\Users\biocbuild\bbs-3.7-bioc\R\library --no-vignettes --timings ImpulseDE2_1.4.0.tar.gz |
| StartedAt: 2018-10-17 02:47:33 -0400 (Wed, 17 Oct 2018) |
| EndedAt: 2018-10-17 02:56:33 -0400 (Wed, 17 Oct 2018) |
| EllapsedTime: 540.4 seconds |
| RetCode: 0 |
| Status: OK |
| CheckDir: ImpulseDE2.Rcheck |
| Warnings: 0 |
##############################################################################
##############################################################################
###
### Running command:
###
### C:\Users\biocbuild\bbs-3.7-bioc\R\bin\R.exe CMD check --force-multiarch --install=check:ImpulseDE2.install-out.txt --library=C:\Users\biocbuild\bbs-3.7-bioc\R\library --no-vignettes --timings ImpulseDE2_1.4.0.tar.gz
###
##############################################################################
##############################################################################
* using log directory 'C:/Users/biocbuild/bbs-3.7-bioc/meat/ImpulseDE2.Rcheck'
* using R version 3.5.1 Patched (2018-07-24 r75005)
* using platform: x86_64-w64-mingw32 (64-bit)
* using session charset: ISO8859-1
* using option '--no-vignettes'
* checking for file 'ImpulseDE2/DESCRIPTION' ... OK
* checking extension type ... Package
* this is package 'ImpulseDE2' version '1.4.0'
* package encoding: UTF-8
* checking package namespace information ... OK
* checking package dependencies ... OK
* checking if this is a source package ... OK
* checking if there is a namespace ... OK
* checking for hidden files and directories ... OK
* checking for portable file names ... OK
* checking whether package 'ImpulseDE2' can be installed ... OK
* checking installed package size ... OK
* checking package directory ... OK
* checking 'build' directory ... OK
* checking DESCRIPTION meta-information ... OK
* checking top-level files ... OK
* checking for left-over files ... OK
* checking index information ... OK
* checking package subdirectories ... OK
* checking R files for non-ASCII characters ... OK
* checking R files for syntax errors ... OK
* loading checks for arch 'i386'
** checking whether the package can be loaded ... OK
** checking whether the package can be loaded with stated dependencies ... OK
** checking whether the package can be unloaded cleanly ... OK
** checking whether the namespace can be loaded with stated dependencies ... OK
** checking whether the namespace can be unloaded cleanly ... OK
* loading checks for arch 'x64'
** checking whether the package can be loaded ... OK
** checking whether the package can be loaded with stated dependencies ... OK
** checking whether the package can be unloaded cleanly ... OK
** checking whether the namespace can be loaded with stated dependencies ... OK
** checking whether the namespace can be unloaded cleanly ... OK
* checking dependencies in R code ... OK
* checking S3 generic/method consistency ... OK
* checking replacement functions ... OK
* checking foreign function calls ... OK
* checking R code for possible problems ... NOTE
plotGenes: no visible global function definition for 'error'
plotGenes: no visible binding for global variable 'normCounts'
plotGenes: no visible binding for global variable 'Condition'
plotGenes: no visible binding for global variable 'Batch'
plotGenes: no visible binding for global variable 'value'
plotGenes: no visible binding for global variable 'BatchFit'
Undefined global functions or variables:
Batch BatchFit Condition error normCounts value
* checking Rd files ... OK
* checking Rd metadata ... OK
* checking Rd cross-references ... OK
* checking for missing documentation entries ... OK
* checking for code/documentation mismatches ... OK
* checking Rd \usage sections ... OK
* checking Rd contents ... OK
* checking for unstated dependencies in examples ... OK
* checking files in 'vignettes' ... OK
* checking examples ...
** running examples for arch 'i386' ... OK
Examples with CPU or elapsed time > 5s
user system elapsed
plotHeatmap 29.51 0.03 29.57
updateDEAnalysis 25.69 0.03 25.71
plotGenes 21.08 0.02 21.09
fitSigmoidModels 19.84 0.42 20.27
runImpulseDE2 16.88 0.00 16.87
get_accessors 16.76 0.02 16.78
list_accession 13.02 0.00 13.02
writeReportToFile 12.30 0.01 12.32
** running examples for arch 'x64' ... OK
Examples with CPU or elapsed time > 5s
user system elapsed
updateDEAnalysis 29.10 0.01 29.11
plotHeatmap 26.16 0.08 26.24
plotGenes 22.33 0.00 22.32
list_accession 16.79 0.00 16.78
get_accessors 15.73 0.00 15.74
fitSigmoidModels 14.50 0.03 14.53
writeReportToFile 14.17 0.02 14.18
runImpulseDE2 13.20 0.00 13.20
* checking for unstated dependencies in vignettes ... OK
* checking package vignettes in 'inst/doc' ... OK
* checking running R code from vignettes ... SKIPPED
* checking re-building of vignette outputs ... SKIPPED
* checking PDF version of manual ... OK
* DONE
Status: 1 NOTE
See
'C:/Users/biocbuild/bbs-3.7-bioc/meat/ImpulseDE2.Rcheck/00check.log'
for details.
ImpulseDE2.Rcheck/00install.out
##############################################################################
##############################################################################
###
### Running command:
###
### C:\cygwin\bin\curl.exe -O https://malbec2.bioconductor.org/BBS/3.7/bioc/src/contrib/ImpulseDE2_1.4.0.tar.gz && rm -rf ImpulseDE2.buildbin-libdir && mkdir ImpulseDE2.buildbin-libdir && C:\Users\biocbuild\bbs-3.7-bioc\R\bin\R.exe CMD INSTALL --merge-multiarch --build --library=ImpulseDE2.buildbin-libdir ImpulseDE2_1.4.0.tar.gz && C:\Users\biocbuild\bbs-3.7-bioc\R\bin\R.exe CMD INSTALL ImpulseDE2_1.4.0.zip && rm ImpulseDE2_1.4.0.tar.gz ImpulseDE2_1.4.0.zip
###
##############################################################################
##############################################################################
% Total % Received % Xferd Average Speed Time Time Time Current
Dload Upload Total Spent Left Speed
0 0 0 0 0 0 0 0 --:--:-- --:--:-- --:--:-- 0
0 0 0 0 0 0 0 0 --:--:-- --:--:-- --:--:-- 0
100 58593 100 58593 0 0 1194k 0 --:--:-- --:--:-- --:--:-- 1362k
install for i386
* installing *source* package 'ImpulseDE2' ...
** R
** inst
** byte-compile and prepare package for lazy loading
** help
*** installing help indices
converting help for package 'ImpulseDE2'
finding HTML links ... done
ImpulseDE2Object-class html
append_strReport html
computeNormConst html
computeSizeFactors html
estimateImpulseParam html
estimateSigmoidParam html
evalImpulse html
evalImpulse_comp html
evalLogLikImpulse html
evalLogLikImpulse_comp html
evalLogLikMu html
evalLogLikMu_comp html
evalLogLikSigmoid html
evalLogLikSigmoid_comp html
evalSigmoid html
evalSigmoid_comp html
fitConstImpulse html
fitConstImpulseGene html
fitConstModel html
fitImpulseModel html
fitModels html
fitSigmoidGene html
fitSigmoidModel html
fitSigmoidModels html
get_accessors html
list_accession html
plotGenes html
plotHeatmap html
processData html
runDEAnalysis html
runDESeq2 html
runImpulseDE2 html
set_accessors html
simulateDataSetImpulseDE2 html
updateDEAnalysis html
writeReportToFile html
** building package indices
** installing vignettes
** testing if installed package can be loaded
In R CMD INSTALL
install for x64
* installing *source* package 'ImpulseDE2' ...
** testing if installed package can be loaded
* MD5 sums
packaged installation of 'ImpulseDE2' as ImpulseDE2_1.4.0.zip
* DONE (ImpulseDE2)
In R CMD INSTALL
In R CMD INSTALL
* installing to library 'C:/Users/biocbuild/bbs-3.7-bioc/R/library'
package 'ImpulseDE2' successfully unpacked and MD5 sums checked
In R CMD INSTALL
|
ImpulseDE2.Rcheck/examples_i386/ImpulseDE2-Ex.timings
|
ImpulseDE2.Rcheck/examples_x64/ImpulseDE2-Ex.timings
|