| Back to Multiple platform build/check report for BioC 3.7 |
|
This page was generated on 2018-10-17 08:43:51 -0400 (Wed, 17 Oct 2018).
| Package 732/1561 | Hostname | OS / Arch | INSTALL | BUILD | CHECK | BUILD BIN | ||||||
| ImpulseDE2 1.4.0 David S Fischer
| malbec2 | Linux (Ubuntu 16.04.1 LTS) / x86_64 | OK | OK | OK | |||||||
| tokay2 | Windows Server 2012 R2 Standard / x64 | OK | [ OK ] | OK | OK | |||||||
| merida2 | OS X 10.11.6 El Capitan / x86_64 | OK | OK | OK | OK |
| Package: ImpulseDE2 |
| Version: 1.4.0 |
| Command: chmod a+r ImpulseDE2 -R && C:\Users\biocbuild\bbs-3.7-bioc\R\bin\R.exe CMD build --keep-empty-dirs --no-resave-data ImpulseDE2 |
| StartedAt: 2018-10-16 23:41:54 -0400 (Tue, 16 Oct 2018) |
| EndedAt: 2018-10-16 23:44:39 -0400 (Tue, 16 Oct 2018) |
| EllapsedTime: 164.8 seconds |
| RetCode: 0 |
| Status: OK |
| PackageFile: ImpulseDE2_1.4.0.tar.gz |
| PackageFileSize: 308 KiB |
############################################################################## ############################################################################## ### ### Running command: ### ### chmod a+r ImpulseDE2 -R && C:\Users\biocbuild\bbs-3.7-bioc\R\bin\R.exe CMD build --keep-empty-dirs --no-resave-data ImpulseDE2 ### ############################################################################## ############################################################################## * checking for file 'ImpulseDE2/DESCRIPTION' ... OK * preparing 'ImpulseDE2': * checking DESCRIPTION meta-information ... OK * installing the package to build vignettes * creating vignettes ... OK * checking for LF line-endings in source and make files and shell scripts * checking for empty or unneeded directories * building 'ImpulseDE2_1.4.0.tar.gz'