| Back to Multiple platform build/check report for BioC 3.7 |
|
This page was generated on 2018-10-17 08:22:21 -0400 (Wed, 17 Oct 2018).
| Package 577/1561 | Hostname | OS / Arch | INSTALL | BUILD | CHECK | BUILD BIN | ||||||
| GeneSelector 2.30.0 Martin Slawski
| malbec2 | Linux (Ubuntu 16.04.1 LTS) / x86_64 | [ ERROR ] | ERROR | skipped | |||||||
| tokay2 | Windows Server 2012 R2 Standard / x64 | OK | OK | OK | OK | |||||||
| merida2 | OS X 10.11.6 El Capitan / x86_64 | OK | OK | OK | OK |
| Package: GeneSelector |
| Version: 2.30.0 |
| Command: /home/biocbuild/bbs-3.7-bioc/R/bin/R CMD INSTALL GeneSelector |
| StartedAt: 2018-10-15 18:41:52 -0400 (Mon, 15 Oct 2018) |
| EndedAt: 2018-10-15 18:41:52 -0400 (Mon, 15 Oct 2018) |
| EllapsedTime: 0.5 seconds |
| RetCode: 1 |
| Status: ERROR |
############################################################################## ############################################################################## ### ### Running command: ### ### /home/biocbuild/bbs-3.7-bioc/R/bin/R CMD INSTALL GeneSelector ### ############################################################################## ############################################################################## * installing to library ‘/home/biocbuild/bbs-3.7-bioc/R/library’ ERROR: dependency ‘samr’ is not available for package ‘GeneSelector’ * removing ‘/home/biocbuild/bbs-3.7-bioc/R/library/GeneSelector’