| Back to Multiple platform build/check report for BioC 3.7 |
|
This page was generated on 2018-10-17 08:53:35 -0400 (Wed, 17 Oct 2018).
| Package 626/1561 | Hostname | OS / Arch | INSTALL | BUILD | CHECK | BUILD BIN | ||||||
| GOexpress 1.14.0 Kevin Rue-Albrecht
| malbec2 | Linux (Ubuntu 16.04.1 LTS) / x86_64 | OK | OK | OK | |||||||
| tokay2 | Windows Server 2012 R2 Standard / x64 | OK | OK | WARNINGS | OK | |||||||
| merida2 | OS X 10.11.6 El Capitan / x86_64 | OK | OK | [ OK ] | OK |
| Package: GOexpress |
| Version: 1.14.0 |
| Command: /Library/Frameworks/R.framework/Versions/Current/Resources/bin/R CMD check --install=check:GOexpress.install-out.txt --library=/Library/Frameworks/R.framework/Versions/Current/Resources/library --no-vignettes --timings GOexpress_1.14.0.tar.gz |
| StartedAt: 2018-10-16 21:45:58 -0400 (Tue, 16 Oct 2018) |
| EndedAt: 2018-10-16 21:48:06 -0400 (Tue, 16 Oct 2018) |
| EllapsedTime: 127.8 seconds |
| RetCode: 0 |
| Status: OK |
| CheckDir: GOexpress.Rcheck |
| Warnings: 0 |
##############################################################################
##############################################################################
###
### Running command:
###
### /Library/Frameworks/R.framework/Versions/Current/Resources/bin/R CMD check --install=check:GOexpress.install-out.txt --library=/Library/Frameworks/R.framework/Versions/Current/Resources/library --no-vignettes --timings GOexpress_1.14.0.tar.gz
###
##############################################################################
##############################################################################
* using log directory ‘/Users/biocbuild/bbs-3.7-bioc/meat/GOexpress.Rcheck’
* using R version 3.5.1 Patched (2018-07-12 r74967)
* using platform: x86_64-apple-darwin15.6.0 (64-bit)
* using session charset: UTF-8
* using option ‘--no-vignettes’
* checking for file ‘GOexpress/DESCRIPTION’ ... OK
* this is package ‘GOexpress’ version ‘1.14.0’
* checking package namespace information ... OK
* checking package dependencies ... OK
* checking if this is a source package ... OK
* checking if there is a namespace ... OK
* checking for hidden files and directories ... NOTE
Found the following hidden files and directories:
.travis.yml
These were most likely included in error. See section ‘Package
structure’ in the ‘Writing R Extensions’ manual.
* checking for portable file names ... OK
* checking for sufficient/correct file permissions ... OK
* checking whether package ‘GOexpress’ can be installed ... OK
* checking installed package size ... OK
* checking package directory ... OK
* checking ‘build’ directory ... OK
* checking DESCRIPTION meta-information ... OK
* checking top-level files ... OK
* checking for left-over files ... OK
* checking index information ... OK
* checking package subdirectories ... OK
* checking R files for non-ASCII characters ... OK
* checking R files for syntax errors ... OK
* checking whether the package can be loaded ... OK
* checking whether the package can be loaded with stated dependencies ... OK
* checking whether the package can be unloaded cleanly ... OK
* checking whether the namespace can be loaded with stated dependencies ... OK
* checking whether the namespace can be unloaded cleanly ... OK
* checking dependencies in R code ... OK
* checking S3 generic/method consistency ... OK
* checking replacement functions ... OK
* checking foreign function calls ... OK
* checking R code for possible problems ... NOTE
GO_analyse: no visible binding for global variable ‘microarray2dataset’
GO_analyse: no visible binding for global variable ‘prefix2dataset’
mart_from_ensembl: no visible binding for global variable
‘prefix2dataset’
Undefined global functions or variables:
microarray2dataset prefix2dataset
* checking Rd files ... OK
* checking Rd metadata ... OK
* checking Rd cross-references ... OK
* checking for missing documentation entries ... OK
* checking for code/documentation mismatches ... OK
* checking Rd \usage sections ... OK
* checking Rd contents ... OK
* checking for unstated dependencies in examples ... OK
* checking contents of ‘data’ directory ... OK
* checking data for non-ASCII characters ... OK
* checking data for ASCII and uncompressed saves ... OK
* checking sizes of PDF files under ‘inst/doc’ ... OK
* checking files in ‘vignettes’ ... OK
* checking examples ... OK
Examples with CPU or elapsed time > 5s
user system elapsed
AlvMac_results.pVal 7.158 0.963 8.196
* checking for unstated dependencies in vignettes ... OK
* checking package vignettes in ‘inst/doc’ ... OK
* checking running R code from vignettes ... SKIPPED
* checking re-building of vignette outputs ... SKIPPED
* checking PDF version of manual ... OK
* DONE
Status: 2 NOTEs
See
‘/Users/biocbuild/bbs-3.7-bioc/meat/GOexpress.Rcheck/00check.log’
for details.
GOexpress.Rcheck/00install.out
############################################################################## ############################################################################## ### ### Running command: ### ### /Library/Frameworks/R.framework/Versions/Current/Resources/bin/R CMD INSTALL GOexpress ### ############################################################################## ############################################################################## * installing to library ‘/Library/Frameworks/R.framework/Versions/3.5/Resources/library’ * installing *source* package ‘GOexpress’ ... ** R ** data *** moving datasets to lazyload DB ** inst ** byte-compile and prepare package for lazy loading ** help *** installing help indices ** building package indices ** installing vignettes ** testing if installed package can be loaded * DONE (GOexpress)
GOexpress.Rcheck/GOexpress-Ex.timings
| name | user | system | elapsed | |
| AlvMac | 0.119 | 0.011 | 0.131 | |
| AlvMac_GOgenes | 0.115 | 0.013 | 0.128 | |
| AlvMac_allGO | 0.030 | 0.004 | 0.034 | |
| AlvMac_allgenes | 0.033 | 0.002 | 0.035 | |
| AlvMac_results | 0.162 | 0.013 | 0.175 | |
| AlvMac_results.pVal | 7.158 | 0.963 | 8.196 | |
| GO_analyse | 3.541 | 0.159 | 3.729 | |
| GOexpress-package | 0.007 | 0.004 | 0.010 | |
| cluster_GO | 0.193 | 0.019 | 0.213 | |
| expression_plot | 1.556 | 0.023 | 1.586 | |
| expression_plot_symbol | 1.279 | 0.008 | 1.306 | |
| expression_profiles | 1.124 | 0.004 | 1.134 | |
| expression_profiles_symbol | 1.325 | 0.016 | 1.343 | |
| heatmap_GO | 0.684 | 0.010 | 0.695 | |
| hist_scores | 0.569 | 0.020 | 0.590 | |
| list_genes | 0.114 | 0.006 | 0.121 | |
| microarray2dataset | 0.020 | 0.004 | 0.023 | |
| pValue_GO | 0.001 | 0.000 | 0.001 | |
| plot_design | 0.201 | 0.009 | 0.211 | |
| prefix2dataset | 0.018 | 0.002 | 0.021 | |
| quantiles_scores | 0.183 | 0.012 | 0.196 | |
| rerank | 0.288 | 0.012 | 0.300 | |
| subEset | 0.047 | 0.002 | 0.048 | |
| subset_scores | 0.270 | 0.003 | 0.274 | |
| table_genes | 0.432 | 0.011 | 0.445 | |