| Back to Multiple platform build/check report for BioC 3.7 |
|
This page was generated on 2018-06-01 10:14:56 -0400 (Fri, 01 Jun 2018).
| Package 422/1561 | Hostname | OS / Arch | INSTALL | BUILD | CHECK | BUILD BIN | ||||||
| EasyqpcR 1.22.0 Le Pape Sylvain
| malbec2 | Linux (Ubuntu 16.04.1 LTS) / x86_64 | OK | ERROR | skipped | |||||||
| tokay2 | Windows Server 2012 R2 Standard / x64 | [ OK ] | ERROR | skipped | skipped | |||||||
| merida2 | OS X 10.11.6 El Capitan / x86_64 | OK | ERROR | skipped | skipped |
| Package: EasyqpcR |
| Version: 1.22.0 |
| Command: C:\cygwin\bin\curl.exe -O https://malbec2.bioconductor.org/BBS/3.7/bioc/src/contrib/EasyqpcR_1.22.0.tar.gz && rm -rf EasyqpcR.buildbin-libdir && mkdir EasyqpcR.buildbin-libdir && C:\Users\biocbuild\bbs-3.7-bioc\R\bin\R.exe CMD INSTALL --merge-multiarch --build --library=EasyqpcR.buildbin-libdir EasyqpcR_1.22.0.tar.gz && C:\Users\biocbuild\bbs-3.7-bioc\R\bin\R.exe CMD INSTALL EasyqpcR_1.22.0.zip && rm EasyqpcR_1.22.0.tar.gz EasyqpcR_1.22.0.zip |
| StartedAt: 2018-05-31 18:29:56 -0400 (Thu, 31 May 2018) |
| EndedAt: 2018-05-31 18:33:45 -0400 (Thu, 31 May 2018) |
| EllapsedTime: 229.8 seconds |
| RetCode: 0 |
| Status: OK |
##############################################################################
##############################################################################
###
### Running command:
###
### C:\cygwin\bin\curl.exe -O https://malbec2.bioconductor.org/BBS/3.7/bioc/src/contrib/EasyqpcR_1.22.0.tar.gz && rm -rf EasyqpcR.buildbin-libdir && mkdir EasyqpcR.buildbin-libdir && C:\Users\biocbuild\bbs-3.7-bioc\R\bin\R.exe CMD INSTALL --merge-multiarch --build --library=EasyqpcR.buildbin-libdir EasyqpcR_1.22.0.tar.gz && C:\Users\biocbuild\bbs-3.7-bioc\R\bin\R.exe CMD INSTALL EasyqpcR_1.22.0.zip && rm EasyqpcR_1.22.0.tar.gz EasyqpcR_1.22.0.zip
###
##############################################################################
##############################################################################
% Total % Received % Xferd Average Speed Time Time Time Current
Dload Upload Total Spent Left Speed
0 0 0 0 0 0 0 0 --:--:-- --:--:-- --:--:-- 0
100 1727k 100 1727k 0 0 18.3M 0 --:--:-- --:--:-- --:--:-- 19.6M
install for i386
* installing *source* package 'EasyqpcR' ...
** R
** data
** inst
** byte-compile and prepare package for lazy loading
** help
*** installing help indices
converting help for package 'EasyqpcR'
finding HTML links ... done
EasyqpcR-package html
Efficiency_calculation html
Gene_maximisation html
Gene_maximisation_cor html
badCt html
calData html
nrmData html
qPCR_run1 html
qPCR_run2 html
qPCR_run3 html
slope html
totData html
** building package indices
** installing vignettes
** testing if installed package can be loaded
In R CMD INSTALL
install for x64
* installing *source* package 'EasyqpcR' ...
** testing if installed package can be loaded
* MD5 sums
packaged installation of 'EasyqpcR' as EasyqpcR_1.22.0.zip
* DONE (EasyqpcR)
In R CMD INSTALL
In R CMD INSTALL
* installing to library 'C:/Users/biocbuild/bbs-3.7-bioc/R/library'
package 'EasyqpcR' successfully unpacked and MD5 sums checked
In R CMD INSTALL