| Back to Multiple platform build/check report for BioC 3.7 |
|
This page was generated on 2018-10-17 08:38:46 -0400 (Wed, 17 Oct 2018).
| Package 363/1561 | Hostname | OS / Arch | INSTALL | BUILD | CHECK | BUILD BIN | ||||||
| DEGreport 1.16.0 Lorena Pantano
| malbec2 | Linux (Ubuntu 16.04.1 LTS) / x86_64 | OK | OK | OK | |||||||
| tokay2 | Windows Server 2012 R2 Standard / x64 | OK | OK | WARNINGS | [ OK ] | |||||||
| merida2 | OS X 10.11.6 El Capitan / x86_64 | OK | OK | OK | OK |
| Package: DEGreport |
| Version: 1.16.0 |
| Command: rm -rf DEGreport.buildbin-libdir && mkdir DEGreport.buildbin-libdir && C:\Users\biocbuild\bbs-3.7-bioc\R\bin\R.exe CMD INSTALL --merge-multiarch --build --library=DEGreport.buildbin-libdir DEGreport_1.16.0.tar.gz |
| StartedAt: 2018-10-17 06:14:21 -0400 (Wed, 17 Oct 2018) |
| EndedAt: 2018-10-17 06:15:00 -0400 (Wed, 17 Oct 2018) |
| EllapsedTime: 39.5 seconds |
| RetCode: 0 |
| Status: OK |
| PackageFile: DEGreport_1.16.0.zip |
| PackageFileSize: 2.065 MiB |
##############################################################################
##############################################################################
###
### Running command:
###
### rm -rf DEGreport.buildbin-libdir && mkdir DEGreport.buildbin-libdir && C:\Users\biocbuild\bbs-3.7-bioc\R\bin\R.exe CMD INSTALL --merge-multiarch --build --library=DEGreport.buildbin-libdir DEGreport_1.16.0.tar.gz
###
##############################################################################
##############################################################################
install for i386
* installing *source* package 'DEGreport' ...
** R
** data
** inst
** byte-compile and prepare package for lazy loading
** help
*** installing help indices
converting help for package 'DEGreport'
finding HTML links ... done
DEGSet html
DEGreport-deprecated html
createReport html
deg html
degCheckFactors html
degComps html
Rd warning: C:/Users/biocbuild/bbs-3.7-bioc/tmpdir/RtmpsxjunW/R.INSTALL26f8158169a1/DEGreport/man/degComps.Rd:26: file link 'resultsNames' in package 'DESeq2' does not exist and so has been treated as a topic
degCorCov html
degCovariates html
degDefault html
degFilter html
degMB html
degMDS html
degMV html
degMean html
degMerge html
degObj html
degPCA html
degPatterns html
finding level-2 HTML links ... done
degPlot html
Rd warning: C:/Users/biocbuild/bbs-3.7-bioc/tmpdir/RtmpsxjunW/R.INSTALL26f8158169a1/DEGreport/man/degPlot.Rd:41: file link 'scale_color_brewer' in package 'ggplot2' does not exist and so has been treated as a topic
degPlotWide html
degQC html
degResults html
degSignature html
degSummary html
degVB html
degVar html
degVolcano html
geneInfo html
geom_cor html
humanGender html
plotMA html
significants html
** building package indices
** installing vignettes
** testing if installed package can be loaded
In R CMD INSTALL
install for x64
* installing *source* package 'DEGreport' ...
** testing if installed package can be loaded
* MD5 sums
packaged installation of 'DEGreport' as DEGreport_1.16.0.zip
* DONE (DEGreport)
In R CMD INSTALL
In R CMD INSTALL