| Back to Multiple platform build/check report for BioC 3.7 |
|
This page was generated on 2018-10-17 08:53:06 -0400 (Wed, 17 Oct 2018).
| Package 363/1561 | Hostname | OS / Arch | INSTALL | BUILD | CHECK | BUILD BIN | ||||||
| DEGreport 1.16.0 Lorena Pantano
| malbec2 | Linux (Ubuntu 16.04.1 LTS) / x86_64 | OK | OK | OK | |||||||
| tokay2 | Windows Server 2012 R2 Standard / x64 | OK | OK | WARNINGS | OK | |||||||
| merida2 | OS X 10.11.6 El Capitan / x86_64 | OK | [ OK ] | OK | OK |
| Package: DEGreport |
| Version: 1.16.0 |
| Command: /Library/Frameworks/R.framework/Versions/Current/Resources/bin/R CMD build --keep-empty-dirs --no-resave-data DEGreport |
| StartedAt: 2018-10-16 17:29:45 -0400 (Tue, 16 Oct 2018) |
| EndedAt: 2018-10-16 17:31:13 -0400 (Tue, 16 Oct 2018) |
| EllapsedTime: 88.1 seconds |
| RetCode: 0 |
| Status: OK |
| PackageFile: DEGreport_1.16.0.tar.gz |
| PackageFileSize: 23.61 MiB |
############################################################################## ############################################################################## ### ### Running command: ### ### /Library/Frameworks/R.framework/Versions/Current/Resources/bin/R CMD build --keep-empty-dirs --no-resave-data DEGreport ### ############################################################################## ############################################################################## * checking for file ‘DEGreport/DESCRIPTION’ ... OK * preparing ‘DEGreport’: * checking DESCRIPTION meta-information ... OK * installing the package to build vignettes * creating vignettes ... OK * checking for LF line-endings in source and make files and shell scripts * checking for empty or unneeded directories * looking to see if a ‘data/datalist’ file should be added * building ‘DEGreport_1.16.0.tar.gz’ Warning in utils::tar(filepath, pkgname, compression = "gzip", compression_level = 9L, : storing paths of more than 100 bytes is not portable: ‘DEGreport/vignettes/DEGreport_cache/html/deseq2-gene-plot-wide_3132a6e10a76900cda69e20fa698a083.RData’ Warning in utils::tar(filepath, pkgname, compression = "gzip", compression_level = 9L, : storing paths of more than 100 bytes is not portable: ‘DEGreport/vignettes/DEGreport_cache/html/significants-list-full_c78c566e8ce75abcca2c86b437b0258e.RData’