| Back to Multiple platform build/check report for BioC 3.7 |
|
This page was generated on 2018-10-17 08:41:23 -0400 (Wed, 17 Oct 2018).
| Package 224/1561 | Hostname | OS / Arch | INSTALL | BUILD | CHECK | BUILD BIN | ||||||
| Chicago 1.8.0 Mikhail Spivakov
| malbec2 | Linux (Ubuntu 16.04.1 LTS) / x86_64 | OK | OK | OK | |||||||
| tokay2 | Windows Server 2012 R2 Standard / x64 | OK | OK | OK | [ OK ] | |||||||
| merida2 | OS X 10.11.6 El Capitan / x86_64 | OK | OK | OK | OK |
| Package: Chicago |
| Version: 1.8.0 |
| Command: rm -rf Chicago.buildbin-libdir && mkdir Chicago.buildbin-libdir && C:\Users\biocbuild\bbs-3.7-bioc\R\bin\R.exe CMD INSTALL --merge-multiarch --build --library=Chicago.buildbin-libdir Chicago_1.8.0.tar.gz |
| StartedAt: 2018-10-17 06:08:39 -0400 (Wed, 17 Oct 2018) |
| EndedAt: 2018-10-17 06:08:57 -0400 (Wed, 17 Oct 2018) |
| EllapsedTime: 18.3 seconds |
| RetCode: 0 |
| Status: OK |
| PackageFile: Chicago_1.8.0.zip |
| PackageFileSize: 1018 KiB |
##############################################################################
##############################################################################
###
### Running command:
###
### rm -rf Chicago.buildbin-libdir && mkdir Chicago.buildbin-libdir && C:\Users\biocbuild\bbs-3.7-bioc\R\bin\R.exe CMD INSTALL --merge-multiarch --build --library=Chicago.buildbin-libdir Chicago_1.8.0.tar.gz
###
##############################################################################
##############################################################################
install for i386
* installing *source* package 'Chicago' ...
** R
** data
** inst
** byte-compile and prepare package for lazy loading
** help
*** installing help indices
converting help for package 'Chicago'
finding HTML links ... done
Chicago-package html
cdUnitTest html
chicagoData html
chicagoPipeline html
copyCD html
defaultSettings html
estimateBrownianComponent html
estimateDistFun html
estimateTechnicalNoise html
exportResults html
getPvals html
getScores html
getSkOnly html
mergeSamples html
modifySettings html
normaliseBaits html
normaliseOtherEnds html
overlapFragWithFeatures html
finding level-2 HTML links ... done
peakEnrichment4Features html
plotBaits html
plotDistFun html
readAndMerge html
readSample html
setExperiment html
** building package indices
** installing vignettes
** testing if installed package can be loaded
In R CMD INSTALL
install for x64
* installing *source* package 'Chicago' ...
** testing if installed package can be loaded
* MD5 sums
packaged installation of 'Chicago' as Chicago_1.8.0.zip
* DONE (Chicago)
In R CMD INSTALL
In R CMD INSTALL