| Back to Multiple platform build/check report for BioC 3.7 |
|
This page was generated on 2018-10-17 08:28:16 -0400 (Wed, 17 Oct 2018).
| Package 224/1561 | Hostname | OS / Arch | INSTALL | BUILD | CHECK | BUILD BIN | ||||||
| Chicago 1.8.0 Mikhail Spivakov
| malbec2 | Linux (Ubuntu 16.04.1 LTS) / x86_64 | OK | OK | [ OK ] | |||||||
| tokay2 | Windows Server 2012 R2 Standard / x64 | OK | OK | OK | OK | |||||||
| merida2 | OS X 10.11.6 El Capitan / x86_64 | OK | OK | OK | OK |
| Package: Chicago |
| Version: 1.8.0 |
| Command: /home/biocbuild/bbs-3.7-bioc/R/bin/R CMD check --install=check:Chicago.install-out.txt --library=/home/biocbuild/bbs-3.7-bioc/R/library --no-vignettes --timings Chicago_1.8.0.tar.gz |
| StartedAt: 2018-10-15 23:07:15 -0400 (Mon, 15 Oct 2018) |
| EndedAt: 2018-10-15 23:08:48 -0400 (Mon, 15 Oct 2018) |
| EllapsedTime: 92.8 seconds |
| RetCode: 0 |
| Status: OK |
| CheckDir: Chicago.Rcheck |
| Warnings: 0 |
##############################################################################
##############################################################################
###
### Running command:
###
### /home/biocbuild/bbs-3.7-bioc/R/bin/R CMD check --install=check:Chicago.install-out.txt --library=/home/biocbuild/bbs-3.7-bioc/R/library --no-vignettes --timings Chicago_1.8.0.tar.gz
###
##############################################################################
##############################################################################
* using log directory ‘/home/biocbuild/bbs-3.7-bioc/meat/Chicago.Rcheck’
* using R version 3.5.1 Patched (2018-07-12 r74967)
* using platform: x86_64-pc-linux-gnu (64-bit)
* using session charset: UTF-8
* using option ‘--no-vignettes’
* checking for file ‘Chicago/DESCRIPTION’ ... OK
* checking extension type ... Package
* this is package ‘Chicago’ version ‘1.8.0’
* checking package namespace information ... OK
* checking package dependencies ... OK
* checking if this is a source package ... OK
* checking if there is a namespace ... OK
* checking for hidden files and directories ... NOTE
Found the following hidden files and directories:
.BBSoptions
These were most likely included in error. See section ‘Package
structure’ in the ‘Writing R Extensions’ manual.
* checking for portable file names ... OK
* checking for sufficient/correct file permissions ... OK
* checking whether package ‘Chicago’ can be installed ... OK
* checking installed package size ... OK
* checking package directory ... OK
* checking ‘build’ directory ... OK
* checking DESCRIPTION meta-information ... OK
* checking top-level files ... OK
* checking for left-over files ... OK
* checking index information ... OK
* checking package subdirectories ... OK
* checking R files for non-ASCII characters ... OK
* checking R files for syntax errors ... OK
* checking whether the package can be loaded ... OK
* checking whether the package can be loaded with stated dependencies ... OK
* checking whether the package can be unloaded cleanly ... OK
* checking whether the namespace can be loaded with stated dependencies ... OK
* checking whether the namespace can be unloaded cleanly ... OK
* checking dependencies in R code ... OK
* checking S3 generic/method consistency ... OK
* checking replacement functions ... OK
* checking foreign function calls ... OK
* checking R code for possible problems ... OK
* checking Rd files ... OK
* checking Rd metadata ... OK
* checking Rd cross-references ... OK
* checking for missing documentation entries ... OK
* checking for code/documentation mismatches ... OK
* checking Rd \usage sections ... OK
* checking Rd contents ... OK
* checking for unstated dependencies in examples ... OK
* checking contents of ‘data’ directory ... OK
* checking data for non-ASCII characters ... OK
* checking data for ASCII and uncompressed saves ... OK
* checking files in ‘vignettes’ ... OK
* checking examples ... OK
Examples with CPU or elapsed time > 5s
user system elapsed
normaliseOtherEnds 14.200 1.032 15.815
exportResults 10.224 0.304 10.436
* checking for unstated dependencies in ‘tests’ ... OK
* checking tests ...
Running ‘testthat.R’
OK
* checking for unstated dependencies in vignettes ... OK
* checking package vignettes in ‘inst/doc’ ... OK
* checking running R code from vignettes ... SKIPPED
* checking re-building of vignette outputs ... SKIPPED
* checking PDF version of manual ... OK
* DONE
Status: 1 NOTE
See
‘/home/biocbuild/bbs-3.7-bioc/meat/Chicago.Rcheck/00check.log’
for details.
Chicago.Rcheck/00install.out
############################################################################## ############################################################################## ### ### Running command: ### ### /home/biocbuild/bbs-3.7-bioc/R/bin/R CMD INSTALL Chicago ### ############################################################################## ############################################################################## * installing to library ‘/home/biocbuild/bbs-3.7-bioc/R/library’ * installing *source* package ‘Chicago’ ... ** R ** data ** inst ** byte-compile and prepare package for lazy loading ** help *** installing help indices ** building package indices ** installing vignettes ** testing if installed package can be loaded * DONE (Chicago)
Chicago.Rcheck/tests/testthat.Rout
R version 3.5.1 Patched (2018-07-12 r74967) -- "Feather Spray"
Copyright (C) 2018 The R Foundation for Statistical Computing
Platform: x86_64-pc-linux-gnu (64-bit)
R is free software and comes with ABSOLUTELY NO WARRANTY.
You are welcome to redistribute it under certain conditions.
Type 'license()' or 'licence()' for distribution details.
R is a collaborative project with many contributors.
Type 'contributors()' for more information and
'citation()' on how to cite R or R packages in publications.
Type 'demo()' for some demos, 'help()' for on-line help, or
'help.start()' for an HTML browser interface to help.
Type 'q()' to quit R.
> library(testthat)
> library(Chicago)
Loading required package: data.table
Welcome to CHiCAGO - version 1.8.0
If you are new to CHiCAGO, please consider reading the vignette through the command: vignette("Chicago").
NOTE: Default values of tlb.minProxOEPerBin and tlb.minProxB2BPerBin changed as of Version 1.1.5. No action is required unless you specified non-default values, or wish to re-run the pipeline on old chicagoData objects. See news(package="Chicago")
>
> test_check("Chicago")
Read 4 items
Read 4 items
Read 4 items
══ testthat results ═══════════════════════════════════════════════════════════
OK: 11 SKIPPED: 0 FAILED: 0
>
> proc.time()
user system elapsed
5.712 0.144 3.228
Chicago.Rcheck/Chicago-Ex.timings
| name | user | system | elapsed | |
| cdUnitTest | 0.028 | 0.008 | 0.048 | |
| chicagoData | 0.000 | 0.000 | 0.001 | |
| chicagoPipeline | 0.184 | 0.008 | 0.083 | |
| copyCD | 0.004 | 0.000 | 0.006 | |
| defaultSettings | 0.000 | 0.000 | 0.001 | |
| estimateBrownianComponent | 0.744 | 0.016 | 0.478 | |
| estimateDistFun | 0.244 | 0.008 | 0.057 | |
| estimateTechnicalNoise | 0.528 | 0.008 | 0.136 | |
| exportResults | 10.224 | 0.304 | 10.436 | |
| getPvals | 0.180 | 0.000 | 0.045 | |
| getScores | 0.060 | 0.000 | 0.033 | |
| getSkOnly | 0.108 | 0.000 | 0.112 | |
| mergeSamples | 0.132 | 0.004 | 0.136 | |
| modifySettings | 0.020 | 0.004 | 0.023 | |
| normaliseBaits | 0.104 | 0.004 | 0.106 | |
| normaliseOtherEnds | 14.200 | 1.032 | 15.815 | |
| overlapFragWithFeatures | 0.060 | 0.000 | 0.081 | |
| peakEnrichment4Features | 0.860 | 0.000 | 0.862 | |
| plotBaits | 0.156 | 0.012 | 0.168 | |
| plotDistFun | 0.012 | 0.000 | 0.010 | |
| readAndMerge | 0.904 | 0.020 | 0.924 | |
| readSample | 0.028 | 0.000 | 0.028 | |
| setExperiment | 0.012 | 0.000 | 0.008 | |