| Back to Multiple platform build/check report for BioC 3.7 |
|
This page was generated on 2018-10-17 08:37:38 -0400 (Wed, 17 Oct 2018).
| Package 118/1561 | Hostname | OS / Arch | INSTALL | BUILD | CHECK | BUILD BIN | ||||||
| BiGGR 1.16.0 Anand K. Gavai
| malbec2 | Linux (Ubuntu 16.04.1 LTS) / x86_64 | OK | OK | OK | |||||||
| tokay2 | Windows Server 2012 R2 Standard / x64 | OK | OK | [ OK ] | OK | |||||||
| merida2 | OS X 10.11.6 El Capitan / x86_64 | OK | OK | OK | OK |
| Package: BiGGR |
| Version: 1.16.0 |
| Command: C:\Users\biocbuild\bbs-3.7-bioc\R\bin\R.exe --arch x64 CMD check --no-multiarch --install=check:BiGGR.install-out.txt --library=C:\Users\biocbuild\bbs-3.7-bioc\R\library --no-vignettes --timings BiGGR_1.16.0.tar.gz |
| StartedAt: 2018-10-17 00:41:40 -0400 (Wed, 17 Oct 2018) |
| EndedAt: 2018-10-17 00:46:55 -0400 (Wed, 17 Oct 2018) |
| EllapsedTime: 314.3 seconds |
| RetCode: 0 |
| Status: OK |
| CheckDir: BiGGR.Rcheck |
| Warnings: 0 |
##############################################################################
##############################################################################
###
### Running command:
###
### C:\Users\biocbuild\bbs-3.7-bioc\R\bin\R.exe --arch x64 CMD check --no-multiarch --install=check:BiGGR.install-out.txt --library=C:\Users\biocbuild\bbs-3.7-bioc\R\library --no-vignettes --timings BiGGR_1.16.0.tar.gz
###
##############################################################################
##############################################################################
* using log directory 'C:/Users/biocbuild/bbs-3.7-bioc/meat/BiGGR.Rcheck'
* using R version 3.5.1 Patched (2018-07-24 r75005)
* using platform: x86_64-w64-mingw32 (64-bit)
* using session charset: ISO8859-1
* using option '--no-vignettes'
* checking for file 'BiGGR/DESCRIPTION' ... OK
* checking extension type ... Package
* this is package 'BiGGR' version '1.16.0'
* checking package namespace information ... OK
* checking package dependencies ... OK
* checking if this is a source package ... OK
* checking if there is a namespace ... OK
* checking for hidden files and directories ... NOTE
Found the following hidden files and directories:
.BBSoptions
These were most likely included in error. See section 'Package
structure' in the 'Writing R Extensions' manual.
* checking for portable file names ... OK
* checking whether package 'BiGGR' can be installed ... OK
* checking installed package size ... OK
* checking package directory ... OK
* checking 'build' directory ... OK
* checking DESCRIPTION meta-information ... OK
* checking top-level files ... OK
* checking for left-over files ... OK
* checking index information ... OK
* checking package subdirectories ... OK
* checking R files for non-ASCII characters ... OK
* checking R files for syntax errors ... OK
* checking whether the package can be loaded ... OK
* checking whether the package can be loaded with stated dependencies ... OK
* checking whether the package can be unloaded cleanly ... OK
* checking whether the namespace can be loaded with stated dependencies ... OK
* checking whether the namespace can be unloaded cleanly ... OK
* checking dependencies in R code ... NOTE
Package in Depends field not imported from: 'stringr'
These packages need to be imported from (in the NAMESPACE file)
for when this namespace is loaded but not attached.
* checking S3 generic/method consistency ... OK
* checking replacement functions ... OK
* checking foreign function calls ... OK
* checking R code for possible problems ... NOTE
.buildSubModel: no visible global function definition for 'new'
buildSBMLFromBiGG: no visible global function definition for
'read.delim'
buildSBMLFromBiGG : <anonymous>: no visible global function definition
for 'new'
buildSBMLFromBiGG: no visible global function definition for 'new'
createLIMFromSBML: no visible global function definition for 'hasArg'
gprMapping: no visible global function definition for 'str_detect'
gprMapping: no visible global function definition for 'na.omit'
gprMappingAvg: no visible global function definition for 'na.omit'
sampleFluxEnsemble: no visible global function definition for 'Xsample'
sbml2hyperdraw: no visible global function definition for 'hasArg'
sbml2hyperdraw: no visible global function definition for 'graphLayout'
sbml2hyperdraw: no visible global function definition for
'nodeDataDefaults<-'
sbml2hyperdraw: no visible global function definition for
'edgeDataDefaults<-'
sbml2hyperdraw: no visible global function definition for
'graphDataDefaults<-'
sbml2hyperdraw : <anonymous>: no visible global function definition for
'edgeData<-'
Undefined global functions or variables:
Xsample edgeData<- edgeDataDefaults<- graphDataDefaults<- graphLayout
hasArg na.omit new nodeDataDefaults<- read.delim str_detect
Consider adding
importFrom("methods", "hasArg", "new")
importFrom("stats", "na.omit")
importFrom("utils", "read.delim")
to your NAMESPACE file (and ensure that your DESCRIPTION Imports field
contains 'methods').
* checking Rd files ... OK
* checking Rd metadata ... OK
* checking Rd cross-references ... OK
* checking for missing documentation entries ... OK
* checking for code/documentation mismatches ... OK
* checking Rd \usage sections ... OK
* checking Rd contents ... OK
* checking for unstated dependencies in examples ... OK
* checking contents of 'data' directory ... OK
* checking data for non-ASCII characters ... OK
* checking data for ASCII and uncompressed saves ... OK
* checking files in 'vignettes' ... OK
* checking examples ... OK
Examples with CPU or elapsed time > 5s
user system elapsed
gprMapping 173.74 0.00 174.23
gprMappingAvg 16.68 0.03 16.72
buildSBMLFromGenes 5.71 0.22 5.94
* checking for unstated dependencies in vignettes ... OK
* checking package vignettes in 'inst/doc' ... OK
* checking running R code from vignettes ... SKIPPED
* checking re-building of vignette outputs ... SKIPPED
* checking PDF version of manual ... OK
* DONE
Status: 3 NOTEs
See
'C:/Users/biocbuild/bbs-3.7-bioc/meat/BiGGR.Rcheck/00check.log'
for details.
BiGGR.Rcheck/00install.out
##############################################################################
##############################################################################
###
### Running command:
###
### C:\Users\biocbuild\bbs-3.7-bioc\R\bin\R.exe --arch x64 CMD INSTALL --no-multiarch BiGGR
###
##############################################################################
##############################################################################
* installing to library 'C:/Users/biocbuild/bbs-3.7-bioc/R/library'
* installing *source* package 'BiGGR' ...
** R
** data
** inst
** byte-compile and prepare package for lazy loading
** help
*** installing help indices
converting help for package 'BiGGR'
finding HTML links ... done
BiGGR-internal html
BiGGR-package html
E.coli_iAF1260 html
E.coli_iJR904 html
E.coli_textbook html
Glycolysis html
H.pylori_ilT341 html
H.sapiens_Recon1 html
M.barkeri_iAF692 html
M.tuberculosis_iNJ661 html
P.putida_iJN746 html
Recon2 html
S.aureus_iSB619 html
S.cerevisiae_iND750 html
buildSBMLFromBiGG html
buildSBMLFromGenes html
finding level-2 HTML links ... done
buildSBMLFromPathways html
buildSBMLFromReactionIDs html
createLIMFromBiGG html
createLIMFromSBML html
extractGeneAssociations html
extractPathways html
getPathwaysForSBML html
getRates html
gprMapping html
gprMappingAvg html
lying.tunell.data html
rmvSpliceVariant html
sampleFluxEnsemble html
sbml2hyperdraw html
** building package indices
** installing vignettes
** testing if installed package can be loaded
* DONE (BiGGR)
Making 'packages.html' ... done
In R CMD INSTALL
BiGGR.Rcheck/BiGGR-Ex.timings
| name | user | system | elapsed | |
| BiGGR-package | 3.67 | 0.11 | 3.78 | |
| E.coli_iAF1260 | 1.48 | 0.15 | 1.64 | |
| E.coli_iJR904 | 0.44 | 0.02 | 0.45 | |
| E.coli_textbook | 0.03 | 0.06 | 0.10 | |
| H.pylori_ilT341 | 0.28 | 0.03 | 0.31 | |
| H.sapiens_Recon1 | 1.67 | 0.06 | 1.73 | |
| M.barkeri_iAF692 | 0.30 | 0.11 | 0.41 | |
| M.tuberculosis_iNJ661 | 0.44 | 0.03 | 0.46 | |
| P.putida_iJN746 | 0.39 | 0.08 | 0.47 | |
| Recon2 | 1.71 | 0.11 | 1.83 | |
| S.aureus_iSB619 | 0.24 | 0.06 | 0.30 | |
| S.cerevisiae_iND750 | 0.39 | 0.08 | 0.47 | |
| buildSBMLFromBiGG | 0.12 | 0.01 | 0.14 | |
| buildSBMLFromGenes | 5.71 | 0.22 | 5.94 | |
| buildSBMLFromPathways | 3.87 | 0.11 | 3.98 | |
| buildSBMLFromReactionIDs | 1.69 | 0.02 | 1.70 | |
| createLIMFromBiGG | 0.09 | 0.00 | 0.09 | |
| createLIMFromSBML | 1.17 | 0.01 | 1.19 | |
| extractGeneAssociations | 1.85 | 0.00 | 1.84 | |
| extractPathways | 1.78 | 0.00 | 1.78 | |
| getPathwaysForSBML | 2.36 | 0.00 | 2.36 | |
| getRates | 0.01 | 0.00 | 0.02 | |
| gprMapping | 173.74 | 0.00 | 174.23 | |
| gprMappingAvg | 16.68 | 0.03 | 16.72 | |
| lying.tunell.data | 0.00 | 0.02 | 0.02 | |
| rmvSpliceVariant | 2.16 | 0.00 | 2.15 | |
| sampleFluxEnsemble | 2.94 | 0.31 | 3.25 | |
| sbml2hyperdraw | 2.67 | 0.02 | 2.74 | |