| Back to Multiple platform build/check report for BioC 3.7 |
|
This page was generated on 2018-10-17 08:37:38 -0400 (Wed, 17 Oct 2018).
| Package 118/1561 | Hostname | OS / Arch | INSTALL | BUILD | CHECK | BUILD BIN | ||||||
| BiGGR 1.16.0 Anand K. Gavai
| malbec2 | Linux (Ubuntu 16.04.1 LTS) / x86_64 | OK | OK | OK | |||||||
| tokay2 | Windows Server 2012 R2 Standard / x64 | OK | OK | OK | [ OK ] | |||||||
| merida2 | OS X 10.11.6 El Capitan / x86_64 | OK | OK | OK | OK |
| Package: BiGGR |
| Version: 1.16.0 |
| Command: rm -rf BiGGR.buildbin-libdir && mkdir BiGGR.buildbin-libdir && C:\Users\biocbuild\bbs-3.7-bioc\R\bin\R.exe --arch x64 CMD INSTALL --no-multiarch --build --library=BiGGR.buildbin-libdir BiGGR_1.16.0.tar.gz |
| StartedAt: 2018-10-17 06:04:31 -0400 (Wed, 17 Oct 2018) |
| EndedAt: 2018-10-17 06:04:40 -0400 (Wed, 17 Oct 2018) |
| EllapsedTime: 9.0 seconds |
| RetCode: 0 |
| Status: OK |
| PackageFile: BiGGR_1.16.0.zip |
| PackageFileSize: 4.354 MiB |
##############################################################################
##############################################################################
###
### Running command:
###
### rm -rf BiGGR.buildbin-libdir && mkdir BiGGR.buildbin-libdir && C:\Users\biocbuild\bbs-3.7-bioc\R\bin\R.exe --arch x64 CMD INSTALL --no-multiarch --build --library=BiGGR.buildbin-libdir BiGGR_1.16.0.tar.gz
###
##############################################################################
##############################################################################
* installing *source* package 'BiGGR' ...
** R
** data
** inst
** byte-compile and prepare package for lazy loading
** help
*** installing help indices
converting help for package 'BiGGR'
finding HTML links ... done
BiGGR-internal html
BiGGR-package html
E.coli_iAF1260 html
E.coli_iJR904 html
E.coli_textbook html
Glycolysis html
H.pylori_ilT341 html
H.sapiens_Recon1 html
M.barkeri_iAF692 html
M.tuberculosis_iNJ661 html
P.putida_iJN746 html
Recon2 html
S.aureus_iSB619 html
S.cerevisiae_iND750 html
buildSBMLFromBiGG html
buildSBMLFromGenes html
finding level-2 HTML links ... done
buildSBMLFromPathways html
buildSBMLFromReactionIDs html
createLIMFromBiGG html
createLIMFromSBML html
extractGeneAssociations html
extractPathways html
getPathwaysForSBML html
getRates html
gprMapping html
gprMappingAvg html
lying.tunell.data html
rmvSpliceVariant html
sampleFluxEnsemble html
sbml2hyperdraw html
** building package indices
** installing vignettes
** testing if installed package can be loaded
* MD5 sums
packaged installation of 'BiGGR' as BiGGR_1.16.0.zip
* DONE (BiGGR)
In R CMD INSTALL