| Back to Multiple platform build/check report for BioC 3.7 |
|
This page was generated on 2018-10-01 10:26:39 -0400 (Mon, 01 Oct 2018).
| Package 117/1561 | Hostname | OS / Arch | INSTALL | BUILD | CHECK | BUILD BIN | ||||||
| BiFET 1.0.1 Ahrim Youn
| malbec2 | Linux (Ubuntu 16.04.1 LTS) / x86_64 | OK | OK | OK | |||||||
| tokay2 | Windows Server 2012 R2 Standard / x64 | OK | OK | OK | [ OK ] | |||||||
| merida2 | OS X 10.11.6 El Capitan / x86_64 | OK | OK | OK | OK |
| Package: BiFET |
| Version: 1.0.1 |
| Command: rm -rf BiFET.buildbin-libdir && mkdir BiFET.buildbin-libdir && C:\Users\biocbuild\bbs-3.7-bioc\R\bin\R.exe CMD INSTALL --merge-multiarch --build --library=BiFET.buildbin-libdir BiFET_1.0.1.tar.gz |
| StartedAt: 2018-10-01 06:11:52 -0400 (Mon, 01 Oct 2018) |
| EndedAt: 2018-10-01 06:12:04 -0400 (Mon, 01 Oct 2018) |
| EllapsedTime: 12.1 seconds |
| RetCode: 0 |
| Status: OK |
| PackageFile: BiFET_1.0.1.zip |
| PackageFileSize: 754.7 KiB |
##############################################################################
##############################################################################
###
### Running command:
###
### rm -rf BiFET.buildbin-libdir && mkdir BiFET.buildbin-libdir && C:\Users\biocbuild\bbs-3.7-bioc\R\bin\R.exe CMD INSTALL --merge-multiarch --build --library=BiFET.buildbin-libdir BiFET_1.0.1.tar.gz
###
##############################################################################
##############################################################################
install for i386
* installing *source* package 'BiFET' ...
** R
** inst
** byte-compile and prepare package for lazy loading
** help
*** installing help indices
converting help for package 'BiFET'
finding HTML links ... done
calculate_enrich_p html
** building package indices
** installing vignettes
** testing if installed package can be loaded
In R CMD INSTALL
install for x64
* installing *source* package 'BiFET' ...
** testing if installed package can be loaded
* MD5 sums
packaged installation of 'BiFET' as BiFET_1.0.1.zip
* DONE (BiFET)
In R CMD INSTALL
In R CMD INSTALL