| Back to Multiple platform build/check report for BioC 3.7 |
|
This page was generated on 2018-10-01 10:41:22 -0400 (Mon, 01 Oct 2018).
| Package 117/1561 | Hostname | OS / Arch | INSTALL | BUILD | CHECK | BUILD BIN | ||||||
| BiFET 1.0.1 Ahrim Youn
| malbec2 | Linux (Ubuntu 16.04.1 LTS) / x86_64 | OK | OK | OK | |||||||
| tokay2 | Windows Server 2012 R2 Standard / x64 | OK | OK | OK | OK | |||||||
| merida2 | OS X 10.11.6 El Capitan / x86_64 | OK | OK | OK | [ OK ] |
| Package: BiFET |
| Version: 1.0.1 |
| Command: rm -rf BiFET.buildbin-libdir && mkdir BiFET.buildbin-libdir && /Users/biocbuild/BBS/utils/build-universal.sh BiFET_1.0.1.tar.gz /Library/Frameworks/R.framework/Versions/Current/Resources/bin/R BiFET.buildbin-libdir |
| StartedAt: 2018-10-01 05:36:26 -0400 (Mon, 01 Oct 2018) |
| EndedAt: 2018-10-01 05:37:07 -0400 (Mon, 01 Oct 2018) |
| EllapsedTime: 41.7 seconds |
| RetCode: 0 |
| Status: OK |
| PackageFile: BiFET_1.0.1.tgz |
| PackageFileSize: 747.3 KiB |
############################################################################## ############################################################################## ### ### Running command: ### ### rm -rf BiFET.buildbin-libdir && mkdir BiFET.buildbin-libdir && /Users/biocbuild/BBS/utils/build-universal.sh BiFET_1.0.1.tar.gz /Library/Frameworks/R.framework/Versions/Current/Resources/bin/R BiFET.buildbin-libdir ### ############################################################################## ############################################################################## >>>>>>> >>>>>>> INSTALLATION WITH 'R CMD INSTALL --preclean --no-multiarch --library=BiFET.buildbin-libdir BiFET_1.0.1.tar.gz' >>>>>>> * installing *source* package ‘BiFET’ ... ** R ** inst ** byte-compile and prepare package for lazy loading ** help *** installing help indices ** building package indices ** installing vignettes ** testing if installed package can be loaded * DONE (BiFET)