| Back to Multiple platform build/check report for BioC 3.6 | 
 | 
This page was generated on 2018-04-12 13:45:07 -0400 (Thu, 12 Apr 2018).
| Package 1471/1472 | Hostname | OS / Arch | INSTALL | BUILD | CHECK | BUILD BIN | ||||||
| zinbwave 1.0.0 Davide Risso 
 | malbec1 | Linux (Ubuntu 16.04.1 LTS) / x86_64 | OK | OK | OK |  | ||||||
| tokay1 | Windows Server 2012 R2 Standard / x64 | OK | OK | WARNINGS | OK |  | ||||||
| veracruz1 | OS X 10.11.6 El Capitan / x86_64 | OK | OK | [ OK ] | OK |  | 
| Package: zinbwave | 
| Version: 1.0.0 | 
| Command: /Library/Frameworks/R.framework/Versions/Current/Resources/bin/R CMD check --no-vignettes --timings zinbwave_1.0.0.tar.gz | 
| StartedAt: 2018-04-12 10:55:23 -0400 (Thu, 12 Apr 2018) | 
| EndedAt: 2018-04-12 10:58:47 -0400 (Thu, 12 Apr 2018) | 
| EllapsedTime: 203.9 seconds | 
| RetCode: 0 | 
| Status: OK | 
| CheckDir: zinbwave.Rcheck | 
| Warnings: 0 | 
############################################################################## ############################################################################## ### ### Running command: ### ### /Library/Frameworks/R.framework/Versions/Current/Resources/bin/R CMD check --no-vignettes --timings zinbwave_1.0.0.tar.gz ### ############################################################################## ############################################################################## * using log directory ‘/Users/biocbuild/bbs-3.6-bioc/meat/zinbwave.Rcheck’ * using R version 3.4.4 (2018-03-15) * using platform: x86_64-apple-darwin15.6.0 (64-bit) * using session charset: UTF-8 * using option ‘--no-vignettes’ * checking for file ‘zinbwave/DESCRIPTION’ ... OK * checking extension type ... Package * this is package ‘zinbwave’ version ‘1.0.0’ * checking package namespace information ... OK * checking package dependencies ... OK * checking if this is a source package ... OK * checking if there is a namespace ... OK * checking for hidden files and directories ... OK * checking for portable file names ... OK * checking for sufficient/correct file permissions ... OK * checking whether package ‘zinbwave’ can be installed ... OK * checking installed package size ... OK * checking package directory ... OK * checking ‘build’ directory ... OK * checking DESCRIPTION meta-information ... OK * checking top-level files ... OK * checking for left-over files ... OK * checking index information ... OK * checking package subdirectories ... OK * checking R files for non-ASCII characters ... OK * checking R files for syntax errors ... OK * checking whether the package can be loaded ... OK * checking whether the package can be loaded with stated dependencies ... OK * checking whether the package can be unloaded cleanly ... OK * checking whether the namespace can be loaded with stated dependencies ... OK * checking whether the namespace can be unloaded cleanly ... OK * checking dependencies in R code ... OK * checking S3 generic/method consistency ... OK * checking replacement functions ... OK * checking foreign function calls ... OK * checking R code for possible problems ... OK * checking Rd files ... OK * checking Rd metadata ... OK * checking Rd cross-references ... OK * checking for missing documentation entries ... OK * checking for code/documentation mismatches ... OK * checking Rd \usage sections ... OK * checking Rd contents ... OK * checking for unstated dependencies in examples ... OK * checking contents of ‘data’ directory ... OK * checking data for non-ASCII characters ... OK * checking data for ASCII and uncompressed saves ... OK * checking installed files from ‘inst/doc’ ... OK * checking files in ‘vignettes’ ... OK * checking examples ... OK * checking for unstated dependencies in ‘tests’ ... OK * checking tests ... Running ‘testthat.R’ OK * checking for unstated dependencies in vignettes ... OK * checking package vignettes in ‘inst/doc’ ... OK * checking running R code from vignettes ... SKIPPED * checking re-building of vignette outputs ... SKIPPED * checking PDF version of manual ... OK * DONE Status: OK
zinbwave.Rcheck/00install.out
* installing *source* package ‘zinbwave’ ... ** R ** data *** moving datasets to lazyload DB ** inst ** preparing package for lazy loading ** help *** installing help indices ** building package indices ** installing vignettes ** testing if installed package can be loaded * DONE (zinbwave)
zinbwave.Rcheck/tests/testthat.Rout
R version 3.4.4 (2018-03-15) -- "Someone to Lean On"
Copyright (C) 2018 The R Foundation for Statistical Computing
Platform: x86_64-apple-darwin15.6.0 (64-bit)
R is free software and comes with ABSOLUTELY NO WARRANTY.
You are welcome to redistribute it under certain conditions.
Type 'license()' or 'licence()' for distribution details.
R is a collaborative project with many contributors.
Type 'contributors()' for more information and
'citation()' on how to cite R or R packages in publications.
Type 'demo()' for some demos, 'help()' for on-line help, or
'help.start()' for an HTML browser interface to help.
Type 'q()' to quit R.
> library(testthat)
> library(zinbwave)
Loading required package: SummarizedExperiment
Loading required package: GenomicRanges
Loading required package: stats4
Loading required package: BiocGenerics
Loading required package: parallel
Attaching package: 'BiocGenerics'
The following objects are masked from 'package:parallel':
    clusterApply, clusterApplyLB, clusterCall, clusterEvalQ,
    clusterExport, clusterMap, parApply, parCapply, parLapply,
    parLapplyLB, parRapply, parSapply, parSapplyLB
The following objects are masked from 'package:stats':
    IQR, mad, sd, var, xtabs
The following objects are masked from 'package:base':
    Filter, Find, Map, Position, Reduce, anyDuplicated, append,
    as.data.frame, cbind, colMeans, colSums, colnames, do.call,
    duplicated, eval, evalq, get, grep, grepl, intersect, is.unsorted,
    lapply, lengths, mapply, match, mget, order, paste, pmax, pmax.int,
    pmin, pmin.int, rank, rbind, rowMeans, rowSums, rownames, sapply,
    setdiff, sort, table, tapply, union, unique, unsplit, which,
    which.max, which.min
Loading required package: S4Vectors
Attaching package: 'S4Vectors'
The following object is masked from 'package:base':
    expand.grid
Loading required package: IRanges
Loading required package: GenomeInfoDb
Loading required package: Biobase
Welcome to Bioconductor
    Vignettes contain introductory material; view with
    'browseVignettes()'. To cite Bioconductor, see
    'citation("Biobase")', and for packages 'citation("pkgname")'.
Loading required package: DelayedArray
Loading required package: matrixStats
Attaching package: 'matrixStats'
The following objects are masked from 'package:Biobase':
    anyMissing, rowMedians
Attaching package: 'DelayedArray'
The following objects are masked from 'package:matrixStats':
    colMaxs, colMins, colRanges, rowMaxs, rowMins, rowRanges
The following object is masked from 'package:base':
    apply
Loading required package: SingleCellExperiment
> 
> test_check("zinbwave")
   user  system elapsed 
  0.036   0.000   0.036 
   user  system elapsed 
  0.035   0.000   0.035 
   user  system elapsed 
  0.045   0.001   0.045 
   user  system elapsed 
  0.013   0.000   0.013 
══ testthat results  ═══════════════════════════════════════════════════════════
OK: 81 SKIPPED: 1 FAILED: 0
> 
> proc.time()
   user  system elapsed 
 20.224   0.652  20.990 
zinbwave.Rcheck/zinbwave-Ex.timings
| name | user | system | elapsed | |
| getAlpha_mu | 0.108 | 0.001 | 0.110 | |
| getAlpha_pi | 0.418 | 0.001 | 0.422 | |
| getBeta_mu | 0.002 | 0.000 | 0.003 | |
| getBeta_pi | 0.004 | 0.001 | 0.004 | |
| getEpsilon_W | 0.002 | 0.000 | 0.002 | |
| getEpsilon_alpha | 0.002 | 0.000 | 0.002 | |
| getEpsilon_beta_mu | 0.003 | 0.000 | 0.003 | |
| getEpsilon_beta_pi | 0.003 | 0.000 | 0.004 | |
| getEpsilon_gamma_mu | 0.002 | 0.000 | 0.002 | |
| getEpsilon_gamma_pi | 0.003 | 0.001 | 0.003 | |
| getEpsilon_zeta | 0.002 | 0.000 | 0.002 | |
| getGamma_mu | 0.003 | 0.000 | 0.003 | |
| getGamma_pi | 0.002 | 0.001 | 0.002 | |
| getLogMu | 0.003 | 0.000 | 0.003 | |
| getLogitPi | 0.002 | 0.000 | 0.003 | |
| getMu | 0.004 | 0.000 | 0.004 | |
| getPhi | 0.003 | 0.000 | 0.004 | |
| getPi | 0.002 | 0.001 | 0.002 | |
| getTheta | 0.003 | 0.000 | 0.002 | |
| getV_mu | 0.004 | 0.000 | 0.004 | |
| getV_pi | 0.005 | 0.000 | 0.004 | |
| getW | 0.003 | 0.000 | 0.003 | |
| getX_mu | 0.002 | 0.000 | 0.005 | |
| getX_pi | 0.002 | 0.000 | 0.002 | |
| getZeta | 0.002 | 0.000 | 0.002 | |
| loglik | 0.003 | 0.000 | 0.003 | |
| orthogonalizeTraceNorm | 0.002 | 0.001 | 0.003 | |
| penalty | 0.004 | 0.000 | 0.004 | |
| zinb.loglik | 0.001 | 0.000 | 0.002 | |
| zinb.loglik.dispersion | 0.001 | 0.001 | 0.001 | |
| zinbFit | 2.268 | 2.057 | 3.528 | |
| zinbInitialize | 0.211 | 0.240 | 0.793 | |
| zinbModel | 0.004 | 0.001 | 0.004 | |
| zinbOptimize | 0.245 | 0.364 | 1.152 | |
| zinbOptimizeDispersion | 0.185 | 0.232 | 0.719 | |
| zinbSim | 0.046 | 0.012 | 0.062 | |
| zinbwave | 0.640 | 0.369 | 1.701 | |