| Back to Multiple platform build/check report for BioC 3.6 |
|
This page was generated on 2018-04-12 13:45:07 -0400 (Thu, 12 Apr 2018).
| Package 1471/1472 | Hostname | OS / Arch | INSTALL | BUILD | CHECK | BUILD BIN | ||||||
| zinbwave 1.0.0 Davide Risso
| malbec1 | Linux (Ubuntu 16.04.1 LTS) / x86_64 | OK | OK | OK | |||||||
| tokay1 | Windows Server 2012 R2 Standard / x64 | OK | OK | WARNINGS | OK | |||||||
| veracruz1 | OS X 10.11.6 El Capitan / x86_64 | OK | OK | OK | [ OK ] |
| Package: zinbwave |
| Version: 1.0.0 |
| Command: rm -rf zinbwave.buildbin-libdir && mkdir zinbwave.buildbin-libdir && /Users/biocbuild/BBS/utils/build-universal.sh zinbwave_1.0.0.tar.gz /Library/Frameworks/R.framework/Versions/Current/Resources/bin/R zinbwave.buildbin-libdir |
| StartedAt: 2018-04-12 12:23:59 -0400 (Thu, 12 Apr 2018) |
| EndedAt: 2018-04-12 12:24:17 -0400 (Thu, 12 Apr 2018) |
| EllapsedTime: 18.5 seconds |
| RetCode: 0 |
| Status: OK |
| PackageFile: zinbwave_1.0.0.tgz |
| PackageFileSize: 809.8 KiB |
############################################################################## ############################################################################## ### ### Running command: ### ### rm -rf zinbwave.buildbin-libdir && mkdir zinbwave.buildbin-libdir && /Users/biocbuild/BBS/utils/build-universal.sh zinbwave_1.0.0.tar.gz /Library/Frameworks/R.framework/Versions/Current/Resources/bin/R zinbwave.buildbin-libdir ### ############################################################################## ############################################################################## >>>>>>> >>>>>>> INSTALLATION WITH 'R CMD INSTALL --preclean --no-multiarch --library=zinbwave.buildbin-libdir zinbwave_1.0.0.tar.gz' >>>>>>> * installing *source* package ‘zinbwave’ ... ** R ** data *** moving datasets to lazyload DB ** inst ** preparing package for lazy loading ** help *** installing help indices ** building package indices ** installing vignettes ** testing if installed package can be loaded * DONE (zinbwave)