| Back to Multiple platform build/check report for BioC 3.6 |
|
This page was generated on 2018-04-12 13:39:23 -0400 (Thu, 12 Apr 2018).
| Package 1303/1472 | Hostname | OS / Arch | INSTALL | BUILD | CHECK | BUILD BIN | ||||||
| simulatorZ 1.12.0 Yuqing Zhang
| malbec1 | Linux (Ubuntu 16.04.1 LTS) / x86_64 | OK | OK | OK | |||||||
| tokay1 | Windows Server 2012 R2 Standard / x64 | OK | OK | OK | OK | |||||||
| veracruz1 | OS X 10.11.6 El Capitan / x86_64 | [ OK ] | OK | OK | OK |
| Package: simulatorZ |
| Version: 1.12.0 |
| Command: /Library/Frameworks/R.framework/Versions/Current/Resources/bin/R CMD INSTALL simulatorZ |
| StartedAt: 2018-04-11 18:08:50 -0400 (Wed, 11 Apr 2018) |
| EndedAt: 2018-04-11 18:09:04 -0400 (Wed, 11 Apr 2018) |
| EllapsedTime: 13.8 seconds |
| RetCode: 0 |
| Status: OK |
##############################################################################
##############################################################################
###
### Running command:
###
### /Library/Frameworks/R.framework/Versions/Current/Resources/bin/R CMD INSTALL simulatorZ
###
##############################################################################
##############################################################################
* installing to library ‘/Library/Frameworks/R.framework/Versions/3.4/Resources/library’
* installing *source* package ‘simulatorZ’ ...
** libs
clang++ -I/Library/Frameworks/R.framework/Resources/include -DNDEBUG -I/usr/local/include -fPIC -Wall -g -O2 -c coxformatrices.cpp -o coxformatrices.o
coxformatrices.cpp:79:17: warning: suggest braces around initialization of subobject [-Wmissing-braces]
NULL
^˜˜˜
{ }
/usr/local/clang4/bin/../lib/clang/4.0.0/include/stddef.h:100:18: note: expanded from macro 'NULL'
# define NULL __null
^˜˜˜˜˜
1 warning generated.
clang++ -dynamiclib -Wl,-headerpad_max_install_names -undefined dynamic_lookup -single_module -multiply_defined suppress -L/Library/Frameworks/R.framework/Resources/lib -L/usr/local/lib -o simulatorZ.so coxformatrices.o -F/Library/Frameworks/R.framework/.. -framework R -Wl,-framework -Wl,CoreFoundation
installing to /Library/Frameworks/R.framework/Versions/3.4/Resources/library/simulatorZ/libs
** R
** inst
** preparing package for lazy loading
** help
*** installing help indices
** building package indices
** installing vignettes
** testing if installed package can be loaded
* DONE (simulatorZ)