| Back to Multiple platform build/check report for BioC 3.6 |
|
This page was generated on 2018-04-12 13:24:59 -0400 (Thu, 12 Apr 2018).
| Package 1303/1472 | Hostname | OS / Arch | INSTALL | BUILD | CHECK | BUILD BIN | ||||||
| simulatorZ 1.12.0 Yuqing Zhang
| malbec1 | Linux (Ubuntu 16.04.1 LTS) / x86_64 | OK | OK | OK | |||||||
| tokay1 | Windows Server 2012 R2 Standard / x64 | [ OK ] | OK | OK | OK | |||||||
| veracruz1 | OS X 10.11.6 El Capitan / x86_64 | OK | OK | OK | OK |
| Package: simulatorZ |
| Version: 1.12.0 |
| Command: rm -rf simulatorZ.buildbin-libdir && mkdir simulatorZ.buildbin-libdir && C:\cygwin\bin\curl.exe -O https://malbec1.bioconductor.org/BBS/3.6/bioc/src/contrib/simulatorZ_1.12.0.tar.gz && C:\Users\biocbuild\bbs-3.6-bioc\R\bin\R.exe CMD INSTALL --build --library=simulatorZ.buildbin-libdir --merge-multiarch simulatorZ_1.12.0.tar.gz && C:\Users\biocbuild\bbs-3.6-bioc\R\bin\R.exe CMD INSTALL simulatorZ_1.12.0.zip && rm simulatorZ_1.12.0.tar.gz simulatorZ_1.12.0.zip |
| StartedAt: 2018-04-11 18:40:33 -0400 (Wed, 11 Apr 2018) |
| EndedAt: 2018-04-11 18:41:24 -0400 (Wed, 11 Apr 2018) |
| EllapsedTime: 50.6 seconds |
| RetCode: 0 |
| Status: OK |
##############################################################################
##############################################################################
###
### Running command:
###
### rm -rf simulatorZ.buildbin-libdir && mkdir simulatorZ.buildbin-libdir && C:\cygwin\bin\curl.exe -O https://malbec1.bioconductor.org/BBS/3.6/bioc/src/contrib/simulatorZ_1.12.0.tar.gz && C:\Users\biocbuild\bbs-3.6-bioc\R\bin\R.exe CMD INSTALL --build --library=simulatorZ.buildbin-libdir --merge-multiarch simulatorZ_1.12.0.tar.gz && C:\Users\biocbuild\bbs-3.6-bioc\R\bin\R.exe CMD INSTALL simulatorZ_1.12.0.zip && rm simulatorZ_1.12.0.tar.gz simulatorZ_1.12.0.zip
###
##############################################################################
##############################################################################
% Total % Received % Xferd Average Speed Time Time Time Current
Dload Upload Total Spent Left Speed
0 0 0 0 0 0 0 0 --:--:-- --:--:-- --:--:-- 0
100 34852 100 34852 0 0 106k 0 --:--:-- --:--:-- --:--:-- 108k
install for i386
* installing *source* package 'simulatorZ' ...
** libs
C:/Rtools/mingw_32/bin/g++ -I"C:/Users/BIOCBU˜1/BBS-3˜1.6-B/R/include" -DNDEBUG -I"C:/local323/include" -O2 -Wall -mtune=generic -c coxformatrices.cpp -o coxformatrices.o
C:/Rtools/mingw_32/bin/g++ -shared -s -static-libgcc -o simulatorZ.dll tmp.def coxformatrices.o -LC:/local323/lib/i386 -LC:/local323/lib -LC:/Users/BIOCBU˜1/BBS-3˜1.6-B/R/bin/i386 -lR
installing to C:/Users/biocbuild/bbs-3.6-bioc/meat/simulatorZ.buildbin-libdir/simulatorZ/libs/i386
** R
** inst
** preparing package for lazy loading
** help
*** installing help indices
converting help for package 'simulatorZ'
finding HTML links ... done
cvSubsets html
funCV html
geneFilter html
getTrueModel html
masomenos html
plusMinus html
rowCoxTests html
simBootstrap html
simData html
simTime html
simulatorZ-package html
zmatrix html
** building package indices
** installing vignettes
** testing if installed package can be loaded
In R CMD INSTALL
install for x64
* installing *source* package 'simulatorZ' ...
** libs
C:/Rtools/mingw_64/bin/g++ -I"C:/Users/BIOCBU˜1/BBS-3˜1.6-B/R/include" -DNDEBUG -I"C:/local323/include" -O2 -Wall -mtune=generic -c coxformatrices.cpp -o coxformatrices.o
C:/Rtools/mingw_64/bin/g++ -shared -s -static-libgcc -o simulatorZ.dll tmp.def coxformatrices.o -LC:/local323/lib/x64 -LC:/local323/lib -LC:/Users/BIOCBU˜1/BBS-3˜1.6-B/R/bin/x64 -lR
installing to C:/Users/biocbuild/bbs-3.6-bioc/meat/simulatorZ.buildbin-libdir/simulatorZ/libs/x64
** testing if installed package can be loaded
* MD5 sums
packaged installation of 'simulatorZ' as simulatorZ_1.12.0.zip
* DONE (simulatorZ)
In R CMD INSTALL
In R CMD INSTALL
* installing to library 'C:/Users/biocbuild/bbs-3.6-bioc/R/library'
package 'simulatorZ' successfully unpacked and MD5 sums checked
In R CMD INSTALL