| Back to Multiple platform build/check report for BioC 3.6 |
|
This page was generated on 2018-04-12 13:41:00 -0400 (Thu, 12 Apr 2018).
| Package 1300/1472 | Hostname | OS / Arch | INSTALL | BUILD | CHECK | BUILD BIN | ||||||
| similaRpeak 1.10.0 Astrid Deschenes
| malbec1 | Linux (Ubuntu 16.04.1 LTS) / x86_64 | OK | OK | OK | |||||||
| tokay1 | Windows Server 2012 R2 Standard / x64 | OK | OK | OK | OK | |||||||
| veracruz1 | OS X 10.11.6 El Capitan / x86_64 | OK | OK | OK | [ OK ] |
| Package: similaRpeak |
| Version: 1.10.0 |
| Command: rm -rf similaRpeak.buildbin-libdir && mkdir similaRpeak.buildbin-libdir && /Users/biocbuild/BBS/utils/build-universal.sh similaRpeak_1.10.0.tar.gz /Library/Frameworks/R.framework/Versions/Current/Resources/bin/R similaRpeak.buildbin-libdir |
| StartedAt: 2018-04-12 12:16:00 -0400 (Thu, 12 Apr 2018) |
| EndedAt: 2018-04-12 12:16:13 -0400 (Thu, 12 Apr 2018) |
| EllapsedTime: 12.9 seconds |
| RetCode: 0 |
| Status: OK |
| PackageFile: similaRpeak_1.10.0.tgz |
| PackageFileSize: 2.515 MiB |
############################################################################## ############################################################################## ### ### Running command: ### ### rm -rf similaRpeak.buildbin-libdir && mkdir similaRpeak.buildbin-libdir && /Users/biocbuild/BBS/utils/build-universal.sh similaRpeak_1.10.0.tar.gz /Library/Frameworks/R.framework/Versions/Current/Resources/bin/R similaRpeak.buildbin-libdir ### ############################################################################## ############################################################################## >>>>>>> >>>>>>> INSTALLATION WITH 'R CMD INSTALL --preclean --no-multiarch --library=similaRpeak.buildbin-libdir similaRpeak_1.10.0.tar.gz' >>>>>>> * installing *source* package ‘similaRpeak’ ... ** R ** data ** inst ** preparing package for lazy loading ** help *** installing help indices ** building package indices ** installing vignettes ** testing if installed package can be loaded * DONE (similaRpeak)