| Back to Multiple platform build/check report for BioC 3.6 | 
 | 
This page was generated on 2018-04-12 13:26:17 -0400 (Thu, 12 Apr 2018).
| Package 1300/1472 | Hostname | OS / Arch | INSTALL | BUILD | CHECK | BUILD BIN | ||||||
| similaRpeak 1.10.0 Astrid Deschenes 
 | malbec1 | Linux (Ubuntu 16.04.1 LTS) / x86_64 | OK | OK | OK |  | ||||||
| tokay1 | Windows Server 2012 R2 Standard / x64 | [ OK ] | OK | OK | OK |  | ||||||
| veracruz1 | OS X 10.11.6 El Capitan / x86_64 | OK | OK | OK | OK |  | 
| Package: similaRpeak | 
| Version: 1.10.0 | 
| Command: rm -rf similaRpeak.buildbin-libdir && mkdir similaRpeak.buildbin-libdir && C:\cygwin\bin\curl.exe -O https://malbec1.bioconductor.org/BBS/3.6/bioc/src/contrib/similaRpeak_1.10.0.tar.gz && C:\Users\biocbuild\bbs-3.6-bioc\R\bin\R.exe CMD INSTALL --build --library=similaRpeak.buildbin-libdir --merge-multiarch similaRpeak_1.10.0.tar.gz && C:\Users\biocbuild\bbs-3.6-bioc\R\bin\R.exe CMD INSTALL similaRpeak_1.10.0.zip && rm similaRpeak_1.10.0.tar.gz similaRpeak_1.10.0.zip | 
| StartedAt: 2018-04-11 18:36:12 -0400 (Wed, 11 Apr 2018) | 
| EndedAt: 2018-04-11 18:37:03 -0400 (Wed, 11 Apr 2018) | 
| EllapsedTime: 51.9 seconds | 
| RetCode: 0 | 
| Status: OK | 
##############################################################################
##############################################################################
###
### Running command:
###
###   rm -rf similaRpeak.buildbin-libdir && mkdir similaRpeak.buildbin-libdir  && C:\cygwin\bin\curl.exe -O https://malbec1.bioconductor.org/BBS/3.6/bioc/src/contrib/similaRpeak_1.10.0.tar.gz && C:\Users\biocbuild\bbs-3.6-bioc\R\bin\R.exe CMD INSTALL --build --library=similaRpeak.buildbin-libdir --merge-multiarch similaRpeak_1.10.0.tar.gz && C:\Users\biocbuild\bbs-3.6-bioc\R\bin\R.exe CMD INSTALL similaRpeak_1.10.0.zip  && rm similaRpeak_1.10.0.tar.gz similaRpeak_1.10.0.zip
###
##############################################################################
##############################################################################
  % Total    % Received % Xferd  Average Speed   Time    Time     Time  Current
                                 Dload  Upload   Total   Spent    Left  Speed
  0     0    0     0    0     0      0      0 --:--:-- --:--:-- --:--:--     0
100  221k  100  221k    0     0  8564k      0 --:--:-- --:--:-- --:--:--  9.8M
install for i386
* installing *source* package 'similaRpeak' ...
** R
** data
** inst
** preparing package for lazy loading
** help
*** installing help indices
  converting help for package 'similaRpeak'
    finding HTML links ... done
    DiffPosMax                              html  
    Metric                                  html  
    MetricFactory                           html  
    RatioArea                               html  
    RatioIntersect                          html  
    RatioMaxMax                             html  
    RatioNormalizedIntersect                html  
    SpearmanCorrelation                     html  
    chr7Profiles                            html  
    demoProfiles                            html  
    diffPosMaxMethod                        html  
    ratioAreaMethod                         html  
    ratioIntersectMethod                    html  
    ratioMaxMaxMethod                       html  
    similaRpeak-package                     html  
    similarity                              html  
    spearmanCorrMethod                      html  
** building package indices
** installing vignettes
** testing if installed package can be loaded
In R CMD INSTALL
install for x64
* installing *source* package 'similaRpeak' ...
** testing if installed package can be loaded
* MD5 sums
packaged installation of 'similaRpeak' as similaRpeak_1.10.0.zip
* DONE (similaRpeak)
In R CMD INSTALL
In R CMD INSTALL
* installing to library 'C:/Users/biocbuild/bbs-3.6-bioc/R/library'
package 'similaRpeak' successfully unpacked and MD5 sums checked
In R CMD INSTALL