| Back to Multiple platform build/check report for BioC 3.6 |
|
This page was generated on 2018-04-12 13:31:09 -0400 (Thu, 12 Apr 2018).
| Package 1292/1472 | Hostname | OS / Arch | INSTALL | BUILD | CHECK | BUILD BIN | ||||||
| siggenes 1.52.0 Holger Schwender
| malbec1 | Linux (Ubuntu 16.04.1 LTS) / x86_64 | OK | OK | OK | |||||||
| tokay1 | Windows Server 2012 R2 Standard / x64 | OK | OK | WARNINGS | OK | |||||||
| veracruz1 | OS X 10.11.6 El Capitan / x86_64 | OK | OK | OK | [ OK ] |
| Package: siggenes |
| Version: 1.52.0 |
| Command: rm -rf siggenes.buildbin-libdir && mkdir siggenes.buildbin-libdir && /Users/biocbuild/BBS/utils/build-universal.sh siggenes_1.52.0.tar.gz /Library/Frameworks/R.framework/Versions/Current/Resources/bin/R siggenes.buildbin-libdir |
| StartedAt: 2018-04-12 12:15:37 -0400 (Thu, 12 Apr 2018) |
| EndedAt: 2018-04-12 12:15:47 -0400 (Thu, 12 Apr 2018) |
| EllapsedTime: 9.2 seconds |
| RetCode: 0 |
| Status: OK |
| PackageFile: siggenes_1.52.0.tgz |
| PackageFileSize: 652.9 KiB |
############################################################################## ############################################################################## ### ### Running command: ### ### rm -rf siggenes.buildbin-libdir && mkdir siggenes.buildbin-libdir && /Users/biocbuild/BBS/utils/build-universal.sh siggenes_1.52.0.tar.gz /Library/Frameworks/R.framework/Versions/Current/Resources/bin/R siggenes.buildbin-libdir ### ############################################################################## ############################################################################## >>>>>>> >>>>>>> INSTALLATION WITH 'R CMD INSTALL --preclean --no-multiarch --library=siggenes.buildbin-libdir siggenes_1.52.0.tar.gz' >>>>>>> * installing *source* package ‘siggenes’ ... ** R ** inst ** preparing package for lazy loading ** help *** installing help indices ** building package indices ** installing vignettes ** testing if installed package can be loaded * DONE (siggenes)