| Back to Multiple platform build/check report for BioC 3.6 |
|
This page was generated on 2018-04-12 13:06:58 -0400 (Thu, 12 Apr 2018).
| Package 1292/1472 | Hostname | OS / Arch | INSTALL | BUILD | CHECK | BUILD BIN | ||||||
| siggenes 1.52.0 Holger Schwender
| malbec1 | Linux (Ubuntu 16.04.1 LTS) / x86_64 | [ OK ] | OK | OK | |||||||
| tokay1 | Windows Server 2012 R2 Standard / x64 | OK | OK | WARNINGS | OK | |||||||
| veracruz1 | OS X 10.11.6 El Capitan / x86_64 | OK | OK | OK | OK |
| Package: siggenes |
| Version: 1.52.0 |
| Command: /home/biocbuild/bbs-3.6-bioc/R/bin/R CMD INSTALL siggenes |
| StartedAt: 2018-04-11 18:00:03 -0400 (Wed, 11 Apr 2018) |
| EndedAt: 2018-04-11 18:00:09 -0400 (Wed, 11 Apr 2018) |
| EllapsedTime: 5.6 seconds |
| RetCode: 0 |
| Status: OK |
############################################################################## ############################################################################## ### ### Running command: ### ### /home/biocbuild/bbs-3.6-bioc/R/bin/R CMD INSTALL siggenes ### ############################################################################## ############################################################################## * installing to library ‘/home/biocbuild/bbs-3.6-bioc/R/library’ * installing *source* package ‘siggenes’ ... ** R ** preparing package for lazy loading ** help *** installing help indices ** building package indices ** installing vignettes ** testing if installed package can be loaded * DONE (siggenes)