| Back to Multiple platform build/check report for BioC 3.6 |
|
This page was generated on 2018-04-12 13:38:09 -0400 (Thu, 12 Apr 2018).
| Package 1245/1472 | Hostname | OS / Arch | INSTALL | BUILD | CHECK | BUILD BIN | ||||||
| sangerseqR 1.14.0 Jonathon Hill
| malbec1 | Linux (Ubuntu 16.04.1 LTS) / x86_64 | OK | OK | OK | |||||||
| tokay1 | Windows Server 2012 R2 Standard / x64 | OK | OK | WARNINGS | OK | |||||||
| veracruz1 | OS X 10.11.6 El Capitan / x86_64 | OK | OK | [ OK ] | OK |
| Package: sangerseqR |
| Version: 1.14.0 |
| Command: /Library/Frameworks/R.framework/Versions/Current/Resources/bin/R CMD check --no-vignettes --timings sangerseqR_1.14.0.tar.gz |
| StartedAt: 2018-04-12 09:14:06 -0400 (Thu, 12 Apr 2018) |
| EndedAt: 2018-04-12 09:16:07 -0400 (Thu, 12 Apr 2018) |
| EllapsedTime: 120.9 seconds |
| RetCode: 0 |
| Status: OK |
| CheckDir: sangerseqR.Rcheck |
| Warnings: 0 |
##############################################################################
##############################################################################
###
### Running command:
###
### /Library/Frameworks/R.framework/Versions/Current/Resources/bin/R CMD check --no-vignettes --timings sangerseqR_1.14.0.tar.gz
###
##############################################################################
##############################################################################
* using log directory ‘/Users/biocbuild/bbs-3.6-bioc/meat/sangerseqR.Rcheck’
* using R version 3.4.4 (2018-03-15)
* using platform: x86_64-apple-darwin15.6.0 (64-bit)
* using session charset: UTF-8
* using option ‘--no-vignettes’
* checking for file ‘sangerseqR/DESCRIPTION’ ... OK
* checking extension type ... Package
* this is package ‘sangerseqR’ version ‘1.14.0’
* checking package namespace information ... OK
* checking package dependencies ... OK
* checking if this is a source package ... OK
* checking if there is a namespace ... OK
* checking for hidden files and directories ... OK
* checking for portable file names ... OK
* checking for sufficient/correct file permissions ... OK
* checking whether package ‘sangerseqR’ can be installed ... OK
* checking installed package size ... OK
* checking package directory ... OK
* checking ‘build’ directory ... OK
* checking DESCRIPTION meta-information ... OK
* checking top-level files ... OK
* checking for left-over files ... OK
* checking index information ... OK
* checking package subdirectories ... OK
* checking R files for non-ASCII characters ... OK
* checking R files for syntax errors ... OK
* checking whether the package can be loaded ... OK
* checking whether the package can be loaded with stated dependencies ... OK
* checking whether the package can be unloaded cleanly ... OK
* checking whether the namespace can be loaded with stated dependencies ... OK
* checking whether the namespace can be unloaded cleanly ... OK
* checking dependencies in R code ... OK
* checking S3 generic/method consistency ... OK
* checking replacement functions ... OK
* checking foreign function calls ... OK
* checking R code for possible problems ... NOTE
chromatogram,sangerseq: no visible global function definition for ‘par’
chromatogram,sangerseq: no visible global function definition for
‘quantile’
chromatogram,sangerseq: no visible global function definition for ‘IQR’
chromatogram,sangerseq: no visible global function definition for ‘pdf’
chromatogram,sangerseq: no visible global function definition for
‘plot’
chromatogram,sangerseq: no visible global function definition for
‘rect’
chromatogram,sangerseq: no visible global function definition for
‘lines’
chromatogram,sangerseq: no visible global function definition for
‘mtext’
chromatogram,sangerseq: no visible global function definition for
‘axis’
chromatogram,sangerseq: no visible global function definition for
‘dev.off’
Undefined global functions or variables:
IQR axis dev.off lines mtext par pdf plot quantile rect
Consider adding
importFrom("grDevices", "dev.off", "pdf")
importFrom("graphics", "axis", "lines", "mtext", "par", "plot", "rect")
importFrom("stats", "IQR", "quantile")
to your NAMESPACE file.
* checking Rd files ... OK
* checking Rd metadata ... OK
* checking Rd cross-references ... OK
* checking for missing documentation entries ... OK
* checking for code/documentation mismatches ... OK
* checking Rd \usage sections ... OK
* checking Rd contents ... OK
* checking for unstated dependencies in examples ... OK
* checking sizes of PDF files under ‘inst/doc’ ... OK
* checking installed files from ‘inst/doc’ ... OK
* checking files in ‘vignettes’ ... OK
* checking examples ... OK
Examples with CPU or elapsed time > 5s
user system elapsed
setAllelePhase 14.226 0.098 15.087
chromatogram 12.643 0.070 13.186
makeBaseCalls 11.539 0.052 11.909
* checking for unstated dependencies in ‘tests’ ... OK
* checking tests ...
Running ‘runTests.R’
OK
* checking for unstated dependencies in vignettes ... OK
* checking package vignettes in ‘inst/doc’ ... OK
* checking running R code from vignettes ... SKIPPED
* checking re-building of vignette outputs ... SKIPPED
* checking PDF version of manual ... OK
* DONE
Status: 1 NOTE
See
‘/Users/biocbuild/bbs-3.6-bioc/meat/sangerseqR.Rcheck/00check.log’
for details.
sangerseqR.Rcheck/00install.out
* installing *source* package ‘sangerseqR’ ... ** R ** inst ** preparing package for lazy loading ** help *** installing help indices ** building package indices ** installing vignettes ** testing if installed package can be loaded * DONE (sangerseqR)
sangerseqR.Rcheck/tests/runTests.Rout
R version 3.4.4 (2018-03-15) -- "Someone to Lean On"
Copyright (C) 2018 The R Foundation for Statistical Computing
Platform: x86_64-apple-darwin15.6.0 (64-bit)
R is free software and comes with ABSOLUTELY NO WARRANTY.
You are welcome to redistribute it under certain conditions.
Type 'license()' or 'licence()' for distribution details.
R is a collaborative project with many contributors.
Type 'contributors()' for more information and
'citation()' on how to cite R or R packages in publications.
Type 'demo()' for some demos, 'help()' for on-line help, or
'help.start()' for an HTML browser interface to help.
Type 'q()' to quit R.
> BiocGenerics:::testPackage("sangerseqR")
Attaching package: 'BiocGenerics'
The following objects are masked from 'package:parallel':
clusterApply, clusterApplyLB, clusterCall, clusterEvalQ,
clusterExport, clusterMap, parApply, parCapply, parLapply,
parLapplyLB, parRapply, parSapply, parSapplyLB
The following objects are masked from 'package:stats':
IQR, mad, sd, var, xtabs
The following objects are masked from 'package:base':
Filter, Find, Map, Position, Reduce, anyDuplicated, append,
as.data.frame, cbind, colMeans, colSums, colnames, do.call,
duplicated, eval, evalq, get, grep, grepl, intersect, is.unsorted,
lapply, lengths, mapply, match, mget, order, paste, pmax, pmax.int,
pmin, pmin.int, rank, rbind, rowMeans, rowSums, rownames, sapply,
setdiff, sort, table, tapply, union, unique, unsplit, which,
which.max, which.min
Attaching package: 'S4Vectors'
The following object is masked from 'package:base':
expand.grid
Attaching package: 'Biostrings'
The following object is masked from 'package:base':
strsplit
RUNIT TEST PROTOCOL -- Thu Apr 12 09:16:02 2018
***********************************************
Number of test functions: 1
Number of errors: 0
Number of failures: 0
1 Test Suite :
sangerseqR RUnit Tests - 1 test function, 0 errors, 0 failures
Number of test functions: 1
Number of errors: 0
Number of failures: 0
>
> proc.time()
user system elapsed
3.434 0.148 3.582
sangerseqR.Rcheck/sangerseqR-Ex.timings
| name | user | system | elapsed | |
| PolyPeakParser | 0 | 0 | 0 | |
| abif-class | 0.271 | 0.016 | 0.292 | |
| chromatogram | 12.643 | 0.070 | 13.186 | |
| makeBaseCalls | 11.539 | 0.052 | 11.909 | |
| read.abif | 0.133 | 0.004 | 0.140 | |
| read.scf | 0.138 | 0.002 | 0.141 | |
| readsangerseq | 0.253 | 0.006 | 0.288 | |
| sangerseq-class | 0.267 | 0.004 | 0.280 | |
| sangerseqAccessors | 0.058 | 0.001 | 0.059 | |
| scf-class | 0.055 | 0.002 | 0.059 | |
| setAllelePhase | 14.226 | 0.098 | 15.087 | |