| Back to Multiple platform build/check report for BioC 3.6 |
|
This page was generated on 2018-04-12 13:41:17 -0400 (Thu, 12 Apr 2018).
| Package 1205/1472 | Hostname | OS / Arch | INSTALL | BUILD | CHECK | BUILD BIN | ||||||
| ropls 1.10.0 Etienne A. Thevenot
| malbec1 | Linux (Ubuntu 16.04.1 LTS) / x86_64 | OK | OK | OK | |||||||
| tokay1 | Windows Server 2012 R2 Standard / x64 | OK | OK | OK | OK | |||||||
| veracruz1 | OS X 10.11.6 El Capitan / x86_64 | OK | OK | OK | [ OK ] |
| Package: ropls |
| Version: 1.10.0 |
| Command: rm -rf ropls.buildbin-libdir && mkdir ropls.buildbin-libdir && /Users/biocbuild/BBS/utils/build-universal.sh ropls_1.10.0.tar.gz /Library/Frameworks/R.framework/Versions/Current/Resources/bin/R ropls.buildbin-libdir |
| StartedAt: 2018-04-12 12:10:26 -0400 (Thu, 12 Apr 2018) |
| EndedAt: 2018-04-12 12:10:28 -0400 (Thu, 12 Apr 2018) |
| EllapsedTime: 2.8 seconds |
| RetCode: 0 |
| Status: OK |
| PackageFile: ropls_1.10.0.tgz |
| PackageFileSize: 1.168 MiB |
############################################################################## ############################################################################## ### ### Running command: ### ### rm -rf ropls.buildbin-libdir && mkdir ropls.buildbin-libdir && /Users/biocbuild/BBS/utils/build-universal.sh ropls_1.10.0.tar.gz /Library/Frameworks/R.framework/Versions/Current/Resources/bin/R ropls.buildbin-libdir ### ############################################################################## ############################################################################## >>>>>>> >>>>>>> INSTALLATION WITH 'R CMD INSTALL --preclean --no-multiarch --library=ropls.buildbin-libdir ropls_1.10.0.tar.gz' >>>>>>> * installing *source* package ‘ropls’ ... ** R ** data ** inst ** preparing package for lazy loading ** help *** installing help indices ** building package indices ** installing vignettes ** testing if installed package can be loaded * DONE (ropls)