| Back to Multiple platform build/check report for BioC 3.6 |
|
This page was generated on 2018-04-12 13:26:34 -0400 (Thu, 12 Apr 2018).
| Package 1205/1472 | Hostname | OS / Arch | INSTALL | BUILD | CHECK | BUILD BIN | ||||||
| ropls 1.10.0 Etienne A. Thevenot
| malbec1 | Linux (Ubuntu 16.04.1 LTS) / x86_64 | OK | OK | OK | |||||||
| tokay1 | Windows Server 2012 R2 Standard / x64 | [ OK ] | OK | OK | OK | |||||||
| veracruz1 | OS X 10.11.6 El Capitan / x86_64 | OK | OK | OK | OK |
| Package: ropls |
| Version: 1.10.0 |
| Command: rm -rf ropls.buildbin-libdir && mkdir ropls.buildbin-libdir && C:\cygwin\bin\curl.exe -O https://malbec1.bioconductor.org/BBS/3.6/bioc/src/contrib/ropls_1.10.0.tar.gz && C:\Users\biocbuild\bbs-3.6-bioc\R\bin\R.exe CMD INSTALL --build --library=ropls.buildbin-libdir --merge-multiarch ropls_1.10.0.tar.gz && C:\Users\biocbuild\bbs-3.6-bioc\R\bin\R.exe CMD INSTALL ropls_1.10.0.zip && rm ropls_1.10.0.tar.gz ropls_1.10.0.zip |
| StartedAt: 2018-04-11 18:23:32 -0400 (Wed, 11 Apr 2018) |
| EndedAt: 2018-04-11 18:24:44 -0400 (Wed, 11 Apr 2018) |
| EllapsedTime: 71.1 seconds |
| RetCode: 0 |
| Status: OK |
##############################################################################
##############################################################################
###
### Running command:
###
### rm -rf ropls.buildbin-libdir && mkdir ropls.buildbin-libdir && C:\cygwin\bin\curl.exe -O https://malbec1.bioconductor.org/BBS/3.6/bioc/src/contrib/ropls_1.10.0.tar.gz && C:\Users\biocbuild\bbs-3.6-bioc\R\bin\R.exe CMD INSTALL --build --library=ropls.buildbin-libdir --merge-multiarch ropls_1.10.0.tar.gz && C:\Users\biocbuild\bbs-3.6-bioc\R\bin\R.exe CMD INSTALL ropls_1.10.0.zip && rm ropls_1.10.0.tar.gz ropls_1.10.0.zip
###
##############################################################################
##############################################################################
% Total % Received % Xferd Average Speed Time Time Time Current
Dload Upload Total Spent Left Speed
0 0 0 0 0 0 0 0 --:--:-- --:--:-- --:--:-- 0
100 1150k 100 1150k 0 0 34.3M 0 --:--:-- --:--:-- --:--:-- 38.7M
install for i386
* installing *source* package 'ropls' ...
** R
** data
** inst
** preparing package for lazy loading
** help
*** installing help indices
converting help for package 'ropls'
finding HTML links ... done
aminoacids html
cellulose html
checkW4M html
coef html
cornell html
fitted html
foods html
fromW4M html
getLoadingMN html
getPcaVarVn html
getScoreMN html
getSubsetVi html
getSummaryDF html
getVipVn html
getWeightMN html
linnerud html
lowarp html
mark html
opls-class html
opls html
plot html
predict html
print html
residuals html
ropls-package html
sacurine html
show html
strF html
tested html
toW4M html
** building package indices
** installing vignettes
** testing if installed package can be loaded
In R CMD INSTALL
install for x64
* installing *source* package 'ropls' ...
** testing if installed package can be loaded
* MD5 sums
packaged installation of 'ropls' as ropls_1.10.0.zip
* DONE (ropls)
In R CMD INSTALL
In R CMD INSTALL
* installing to library 'C:/Users/biocbuild/bbs-3.6-bioc/R/library'
package 'ropls' successfully unpacked and MD5 sums checked
In R CMD INSTALL