| Back to Multiple platform build/check report for BioC 3.6 |
|
This page was generated on 2018-04-12 13:35:37 -0400 (Thu, 12 Apr 2018).
| Package 1203/1472 | Hostname | OS / Arch | INSTALL | BUILD | CHECK | BUILD BIN | ||||||
| rols 2.6.1 Laurent Gatto
| malbec1 | Linux (Ubuntu 16.04.1 LTS) / x86_64 | OK | OK | OK | |||||||
| tokay1 | Windows Server 2012 R2 Standard / x64 | OK | OK | OK | OK | |||||||
| veracruz1 | OS X 10.11.6 El Capitan / x86_64 | OK | OK | OK | [ OK ] |
| Package: rols |
| Version: 2.6.1 |
| Command: rm -rf rols.buildbin-libdir && mkdir rols.buildbin-libdir && /Users/biocbuild/BBS/utils/build-universal.sh rols_2.6.1.tar.gz /Library/Frameworks/R.framework/Versions/Current/Resources/bin/R rols.buildbin-libdir |
| StartedAt: 2018-04-12 12:10:21 -0400 (Thu, 12 Apr 2018) |
| EndedAt: 2018-04-12 12:10:26 -0400 (Thu, 12 Apr 2018) |
| EllapsedTime: 5.3 seconds |
| RetCode: 0 |
| Status: OK |
| PackageFile: rols_2.6.1.tgz |
| PackageFileSize: 503.8 KiB |
############################################################################## ############################################################################## ### ### Running command: ### ### rm -rf rols.buildbin-libdir && mkdir rols.buildbin-libdir && /Users/biocbuild/BBS/utils/build-universal.sh rols_2.6.1.tar.gz /Library/Frameworks/R.framework/Versions/Current/Resources/bin/R rols.buildbin-libdir ### ############################################################################## ############################################################################## >>>>>>> >>>>>>> INSTALLATION WITH 'R CMD INSTALL --preclean --no-multiarch --library=rols.buildbin-libdir rols_2.6.1.tar.gz' >>>>>>> * installing *source* package ‘rols’ ... ** R ** inst ** preparing package for lazy loading Creating a generic function for ‘lapply’ from package ‘base’ in package ‘rols’ ** help *** installing help indices ** building package indices ** installing vignettes ** testing if installed package can be loaded * DONE (rols)