| Back to Multiple platform build/check report for BioC 3.6 | 
  | 
This page was generated on 2018-04-12 13:21:50 -0400 (Thu, 12 Apr 2018).
| Package 1203/1472 | Hostname | OS / Arch | INSTALL | BUILD | CHECK | BUILD BIN | ||||||
| rols 2.6.1 Laurent Gatto 
  | malbec1 | Linux (Ubuntu 16.04.1 LTS) / x86_64 | OK | OK | OK | |||||||
| tokay1 | Windows Server 2012 R2 Standard / x64 | OK | OK | OK | [ OK ] | |||||||
| veracruz1 | OS X 10.11.6 El Capitan / x86_64 | OK | OK | OK | OK | 
| Package: rols | 
| Version: 2.6.1 | 
| Command: cd rols.buildbin-libdir/rols && zip -r ../../rols_2.6.1.zip . & cd ../.. | 
| StartedAt: 2018-04-12 05:01:08 -0400 (Thu, 12 Apr 2018) | 
| EndedAt: 2018-04-12 05:01:37 -0400 (Thu, 12 Apr 2018) | 
| EllapsedTime: 29.0 seconds | 
| RetCode: 0 | 
| Status: OK | 
| PackageFile: rols_2.6.1.zip | 
| PackageFileSize: 1019 KiB | 
############################################################################## ############################################################################## ### ### Running command: ### ### cd rols.buildbin-libdir/rols && zip -r ../../rols_2.6.1.zip . & cd ../.. ### ############################################################################## ############################################################################## adding: DESCRIPTION (332 bytes security) (deflated 45%) adding: doc/ (372 bytes security) (stored 0%) adding: doc/index.html (332 bytes security) (deflated 57%) adding: doc/rols.html (332 bytes security) (deflated 69%) adding: doc/rols.R (332 bytes security) (deflated 77%) adding: doc/rols.Rmd (332 bytes security) (deflated 59%) adding: help/ (372 bytes security) (stored 0%) adding: help/aliases.rds (332 bytes security) (stored 0%) adding: help/AnIndex (332 bytes security) (deflated 85%) adding: help/paths.rds (332 bytes security) (stored 0%) adding: help/rols.rdb (332 bytes security) (deflated 1%) adding: help/rols.rdx (332 bytes security) (stored 0%) adding: html/ (372 bytes security) (stored 0%) adding: html/00Index.html (332 bytes security) (deflated 90%) adding: html/CVParam-class.html (332 bytes security) (deflated 65%) adding: html/OlsSearch-class.html (332 bytes security) (deflated 71%) adding: html/Ontology-class.html (332 bytes security) (deflated 73%) adding: html/Properties-class.html (332 bytes security) (deflated 59%) adding: html/R.css (332 bytes security) (deflated 75%) adding: html/Term-class.html (332 bytes security) (deflated 73%) adding: INDEX (332 bytes security) (deflated 59%) adding: MD5 (332 bytes security) (deflated 43%) adding: Meta/ (372 bytes security) (stored 0%) adding: Meta/features.rds (332 bytes security) (stored 0%) adding: Meta/hsearch.rds (332 bytes security) (stored 0%) adding: Meta/links.rds (332 bytes security) (stored 0%) adding: Meta/nsInfo.rds (332 bytes security) (stored 0%) adding: Meta/package.rds (332 bytes security) (stored 0%) adding: Meta/Rd.rds (332 bytes security) (stored 0%) adding: Meta/vignette.rds (332 bytes security) (stored 0%) adding: NAMESPACE (332 bytes security) (deflated 67%) adding: NEWS (332 bytes security) (deflated 70%) adding: R/ (372 bytes security) (stored 0%) adding: R/rols (332 bytes security) (deflated 41%) adding: R/rols.rdb (332 bytes security) (deflated 33%) adding: R/rols.rdx (332 bytes security) (deflated 2%) adding: scripts/ (372 bytes security) (stored 0%) adding: scripts/misc.R (332 bytes security) (deflated 54%)