| Back to Multiple platform build/check report for BioC 3.6 |
|
This page was generated on 2018-04-12 13:22:02 -0400 (Thu, 12 Apr 2018).
| Package 836/1472 | Hostname | OS / Arch | INSTALL | BUILD | CHECK | BUILD BIN | ||||||
| methyAnalysis 1.20.0 Pan Du
| malbec1 | Linux (Ubuntu 16.04.1 LTS) / x86_64 | OK | OK | WARNINGS | |||||||
| tokay1 | Windows Server 2012 R2 Standard / x64 | [ OK ] | OK | WARNINGS | OK | |||||||
| veracruz1 | OS X 10.11.6 El Capitan / x86_64 | OK | OK | WARNINGS | OK |
| Package: methyAnalysis |
| Version: 1.20.0 |
| Command: rm -rf methyAnalysis.buildbin-libdir && mkdir methyAnalysis.buildbin-libdir && C:\cygwin\bin\curl.exe -O https://malbec1.bioconductor.org/BBS/3.6/bioc/src/contrib/methyAnalysis_1.20.0.tar.gz && C:\Users\biocbuild\bbs-3.6-bioc\R\bin\R.exe CMD INSTALL --build --library=methyAnalysis.buildbin-libdir --merge-multiarch methyAnalysis_1.20.0.tar.gz && C:\Users\biocbuild\bbs-3.6-bioc\R\bin\R.exe CMD INSTALL methyAnalysis_1.20.0.zip && rm methyAnalysis_1.20.0.tar.gz methyAnalysis_1.20.0.zip |
| StartedAt: 2018-04-11 18:56:28 -0400 (Wed, 11 Apr 2018) |
| EndedAt: 2018-04-11 18:58:25 -0400 (Wed, 11 Apr 2018) |
| EllapsedTime: 117.5 seconds |
| RetCode: 0 |
| Status: OK |
##############################################################################
##############################################################################
###
### Running command:
###
### rm -rf methyAnalysis.buildbin-libdir && mkdir methyAnalysis.buildbin-libdir && C:\cygwin\bin\curl.exe -O https://malbec1.bioconductor.org/BBS/3.6/bioc/src/contrib/methyAnalysis_1.20.0.tar.gz && C:\Users\biocbuild\bbs-3.6-bioc\R\bin\R.exe CMD INSTALL --build --library=methyAnalysis.buildbin-libdir --merge-multiarch methyAnalysis_1.20.0.tar.gz && C:\Users\biocbuild\bbs-3.6-bioc\R\bin\R.exe CMD INSTALL methyAnalysis_1.20.0.zip && rm methyAnalysis_1.20.0.tar.gz methyAnalysis_1.20.0.zip
###
##############################################################################
##############################################################################
% Total % Received % Xferd Average Speed Time Time Time Current
Dload Upload Total Spent Left Speed
0 0 0 0 0 0 0 0 --:--:-- --:--:-- --:--:-- 0
100 960k 100 960k 0 0 7071k 0 --:--:-- --:--:-- --:--:-- 7275k
install for i386
* installing *source* package 'methyAnalysis' ...
** R
** data
** inst
** preparing package for lazy loading
No methods found in package 'genoset' for request: 'toGenomeOrder' when loading 'methyAnalysis'
** help
*** installing help indices
converting help for package 'methyAnalysis'
finding HTML links ... done
MethyGenoSet-class html
finding level-2 HTML links ... done
Rd warning: C:/Users/biocbuild/bbs-3.6-bioc/tmpdir/Rtmpcxry4S/R.INSTALL11585a685d79/methyAnalysis/man/MethyGenoSet-class.Rd:34: missing file link 'GenoSet'
Rd warning: C:/Users/biocbuild/bbs-3.6-bioc/tmpdir/Rtmpcxry4S/R.INSTALL11585a685d79/methyAnalysis/man/MethyGenoSet-class.Rd:36: missing file link 'GenoSet'
Rd warning: C:/Users/biocbuild/bbs-3.6-bioc/tmpdir/Rtmpcxry4S/R.INSTALL11585a685d79/methyAnalysis/man/MethyGenoSet-class.Rd:46: missing file link 'GenoSet'
Rd warning: C:/Users/biocbuild/bbs-3.6-bioc/tmpdir/Rtmpcxry4S/R.INSTALL11585a685d79/methyAnalysis/man/MethyGenoSet-class.Rd:51: missing file link 'SummarizedExperiment'
Rd warning: C:/Users/biocbuild/bbs-3.6-bioc/tmpdir/Rtmpcxry4S/R.INSTALL11585a685d79/methyAnalysis/man/MethyGenoSet-class.Rd:57: missing file link 'SummarizedExperiment'
Rd warning: C:/Users/biocbuild/bbs-3.6-bioc/tmpdir/Rtmpcxry4S/R.INSTALL11585a685d79/methyAnalysis/man/MethyGenoSet-class.Rd:58: missing file link 'colData'
Rd warning: C:/Users/biocbuild/bbs-3.6-bioc/tmpdir/Rtmpcxry4S/R.INSTALL11585a685d79/methyAnalysis/man/MethyGenoSet-class.Rd:86: missing file link 'GenoSet'
Rd warning: C:/Users/biocbuild/bbs-3.6-bioc/tmpdir/Rtmpcxry4S/R.INSTALL11585a685d79/methyAnalysis/man/MethyGenoSet-class.Rd:91: missing file link 'SummarizedExperiment'
Rd warning: C:/Users/biocbuild/bbs-3.6-bioc/tmpdir/Rtmpcxry4S/R.INSTALL11585a685d79/methyAnalysis/man/MethyGenoSet-class.Rd:92: missing file link 'GenoSet'
Rd warning: C:/Users/biocbuild/bbs-3.6-bioc/tmpdir/Rtmpcxry4S/R.INSTALL11585a685d79/methyAnalysis/man/MethyGenoSet-class.Rd:92: missing file link 'SummarizedExperiment'
Rd warning: C:/Users/biocbuild/bbs-3.6-bioc/tmpdir/Rtmpcxry4S/R.INSTALL11585a685d79/methyAnalysis/man/MethyGenoSet-class.Rd:100: missing file link 'GenoSet'
Rd warning: C:/Users/biocbuild/bbs-3.6-bioc/tmpdir/Rtmpcxry4S/R.INSTALL11585a685d79/methyAnalysis/man/MethyGenoSet-class.Rd:100: missing file link 'SummarizedExperiment'
MethyLumiM2GenoSet html
annotateDMRInfo html
annotateGRanges html
asBigMatrix-methods html
Rd warning: C:/Users/biocbuild/bbs-3.6-bioc/tmpdir/Rtmpcxry4S/R.INSTALL11585a685d79/methyAnalysis/man/asBigMatrix-methods.Rd:15: missing file link 'GenoSet'
buildAnnotationTracks html
checkChrName html
createTranscriptTrack html
detectDMR.slideWin html
estimateCMR.methylation html
estimateMethySeq html
exampleMethyGenoSet html
export.DMRInfo html
export.methyGenoSet html
filterBisulfiteVariant html
getContinuousRegion html
getCoverage html
heatmapByChromosome html
identifyCpG html
identifySigDMR html
plotHeatmapByGene html
plotMethylationHeatmapByGene html
plotTracksWithDataTrackInfo html
smoothMethyData html
updateMethyGenoSet html
** building package indices
** installing vignettes
** testing if installed package can be loaded
No methods found in package 'genoset' for request: 'toGenomeOrder' when loading 'methyAnalysis'
In R CMD INSTALL
install for x64
* installing *source* package 'methyAnalysis' ...
** testing if installed package can be loaded
No methods found in package 'genoset' for request: 'toGenomeOrder' when loading 'methyAnalysis'
* MD5 sums
packaged installation of 'methyAnalysis' as methyAnalysis_1.20.0.zip
* DONE (methyAnalysis)
In R CMD INSTALL
In R CMD INSTALL
* installing to library 'C:/Users/biocbuild/bbs-3.6-bioc/R/library'
package 'methyAnalysis' successfully unpacked and MD5 sums checked
In R CMD INSTALL