| Back to Multiple platform build/check report for BioC 3.6 |
|
This page was generated on 2018-04-12 13:27:15 -0400 (Thu, 12 Apr 2018).
| Package 762/1472 | Hostname | OS / Arch | INSTALL | BUILD | CHECK | BUILD BIN | ||||||
| lpsymphony 1.7.1 Vladislav Kim
| malbec1 | Linux (Ubuntu 16.04.1 LTS) / x86_64 | OK | OK | WARNINGS | |||||||
| tokay1 | Windows Server 2012 R2 Standard / x64 | [ OK ] | OK | WARNINGS | OK | |||||||
| veracruz1 | OS X 10.11.6 El Capitan / x86_64 | OK | OK | WARNINGS | OK |
| Package: lpsymphony |
| Version: 1.7.1 |
| Command: rm -rf lpsymphony.buildbin-libdir && mkdir lpsymphony.buildbin-libdir && C:\cygwin\bin\curl.exe -O https://malbec1.bioconductor.org/BBS/3.6/bioc/src/contrib/lpsymphony_1.7.1.tar.gz && C:\Users\biocbuild\bbs-3.6-bioc\R\bin\R.exe CMD INSTALL --build --library=lpsymphony.buildbin-libdir --merge-multiarch lpsymphony_1.7.1.tar.gz && C:\Users\biocbuild\bbs-3.6-bioc\R\bin\R.exe CMD INSTALL lpsymphony_1.7.1.zip && rm lpsymphony_1.7.1.tar.gz lpsymphony_1.7.1.zip |
| StartedAt: 2018-04-11 18:10:24 -0400 (Wed, 11 Apr 2018) |
| EndedAt: 2018-04-11 18:14:57 -0400 (Wed, 11 Apr 2018) |
| EllapsedTime: 273.3 seconds |
| RetCode: 0 |
| Status: OK |
##############################################################################
##############################################################################
###
### Running command:
###
### rm -rf lpsymphony.buildbin-libdir && mkdir lpsymphony.buildbin-libdir && C:\cygwin\bin\curl.exe -O https://malbec1.bioconductor.org/BBS/3.6/bioc/src/contrib/lpsymphony_1.7.1.tar.gz && C:\Users\biocbuild\bbs-3.6-bioc\R\bin\R.exe CMD INSTALL --build --library=lpsymphony.buildbin-libdir --merge-multiarch lpsymphony_1.7.1.tar.gz && C:\Users\biocbuild\bbs-3.6-bioc\R\bin\R.exe CMD INSTALL lpsymphony_1.7.1.zip && rm lpsymphony_1.7.1.tar.gz lpsymphony_1.7.1.zip
###
##############################################################################
##############################################################################
% Total % Received % Xferd Average Speed Time Time Time Current
Dload Upload Total Spent Left Speed
0 0 0 0 0 0 0 0 --:--:-- --:--:-- --:--:-- 0
0 0 0 0 0 0 0 0 --:--:-- --:--:-- --:--:-- 0
100 11.7M 100 11.7M 0 0 11.7M 0 0:00:01 0:00:01 --:--:-- 12.4M
install for i386
* installing *source* package 'lpsymphony' ...
** libs
cp WinLib/i386/*.dll .
installing to C:/Users/biocbuild/bbs-3.6-bioc/meat/lpsymphony.buildbin-libdir/lpsymphony/libs/i386
** R
** preparing package for lazy loading
** help
*** installing help indices
converting help for package 'lpsymphony'
finding HTML links ... done
lpsymphony_solve html
** building package indices
** installing vignettes
** testing if installed package can be loaded
In R CMD INSTALL
install for x64
* installing *source* package 'lpsymphony' ...
** libs
cp WinLib/x64/*.dll .
installing to C:/Users/biocbuild/bbs-3.6-bioc/meat/lpsymphony.buildbin-libdir/lpsymphony/libs/x64
** testing if installed package can be loaded
* MD5 sums
packaged installation of 'lpsymphony' as lpsymphony_1.7.1.zip
* DONE (lpsymphony)
In R CMD INSTALL
In R CMD INSTALL
* installing to library 'C:/Users/biocbuild/bbs-3.6-bioc/R/library'
package 'lpsymphony' successfully unpacked and MD5 sums checked
In R CMD INSTALL