| Back to Multiple platform build/check report for BioC 3.6 | 
 | 
This page was generated on 2018-04-12 13:27:15 -0400 (Thu, 12 Apr 2018).
| Package 762/1472 | Hostname | OS / Arch | INSTALL | BUILD | CHECK | BUILD BIN | ||||||
| lpsymphony 1.7.1 Vladislav Kim 
 | malbec1 | Linux (Ubuntu 16.04.1 LTS) / x86_64 | OK | OK | WARNINGS |  | ||||||
| tokay1 | Windows Server 2012 R2 Standard / x64 | OK | [ OK ] | WARNINGS | OK |  | ||||||
| veracruz1 | OS X 10.11.6 El Capitan / x86_64 | OK | OK | WARNINGS | OK |  | 
| Package: lpsymphony | 
| Version: 1.7.1 | 
| Command: chmod a+r lpsymphony -R && C:\Users\biocbuild\bbs-3.6-bioc\R\bin\R.exe CMD build --keep-empty-dirs --no-resave-data lpsymphony | 
| StartedAt: 2018-04-11 20:54:22 -0400 (Wed, 11 Apr 2018) | 
| EndedAt: 2018-04-11 20:57:39 -0400 (Wed, 11 Apr 2018) | 
| EllapsedTime: 197.3 seconds | 
| RetCode: 0 | 
| Status: OK | 
| PackageFile: lpsymphony_1.7.1.tar.gz | 
| PackageFileSize: 11.83 MiB | 
############################################################################## ############################################################################## ### ### Running command: ### ### chmod a+r lpsymphony -R && C:\Users\biocbuild\bbs-3.6-bioc\R\bin\R.exe CMD build --keep-empty-dirs --no-resave-data lpsymphony ### ############################################################################## ############################################################################## * checking for file 'lpsymphony/DESCRIPTION' ... OK * preparing 'lpsymphony': * checking DESCRIPTION meta-information ... OK * cleaning src * installing the package to build vignettes * creating vignettes ... OK * cleaning src * checking for LF line-endings in source and make files and shell scripts * checking for empty or unneeded directories * building 'lpsymphony_1.7.1.tar.gz' Warning: file 'lpsymphony/cleanup' did not have execute permissions: corrected Warning: file 'lpsymphony/configure' did not have execute permissions: corrected Warning: file 'lpsymphony/src/SYMPHONY/Cgl/configure' did not have execute permissions: corrected Warning: file 'lpsymphony/src/SYMPHONY/Clp/configure' did not have execute permissions: corrected Warning: file 'lpsymphony/src/SYMPHONY/CoinUtils/configure' did not have execute permissions: corrected Warning: file 'lpsymphony/src/SYMPHONY/Osi/configure' did not have execute permissions: corrected Warning: file 'lpsymphony/src/SYMPHONY/SYMPHONY/configure' did not have execute permissions: corrected Warning: file 'lpsymphony/src/SYMPHONY/ThirdParty/Blas/configure' did not have execute permissions: corrected Warning: file 'lpsymphony/src/SYMPHONY/ThirdParty/Glpk/configure' did not have execute permissions: corrected Warning: file 'lpsymphony/src/SYMPHONY/ThirdParty/Lapack/configure' did not have execute permissions: corrected Warning: file 'lpsymphony/src/SYMPHONY/configure' did not have execute permissions: corrected