| Back to Multiple platform build/check report for BioC 3.6 |
|
This page was generated on 2018-04-12 13:39:56 -0400 (Thu, 12 Apr 2018).
| Package 557/1472 | Hostname | OS / Arch | INSTALL | BUILD | CHECK | BUILD BIN | ||||||
| genomation 1.11.3 Altuna Akalin
| malbec1 | Linux (Ubuntu 16.04.1 LTS) / x86_64 | OK | OK | OK | |||||||
| tokay1 | Windows Server 2012 R2 Standard / x64 | OK | OK | OK | OK | |||||||
| veracruz1 | OS X 10.11.6 El Capitan / x86_64 | OK | OK | [ OK ] | OK |
| Package: genomation |
| Version: 1.11.3 |
| Command: /Library/Frameworks/R.framework/Versions/Current/Resources/bin/R CMD check --no-vignettes --timings genomation_1.11.3.tar.gz |
| StartedAt: 2018-04-12 04:14:46 -0400 (Thu, 12 Apr 2018) |
| EndedAt: 2018-04-12 04:19:40 -0400 (Thu, 12 Apr 2018) |
| EllapsedTime: 294.0 seconds |
| RetCode: 0 |
| Status: OK |
| CheckDir: genomation.Rcheck |
| Warnings: 0 |
##############################################################################
##############################################################################
###
### Running command:
###
### /Library/Frameworks/R.framework/Versions/Current/Resources/bin/R CMD check --no-vignettes --timings genomation_1.11.3.tar.gz
###
##############################################################################
##############################################################################
* using log directory ‘/Users/biocbuild/bbs-3.6-bioc/meat/genomation.Rcheck’
* using R version 3.4.4 (2018-03-15)
* using platform: x86_64-apple-darwin15.6.0 (64-bit)
* using session charset: UTF-8
* using option ‘--no-vignettes’
* checking for file ‘genomation/DESCRIPTION’ ... OK
* checking extension type ... Package
* this is package ‘genomation’ version ‘1.11.3’
* package encoding: latin1
* checking package namespace information ... OK
* checking package dependencies ... OK
* checking if this is a source package ... OK
* checking if there is a namespace ... OK
* checking for hidden files and directories ... OK
* checking for portable file names ... OK
* checking for sufficient/correct file permissions ... OK
* checking whether package ‘genomation’ can be installed ... OK
* checking installed package size ... NOTE
installed size is 5.6Mb
sub-directories of 1Mb or more:
doc 3.5Mb
extdata 1.2Mb
* checking package directory ... OK
* checking ‘build’ directory ... OK
* checking DESCRIPTION meta-information ... OK
* checking top-level files ... OK
* checking for left-over files ... OK
* checking index information ... OK
* checking package subdirectories ... OK
* checking R files for non-ASCII characters ... OK
* checking R files for syntax errors ... OK
* checking whether the package can be loaded ... OK
* checking whether the package can be loaded with stated dependencies ... OK
* checking whether the package can be unloaded cleanly ... OK
* checking whether the namespace can be loaded with stated dependencies ... OK
* checking whether the namespace can be unloaded cleanly ... OK
* checking dependencies in R code ... NOTE
Namespace in Imports field not imported from: ‘RUnit’
All declared Imports should be used.
Unexported object imported by a ':::' call: ‘BiocGenerics:::testPackage’
See the note in ?`:::` about the use of this operator.
* checking S3 generic/method consistency ... OK
* checking replacement functions ... OK
* checking foreign function calls ... OK
* checking R code for possible problems ... NOTE
ScoreMatrixBin,RleList-GRangesList: no visible binding for global
variable ‘cvg’
ScoreMatrixBin,RleList-GRangesList: no visible binding for global
variable ‘id’
ScoreMatrixBin,RleList-GRangesList: no visible global function
definition for ‘:=’
Undefined global functions or variables:
:= cvg id
* checking Rd files ... OK
* checking Rd metadata ... OK
* checking Rd cross-references ... OK
* checking for missing documentation entries ... OK
* checking for code/documentation mismatches ... OK
* checking Rd \usage sections ... OK
* checking Rd contents ... OK
* checking for unstated dependencies in examples ... OK
* checking contents of ‘data’ directory ... OK
* checking data for non-ASCII characters ... OK
* checking data for ASCII and uncompressed saves ... OK
* checking line endings in C/C++/Fortran sources/headers ... OK
* checking compiled code ... OK
* checking installed files from ‘inst/doc’ ... OK
* checking files in ‘vignettes’ ... NOTE
The following directory looks like a leftover from 'knitr':
‘cache’
Please remove from your package.
* checking examples ... OK
Examples with CPU or elapsed time > 5s
user system elapsed
enrichmentMatrix-ScoreMatrixList-method 6.299 3.600 8.409
enrichmentMatrix-ScoreMatrix-method 4.957 2.066 7.647
enrichmentMatrix-ScoreMatrixList-ScoreMatrix-method 4.099 1.742 8.327
* checking for unstated dependencies in ‘tests’ ... OK
* checking tests ...
Running ‘genomation_unit_tests.R’
OK
* checking for unstated dependencies in vignettes ... OK
* checking package vignettes in ‘inst/doc’ ... OK
* checking running R code from vignettes ... SKIPPED
* checking re-building of vignette outputs ... SKIPPED
* checking PDF version of manual ... OK
* DONE
Status: 4 NOTEs
See
‘/Users/biocbuild/bbs-3.6-bioc/meat/genomation.Rcheck/00check.log’
for details.
genomation.Rcheck/00install.out
* installing *source* package ‘genomation’ ... ** libs clang++ -I/Library/Frameworks/R.framework/Resources/include -DNDEBUG -I"/Library/Frameworks/R.framework/Versions/3.4/Resources/library/Rcpp/include" -I/usr/local/include -fPIC -Wall -g -O2 -c RcppExports.cpp -o RcppExports.o clang++ -I/Library/Frameworks/R.framework/Resources/include -DNDEBUG -I"/Library/Frameworks/R.framework/Versions/3.4/Resources/library/Rcpp/include" -I/usr/local/include -fPIC -Wall -g -O2 -c binSum.cpp -o binSum.o clang++ -dynamiclib -Wl,-headerpad_max_install_names -undefined dynamic_lookup -single_module -multiply_defined suppress -L/Library/Frameworks/R.framework/Resources/lib -L/usr/local/lib -o genomation.so RcppExports.o binSum.o -F/Library/Frameworks/R.framework/.. -framework R -Wl,-framework -Wl,CoreFoundation installing to /Users/biocbuild/bbs-3.6-bioc/meat/genomation.Rcheck/genomation/libs ** R ** data ** inst ** preparing package for lazy loading ** help *** installing help indices ** building package indices ** installing vignettes ** testing if installed package can be loaded * DONE (genomation)
genomation.Rcheck/tests/genomation_unit_tests.Rout
R version 3.4.4 (2018-03-15) -- "Someone to Lean On"
Copyright (C) 2018 The R Foundation for Statistical Computing
Platform: x86_64-apple-darwin15.6.0 (64-bit)
R is free software and comes with ABSOLUTELY NO WARRANTY.
You are welcome to redistribute it under certain conditions.
Type 'license()' or 'licence()' for distribution details.
R is a collaborative project with many contributors.
Type 'contributors()' for more information and
'citation()' on how to cite R or R packages in publications.
Type 'demo()' for some demos, 'help()' for on-line help, or
'help.start()' for an HTML browser interface to help.
Type 'q()' to quit R.
> (require("genomation") & require("GenomicRanges") & require("GenomicAlignments") & require("rtracklayer") & require("readr") & require("Biostrings")) || stop("unable to load genomation package")
Loading required package: genomation
Loading required package: grid
Loading required package: GenomicRanges
Loading required package: stats4
Loading required package: BiocGenerics
Loading required package: parallel
Attaching package: 'BiocGenerics'
The following objects are masked from 'package:parallel':
clusterApply, clusterApplyLB, clusterCall, clusterEvalQ,
clusterExport, clusterMap, parApply, parCapply, parLapply,
parLapplyLB, parRapply, parSapply, parSapplyLB
The following objects are masked from 'package:stats':
IQR, mad, sd, var, xtabs
The following objects are masked from 'package:base':
Filter, Find, Map, Position, Reduce, anyDuplicated, append,
as.data.frame, cbind, colMeans, colSums, colnames, do.call,
duplicated, eval, evalq, get, grep, grepl, intersect, is.unsorted,
lapply, lengths, mapply, match, mget, order, paste, pmax, pmax.int,
pmin, pmin.int, rank, rbind, rowMeans, rowSums, rownames, sapply,
setdiff, sort, table, tapply, union, unique, unsplit, which,
which.max, which.min
Loading required package: S4Vectors
Attaching package: 'S4Vectors'
The following object is masked from 'package:base':
expand.grid
Loading required package: IRanges
Loading required package: GenomeInfoDb
Loading required package: GenomicAlignments
Loading required package: SummarizedExperiment
Loading required package: Biobase
Welcome to Bioconductor
Vignettes contain introductory material; view with
'browseVignettes()'. To cite Bioconductor, see
'citation("Biobase")', and for packages 'citation("pkgname")'.
Loading required package: DelayedArray
Loading required package: matrixStats
Attaching package: 'matrixStats'
The following objects are masked from 'package:Biobase':
anyMissing, rowMedians
Attaching package: 'DelayedArray'
The following objects are masked from 'package:matrixStats':
colMaxs, colMins, colRanges, rowMaxs, rowMins, rowRanges
The following object is masked from 'package:base':
apply
Loading required package: Biostrings
Loading required package: XVector
Attaching package: 'Biostrings'
The following object is masked from 'package:DelayedArray':
type
The following object is masked from 'package:base':
strsplit
Loading required package: Rsamtools
Loading required package: rtracklayer
Loading required package: readr
[1] TRUE
> genomation:::.test()
Normalizing to rpm ...
Normalizing to rpm ...
Normalizing to rpm ...
testing:min
testing:max
testing:median
Normalizing to rpm ...
Normalizing to rpm ...
Normalizing to rpm ...
Normalizing to rpm ...
Normalizing to rpm ...
Normalizing to rpm ...
Normalizing to rpm ...
Parsed with column specification:
cols(
X1 = col_character(),
X2 = col_integer(),
X3 = col_integer(),
X4 = col_character(),
X5 = col_integer(),
X6 = col_character(),
X7 = col_integer(),
X8 = col_integer(),
X9 = col_number()
)
Parsed with column specification:
cols(
X1 = col_character(),
X2 = col_integer(),
X3 = col_integer(),
X4 = col_character(),
X5 = col_integer(),
X6 = col_character(),
X7 = col_integer(),
X8 = col_integer(),
X9 = col_number()
)
RUNIT TEST PROTOCOL -- Thu Apr 12 04:19:36 2018
***********************************************
Number of test functions: 24
Number of errors: 0
Number of failures: 0
1 Test Suite :
genomation RUnit Tests - 24 test functions, 0 errors, 0 failures
Number of test functions: 24
Number of errors: 0
Number of failures: 0
Warning messages:
1: In .local(target, windows, strand.aware) :
1 windows fall off the target
2: In .local(target, windows, strand.aware) :
2 windows fall off the target
3: In .local(target, windows, strand.aware) :
2 windows fall off the target
4: In .local(target, windows, strand.aware) :
2 windows fall off the target
5: In .local(target, windows, strand.aware) :
2 windows fall off the target
6: In .local(target, windows, strand.aware) :
2 windows fall off the target
7: In .local(target, windows, bin.num, bin.op, strand.aware) :
2 windows fall off the target
8: In .local(target, windows, bin.num, bin.op, strand.aware) :
2 windows fall off the target
>
> proc.time()
user system elapsed
32.685 0.678 33.814
genomation.Rcheck/genomation-Ex.timings
| name | user | system | elapsed | |
| AnnotationByGeneParts-methods | 1.231 | 0.013 | 1.275 | |
| ScoreMatrix-methods | 4.022 | 0.151 | 4.224 | |
| ScoreMatrixBin-methods | 2.541 | 0.080 | 2.664 | |
| ScoreMatrixList-methods | 0.429 | 0.031 | 0.474 | |
| annotateWithFeature-methods | 0.044 | 0.001 | 0.046 | |
| annotateWithFeatureFlank-methods | 0.435 | 0.003 | 0.446 | |
| annotateWithFeatures-methods | 0.833 | 0.070 | 0.689 | |
| annotateWithGeneParts-methods | 1.060 | 0.063 | 1.055 | |
| binMatrix-methods | 0.224 | 0.008 | 0.237 | |
| convertBed2Exons-methods | 0.088 | 0.002 | 0.092 | |
| convertBed2Introns-methods | 0.176 | 0.004 | 0.184 | |
| enrichmentMatrix-ScoreMatrix-method | 4.957 | 2.066 | 7.647 | |
| enrichmentMatrix-ScoreMatrixList-ScoreMatrix-method | 4.099 | 1.742 | 8.327 | |
| enrichmentMatrix-ScoreMatrixList-method | 6.299 | 3.600 | 8.409 | |
| findFeatureComb-methods | 0.463 | 0.051 | 0.535 | |
| getFeatsWithTargetsStats-methods | 0.414 | 0.041 | 0.464 | |
| getFlanks-methods | 0.123 | 0.001 | 0.129 | |
| getRandomEnrichment-methods | 0.003 | 0.001 | 0.006 | |
| getTargetAnnotationStats-methods | 0.339 | 0.012 | 0.359 | |
| gffToGRanges | 0.263 | 0.004 | 0.268 | |
| heatMatrix | 0.321 | 0.065 | 0.390 | |
| heatMeta | 0.506 | 0.064 | 0.594 | |
| heatTargetAnnotation-methods | 0.485 | 0.018 | 0.510 | |
| intersectScoreMatrixList-methods | 0.289 | 0.011 | 0.302 | |
| multiHeatMatrix | 0.935 | 0.131 | 1.076 | |
| orderBy-methods | 0.469 | 0.028 | 0.499 | |
| patternMatrix-methods | 0.173 | 0.004 | 0.178 | |
| plotMeta | 0.505 | 0.041 | 0.553 | |
| plotTargetAnnotation-methods | 0.321 | 0.006 | 0.331 | |
| readBed | 0.302 | 0.011 | 0.314 | |
| readBroadPeak | 0.050 | 0.005 | 0.056 | |
| readFeatureFlank-methods | 0.109 | 0.005 | 0.114 | |
| readGeneric | 0.028 | 0.005 | 0.033 | |
| readNarrowPeak | 0.037 | 0.005 | 0.043 | |
| readTranscriptFeatures-methods | 0.162 | 0.007 | 0.172 | |
| scaleScoreMatrix-methods | 0.191 | 0.003 | 0.200 | |
| scaleScoreMatrixList | 0.506 | 0.015 | 0.528 | |