| Back to Multiple platform build/check report for BioC 3.6 |
|
This page was generated on 2018-04-12 13:25:25 -0400 (Thu, 12 Apr 2018).
| Package 557/1472 | Hostname | OS / Arch | INSTALL | BUILD | CHECK | BUILD BIN | ||||||
| genomation 1.11.3 Altuna Akalin
| malbec1 | Linux (Ubuntu 16.04.1 LTS) / x86_64 | OK | OK | OK | |||||||
| tokay1 | Windows Server 2012 R2 Standard / x64 | [ OK ] | OK | OK | OK | |||||||
| veracruz1 | OS X 10.11.6 El Capitan / x86_64 | OK | OK | OK | OK |
| Package: genomation |
| Version: 1.11.3 |
| Command: rm -rf genomation.buildbin-libdir && mkdir genomation.buildbin-libdir && C:\cygwin\bin\curl.exe -O https://malbec1.bioconductor.org/BBS/3.6/bioc/src/contrib/genomation_1.11.3.tar.gz && C:\Users\biocbuild\bbs-3.6-bioc\R\bin\R.exe CMD INSTALL --build --library=genomation.buildbin-libdir --merge-multiarch genomation_1.11.3.tar.gz && C:\Users\biocbuild\bbs-3.6-bioc\R\bin\R.exe CMD INSTALL genomation_1.11.3.zip && rm genomation_1.11.3.tar.gz genomation_1.11.3.zip |
| StartedAt: 2018-04-11 18:50:33 -0400 (Wed, 11 Apr 2018) |
| EndedAt: 2018-04-11 18:53:11 -0400 (Wed, 11 Apr 2018) |
| EllapsedTime: 157.7 seconds |
| RetCode: 0 |
| Status: OK |
##############################################################################
##############################################################################
###
### Running command:
###
### rm -rf genomation.buildbin-libdir && mkdir genomation.buildbin-libdir && C:\cygwin\bin\curl.exe -O https://malbec1.bioconductor.org/BBS/3.6/bioc/src/contrib/genomation_1.11.3.tar.gz && C:\Users\biocbuild\bbs-3.6-bioc\R\bin\R.exe CMD INSTALL --build --library=genomation.buildbin-libdir --merge-multiarch genomation_1.11.3.tar.gz && C:\Users\biocbuild\bbs-3.6-bioc\R\bin\R.exe CMD INSTALL genomation_1.11.3.zip && rm genomation_1.11.3.tar.gz genomation_1.11.3.zip
###
##############################################################################
##############################################################################
% Total % Received % Xferd Average Speed Time Time Time Current
Dload Upload Total Spent Left Speed
0 0 0 0 0 0 0 0 --:--:-- --:--:-- --:--:-- 0
100 6177k 100 6177k 0 0 53.2M 0 --:--:-- --:--:-- --:--:-- 54.8M
install for i386
* installing *source* package 'genomation' ...
** libs
C:/Rtools/mingw_32/bin/g++ -I"C:/Users/BIOCBU˜1/BBS-3˜1.6-B/R/include" -DNDEBUG -I"C:/Users/biocbuild/bbs-3.6-bioc/R/library/Rcpp/include" -I"C:/local323/include" -O2 -Wall -mtune=generic -c RcppExports.cpp -o RcppExports.o
C:/Rtools/mingw_32/bin/g++ -I"C:/Users/BIOCBU˜1/BBS-3˜1.6-B/R/include" -DNDEBUG -I"C:/Users/biocbuild/bbs-3.6-bioc/R/library/Rcpp/include" -I"C:/local323/include" -O2 -Wall -mtune=generic -c binSum.cpp -o binSum.o
C:/Rtools/mingw_32/bin/g++ -shared -s -static-libgcc -o genomation.dll tmp.def RcppExports.o binSum.o -LC:/local323/lib/i386 -LC:/local323/lib -LC:/Users/BIOCBU˜1/BBS-3˜1.6-B/R/bin/i386 -lR
installing to C:/Users/biocbuild/bbs-3.6-bioc/meat/genomation.buildbin-libdir/genomation/libs/i386
** R
** data
** inst
** preparing package for lazy loading
** help
*** installing help indices
converting help for package 'genomation'
finding HTML links ... done
AnnotationByFeature-class html
AnnotationByGeneParts-class html
AnnotationByGeneParts-methods html
Max_c html
Mean_c html
Median_c html
Min_c html
Ops-ScoreMatrix-ScoreMatrix-method html
Ops-ScoreMatrixList-ScoreMatrixList-method
html
Ops-ScoreMatrixList-numeric-method html
Ops-numeric-ScoreMatrixList-method html
RandomEnrichment-class html
ScoreMatrix-class html
ScoreMatrix-methods html
ScoreMatrixBin-methods html
ScoreMatrixList-class html
ScoreMatrixList-methods html
Sum_c html
annotatGrWithGeneParts html
annotateWithFeature-methods html
annotateWithFeatureFlank-methods html
annotateWithFeatures-methods html
annotateWithGeneParts-methods html
finding level-2 HTML links ... done
bed12ToExons html
bed12ToIntrons html
binMatrix-methods html
binMax html
binMean html
binMedian html
binMin html
binSum html
binner html
c.ScoreMatrix html
c.ScoreMatrixList html
cage html
calculateOverlapSignificance-methods html
checkBedValidity html
checkClass html
compressedAndUrl2temp html
constrainRanges html
convertBed2Exons-methods html
convertBed2Introns-methods html
convertBedDf-methods html
cpgi html
detectUCSCheader html
distance2NearestFeature html
enrichmentMatrix-ScoreMatrix-method html
enrichmentMatrix-ScoreMatrixList-ScoreMatrix-method
html
enrichmentMatrix-ScoreMatrixList-method
html
file.ext html
findFeatureComb-methods html
galpTo2Ranges html
genes html
getColors html
getFeatsWithTargetsStats-methods html
getFlanks-methods html
getMembers-methods html
getRandomEnrichment-methods html
getTargetAnnotationStats-methods html
gffToGRanges html
heatMatrix html
heatMeta html
heatTargetAnnotation-methods html
intersectScoreMatrixList-methods html
listSliceMax html
listSliceMean html
listSliceMedian html
listSliceMin html
listSliceSum html
multiHeatMatrix html
orderBy-methods html
patternMatrix-methods html
plotMeta html
plotTargetAnnotation-methods html
promoters html
randomizeFeature-methods html
read.zip html
readBam html
readBed html
readBigWig html
readBroadPeak html
readFeatureFlank-methods html
readGeneric html
readNarrowPeak html
readTableFast html
readTranscriptFeatures-methods html
scaleScoreMatrix-methods html
scaleScoreMatrixList html
show-methods html
sub-ScoreMatrix-ANY-ANY-ANY-method html
sub-ScoreMatrixList-ANY-ANY-ANY-method
html
target.type html
** building package indices
** installing vignettes
'GenomationManual.Rmd' using 'UTF-8'
** testing if installed package can be loaded
In R CMD INSTALL
install for x64
* installing *source* package 'genomation' ...
** libs
C:/Rtools/mingw_64/bin/g++ -I"C:/Users/BIOCBU˜1/BBS-3˜1.6-B/R/include" -DNDEBUG -I"C:/Users/biocbuild/bbs-3.6-bioc/R/library/Rcpp/include" -I"C:/local323/include" -O2 -Wall -mtune=generic -c RcppExports.cpp -o RcppExports.o
C:/Rtools/mingw_64/bin/g++ -I"C:/Users/BIOCBU˜1/BBS-3˜1.6-B/R/include" -DNDEBUG -I"C:/Users/biocbuild/bbs-3.6-bioc/R/library/Rcpp/include" -I"C:/local323/include" -O2 -Wall -mtune=generic -c binSum.cpp -o binSum.o
C:/Rtools/mingw_64/bin/g++ -shared -s -static-libgcc -o genomation.dll tmp.def RcppExports.o binSum.o -LC:/local323/lib/x64 -LC:/local323/lib -LC:/Users/BIOCBU˜1/BBS-3˜1.6-B/R/bin/x64 -lR
installing to C:/Users/biocbuild/bbs-3.6-bioc/meat/genomation.buildbin-libdir/genomation/libs/x64
** testing if installed package can be loaded
* MD5 sums
packaged installation of 'genomation' as genomation_1.11.3.zip
* DONE (genomation)
In R CMD INSTALL
In R CMD INSTALL
* installing to library 'C:/Users/biocbuild/bbs-3.6-bioc/R/library'
package 'genomation' successfully unpacked and MD5 sums checked
In R CMD INSTALL