| Back to Multiple platform build/check report for BioC 3.6 | 
 | 
This page was generated on 2018-04-12 13:42:59 -0400 (Thu, 12 Apr 2018).
| Package 434/1472 | Hostname | OS / Arch | INSTALL | BUILD | CHECK | BUILD BIN | ||||||
| epivizrStandalone 1.6.0 Hector Corrada Bravo 
 | malbec1 | Linux (Ubuntu 16.04.1 LTS) / x86_64 | OK | OK | OK |  | ||||||
| tokay1 | Windows Server 2012 R2 Standard / x64 | OK | OK | WARNINGS | OK |  | ||||||
| veracruz1 | OS X 10.11.6 El Capitan / x86_64 | OK | OK | OK | [ OK ] |  | 
| Package: epivizrStandalone | 
| Version: 1.6.0 | 
| Command: rm -rf epivizrStandalone.buildbin-libdir && mkdir epivizrStandalone.buildbin-libdir && /Users/biocbuild/BBS/utils/build-universal.sh epivizrStandalone_1.6.0.tar.gz /Library/Frameworks/R.framework/Versions/Current/Resources/bin/R epivizrStandalone.buildbin-libdir | 
| StartedAt: 2018-04-12 11:26:32 -0400 (Thu, 12 Apr 2018) | 
| EndedAt: 2018-04-12 11:26:55 -0400 (Thu, 12 Apr 2018) | 
| EllapsedTime: 23.2 seconds | 
| RetCode: 0 | 
| Status: OK | 
| PackageFile: epivizrStandalone_1.6.0.tgz | 
| PackageFileSize: 242.3 KiB | 
############################################################################## ############################################################################## ### ### Running command: ### ### rm -rf epivizrStandalone.buildbin-libdir && mkdir epivizrStandalone.buildbin-libdir && /Users/biocbuild/BBS/utils/build-universal.sh epivizrStandalone_1.6.0.tar.gz /Library/Frameworks/R.framework/Versions/Current/Resources/bin/R epivizrStandalone.buildbin-libdir ### ############################################################################## ############################################################################## >>>>>>> >>>>>>> INSTALLATION WITH 'R CMD INSTALL --preclean --no-multiarch --library=epivizrStandalone.buildbin-libdir epivizrStandalone_1.6.0.tar.gz' >>>>>>> * installing *source* package ‘epivizrStandalone’ ... ** R ** inst ** preparing package for lazy loading ** help *** installing help indices ** building package indices ** installing vignettes ** testing if installed package can be loaded * DONE (epivizrStandalone)