| Back to Multiple platform build/check report for BioC 3.6 | 
 | 
This page was generated on 2018-04-12 13:28:08 -0400 (Thu, 12 Apr 2018).
| Package 434/1472 | Hostname | OS / Arch | INSTALL | BUILD | CHECK | BUILD BIN | ||||||
| epivizrStandalone 1.6.0 Hector Corrada Bravo 
 | malbec1 | Linux (Ubuntu 16.04.1 LTS) / x86_64 | OK | OK | OK |  | ||||||
| tokay1 | Windows Server 2012 R2 Standard / x64 | OK | OK | WARNINGS | [ OK ] |  | ||||||
| veracruz1 | OS X 10.11.6 El Capitan / x86_64 | OK | OK | OK | OK |  | 
| Package: epivizrStandalone | 
| Version: 1.6.0 | 
| Command: cd epivizrStandalone.buildbin-libdir/epivizrStandalone && zip -r ../../epivizrStandalone_1.6.0.zip . & cd ../.. | 
| StartedAt: 2018-04-12 04:37:08 -0400 (Thu, 12 Apr 2018) | 
| EndedAt: 2018-04-12 04:37:58 -0400 (Thu, 12 Apr 2018) | 
| EllapsedTime: 50.3 seconds | 
| RetCode: 0 | 
| Status: OK | 
| PackageFile: epivizrStandalone_1.6.0.zip | 
| PackageFileSize: 509.1 KiB | 
############################################################################## ############################################################################## ### ### Running command: ### ### cd epivizrStandalone.buildbin-libdir/epivizrStandalone && zip -r ../../epivizrStandalone_1.6.0.zip . & cd ../.. ### ############################################################################## ############################################################################## adding: DESCRIPTION (332 bytes security) (deflated 42%) adding: doc/ (372 bytes security) (stored 0%) adding: doc/EpivizrStandalone.html (332 bytes security) (deflated 66%) adding: doc/EpivizrStandalone.Rmd (332 bytes security) (deflated 55%) adding: doc/index.html (332 bytes security) (deflated 61%) adding: help/ (372 bytes security) (stored 0%) adding: help/aliases.rds (332 bytes security) (stored 0%) adding: help/AnIndex (332 bytes security) (deflated 60%) adding: help/epivizrStandalone.rdb (332 bytes security) (deflated 0%) adding: help/epivizrStandalone.rdx (332 bytes security) (stored 0%) adding: help/paths.rds (332 bytes security) (stored 0%) adding: html/ (372 bytes security) (stored 0%) adding: html/00Index.html (332 bytes security) (deflated 57%) adding: html/R.css (332 bytes security) (deflated 75%) adding: html/setStandalone.html (332 bytes security) (deflated 57%) adding: html/startStandalone.html (332 bytes security) (deflated 64%) adding: html/startStandaloneApp.html (332 bytes security) (deflated 63%) adding: INDEX (332 bytes security) (deflated 55%) adding: LICENSE (332 bytes security) (stored 0%) adding: MD5 (332 bytes security) (deflated 46%) adding: Meta/ (372 bytes security) (stored 0%) adding: Meta/features.rds (332 bytes security) (stored 0%) adding: Meta/hsearch.rds (332 bytes security) (stored 0%) adding: Meta/links.rds (332 bytes security) (stored 0%) adding: Meta/nsInfo.rds (332 bytes security) (stored 0%) adding: Meta/package.rds (332 bytes security) (stored 0%) adding: Meta/Rd.rds (332 bytes security) (stored 0%) adding: Meta/vignette.rds (332 bytes security) (stored 0%) adding: NAMESPACE (332 bytes security) (deflated 48%) adding: NEWS.md (332 bytes security) (stored 0%) adding: NEWS.Rd (332 bytes security) (deflated 29%) adding: R/ (372 bytes security) (stored 0%) adding: R/epivizrStandalone (332 bytes security) (deflated 41%) adding: R/epivizrStandalone.rdb (332 bytes security) (deflated 2%) adding: R/epivizrStandalone.rdx (332 bytes security) (stored 0%) adding: www/ (372 bytes security) (stored 0%)