| Back to Multiple platform build/check report for BioC 3.6 |
|
This page was generated on 2018-04-12 13:36:26 -0400 (Thu, 12 Apr 2018).
| Package 241/1472 | Hostname | OS / Arch | INSTALL | BUILD | CHECK | BUILD BIN | ||||||
| clipper 1.18.0 Paolo Martini
| malbec1 | Linux (Ubuntu 16.04.1 LTS) / x86_64 | OK | OK | OK | |||||||
| tokay1 | Windows Server 2012 R2 Standard / x64 | OK | OK | OK | OK | |||||||
| veracruz1 | OS X 10.11.6 El Capitan / x86_64 | OK | OK | [ OK ] | OK |
| Package: clipper |
| Version: 1.18.0 |
| Command: /Library/Frameworks/R.framework/Versions/Current/Resources/bin/R CMD check --no-vignettes --timings clipper_1.18.0.tar.gz |
| StartedAt: 2018-04-12 01:48:17 -0400 (Thu, 12 Apr 2018) |
| EndedAt: 2018-04-12 01:52:47 -0400 (Thu, 12 Apr 2018) |
| EllapsedTime: 269.7 seconds |
| RetCode: 0 |
| Status: OK |
| CheckDir: clipper.Rcheck |
| Warnings: 0 |
##############################################################################
##############################################################################
###
### Running command:
###
### /Library/Frameworks/R.framework/Versions/Current/Resources/bin/R CMD check --no-vignettes --timings clipper_1.18.0.tar.gz
###
##############################################################################
##############################################################################
* using log directory ‘/Users/biocbuild/bbs-3.6-bioc/meat/clipper.Rcheck’
* using R version 3.4.4 (2018-03-15)
* using platform: x86_64-apple-darwin15.6.0 (64-bit)
* using session charset: UTF-8
* using option ‘--no-vignettes’
* checking for file ‘clipper/DESCRIPTION’ ... OK
* this is package ‘clipper’ version ‘1.18.0’
* checking package namespace information ... OK
* checking package dependencies ... OK
* checking if this is a source package ... OK
* checking if there is a namespace ... OK
* checking for hidden files and directories ... OK
* checking for portable file names ... OK
* checking for sufficient/correct file permissions ... OK
* checking whether package ‘clipper’ can be installed ... OK
* checking installed package size ... OK
* checking package directory ... OK
* checking ‘build’ directory ... OK
* checking DESCRIPTION meta-information ... OK
* checking top-level files ... OK
* checking for left-over files ... OK
* checking index information ... OK
* checking package subdirectories ... OK
* checking R files for non-ASCII characters ... OK
* checking R files for syntax errors ... OK
* checking whether the package can be loaded ... OK
* checking whether the package can be loaded with stated dependencies ... OK
* checking whether the package can be unloaded cleanly ... OK
* checking whether the namespace can be loaded with stated dependencies ... OK
* checking whether the namespace can be unloaded cleanly ... OK
* checking dependencies in R code ... OK
* checking S3 generic/method consistency ... OK
* checking replacement functions ... OK
* checking foreign function calls ... OK
* checking R code for possible problems ... OK
* checking Rd files ... OK
* checking Rd metadata ... OK
* checking Rd cross-references ... OK
* checking for missing documentation entries ... OK
* checking for code/documentation mismatches ... OK
* checking Rd \usage sections ... OK
* checking Rd contents ... OK
* checking for unstated dependencies in examples ... OK
* checking sizes of PDF files under ‘inst/doc’ ... OK
* checking installed files from ‘inst/doc’ ... OK
* checking files in ‘vignettes’ ... OK
* checking examples ... OK
Examples with CPU or elapsed time > 5s
user system elapsed
clipperAllRoots 10.896 0.130 11.199
pathwayTest 9.460 0.054 9.656
clipper 5.337 0.181 5.552
* checking for unstated dependencies in ‘tests’ ... OK
* checking tests ...
Running ‘runTests.R’
OK
* checking for unstated dependencies in vignettes ... OK
* checking package vignettes in ‘inst/doc’ ... OK
* checking running R code from vignettes ... SKIPPED
* checking re-building of vignette outputs ... SKIPPED
* checking PDF version of manual ... OK
* DONE
Status: OK
clipper.Rcheck/00install.out
* installing *source* package ‘clipper’ ... ** R ** inst ** preparing package for lazy loading ** help *** installing help indices ** building package indices ** installing vignettes ** testing if installed package can be loaded * DONE (clipper)
clipper.Rcheck/tests/runTests.Rout
R version 3.4.4 (2018-03-15) -- "Someone to Lean On"
Copyright (C) 2018 The R Foundation for Statistical Computing
Platform: x86_64-apple-darwin15.6.0 (64-bit)
R is free software and comes with ABSOLUTELY NO WARRANTY.
You are welcome to redistribute it under certain conditions.
Type 'license()' or 'licence()' for distribution details.
R is a collaborative project with many contributors.
Type 'contributors()' for more information and
'citation()' on how to cite R or R packages in publications.
Type 'demo()' for some demos, 'help()' for on-line help, or
'help.start()' for an HTML browser interface to help.
Type 'q()' to quit R.
> BiocGenerics:::testPackage("clipper")
Attaching package: 'BiocGenerics'
The following objects are masked from 'package:parallel':
clusterApply, clusterApplyLB, clusterCall, clusterEvalQ,
clusterExport, clusterMap, parApply, parCapply, parLapply,
parLapplyLB, parRapply, parSapply, parSapplyLB
The following objects are masked from 'package:Matrix':
colMeans, colSums, rowMeans, rowSums, which
The following objects are masked from 'package:stats':
IQR, mad, sd, var, xtabs
The following objects are masked from 'package:base':
Filter, Find, Map, Position, Reduce, anyDuplicated, append,
as.data.frame, cbind, colMeans, colSums, colnames, do.call,
duplicated, eval, evalq, get, grep, grepl, intersect, is.unsorted,
lapply, lengths, mapply, match, mget, order, paste, pmax, pmax.int,
pmin, pmin.int, rank, rbind, rowMeans, rowSums, rownames, sapply,
setdiff, sort, table, tapply, union, unique, unsplit, which,
which.max, which.min
RUNIT TEST PROTOCOL -- Thu Apr 12 01:52:43 2018
***********************************************
Number of test functions: 10
Number of errors: 0
Number of failures: 0
1 Test Suite :
clipper RUnit Tests - 10 test functions, 0 errors, 0 failures
Number of test functions: 10
Number of errors: 0
Number of failures: 0
>
> pattern="^test_.*\\.R$"
>
> proc.time()
user system elapsed
15.928 0.401 16.633
clipper.Rcheck/clipper-Ex.timings
| name | user | system | elapsed | |
| clipper | 5.337 | 0.181 | 5.552 | |
| clipperAllRoots | 10.896 | 0.130 | 11.199 | |
| cliqueMeanTest | 3.426 | 0.034 | 3.518 | |
| cliqueMixedTest | 3.374 | 0.045 | 3.509 | |
| cliquePairedTest | 3.790 | 0.040 | 3.918 | |
| cliqueVarianceTest | 3.274 | 0.051 | 3.386 | |
| deleteEdge | 0.552 | 0.006 | 0.575 | |
| easyClip | 3.212 | 0.043 | 3.320 | |
| getGraphEntryGenes | 0.630 | 0.005 | 0.658 | |
| getJunctionTreePaths | 0.519 | 0.005 | 0.541 | |
| nameCliques | 0.000 | 0.000 | 0.001 | |
| pathwayTest | 9.460 | 0.054 | 9.656 | |
| plotInCytoscape | 0.001 | 0.001 | 0.001 | |
| prunePaths | 0.036 | 0.000 | 0.041 | |