| Back to Multiple platform build/check report for BioC 3.6 |
|
This page was generated on 2018-04-12 13:22:27 -0400 (Thu, 12 Apr 2018).
| Package 241/1472 | Hostname | OS / Arch | INSTALL | BUILD | CHECK | BUILD BIN | ||||||
| clipper 1.18.0 Paolo Martini
| malbec1 | Linux (Ubuntu 16.04.1 LTS) / x86_64 | OK | OK | OK | |||||||
| tokay1 | Windows Server 2012 R2 Standard / x64 | [ OK ] | OK | OK | OK | |||||||
| veracruz1 | OS X 10.11.6 El Capitan / x86_64 | OK | OK | OK | OK |
| Package: clipper |
| Version: 1.18.0 |
| Command: rm -rf clipper.buildbin-libdir && mkdir clipper.buildbin-libdir && C:\cygwin\bin\curl.exe -O https://malbec1.bioconductor.org/BBS/3.6/bioc/src/contrib/clipper_1.18.0.tar.gz && C:\Users\biocbuild\bbs-3.6-bioc\R\bin\R.exe CMD INSTALL --build --library=clipper.buildbin-libdir --merge-multiarch clipper_1.18.0.tar.gz && C:\Users\biocbuild\bbs-3.6-bioc\R\bin\R.exe CMD INSTALL clipper_1.18.0.zip && rm clipper_1.18.0.tar.gz clipper_1.18.0.zip |
| StartedAt: 2018-04-11 18:51:00 -0400 (Wed, 11 Apr 2018) |
| EndedAt: 2018-04-11 18:52:49 -0400 (Wed, 11 Apr 2018) |
| EllapsedTime: 109.1 seconds |
| RetCode: 0 |
| Status: OK |
##############################################################################
##############################################################################
###
### Running command:
###
### rm -rf clipper.buildbin-libdir && mkdir clipper.buildbin-libdir && C:\cygwin\bin\curl.exe -O https://malbec1.bioconductor.org/BBS/3.6/bioc/src/contrib/clipper_1.18.0.tar.gz && C:\Users\biocbuild\bbs-3.6-bioc\R\bin\R.exe CMD INSTALL --build --library=clipper.buildbin-libdir --merge-multiarch clipper_1.18.0.tar.gz && C:\Users\biocbuild\bbs-3.6-bioc\R\bin\R.exe CMD INSTALL clipper_1.18.0.zip && rm clipper_1.18.0.tar.gz clipper_1.18.0.zip
###
##############################################################################
##############################################################################
% Total % Received % Xferd Average Speed Time Time Time Current
Dload Upload Total Spent Left Speed
0 0 0 0 0 0 0 0 --:--:-- --:--:-- --:--:-- 0
100 419k 100 419k 0 0 10.1M 0 --:--:-- --:--:-- --:--:-- 11.0M
install for i386
* installing *source* package 'clipper' ...
** R
** inst
** preparing package for lazy loading
** help
*** installing help indices
converting help for package 'clipper'
finding HTML links ... done
clipper html
clipperAllRoots html
cliqueMeanTest html
cliqueMixedTest html
cliquePairedTest html
cliqueVarianceTest html
deleteEdge html
easyClip html
easyLook html
getGraphEntryGenes html
getJunctionTreePaths html
nameCliques html
pathwayTest html
plotInCytoscape html
prunePaths html
** building package indices
** installing vignettes
** testing if installed package can be loaded
In R CMD INSTALL
install for x64
* installing *source* package 'clipper' ...
** testing if installed package can be loaded
* MD5 sums
packaged installation of 'clipper' as clipper_1.18.0.zip
* DONE (clipper)
In R CMD INSTALL
In R CMD INSTALL
* installing to library 'C:/Users/biocbuild/bbs-3.6-bioc/R/library'
package 'clipper' successfully unpacked and MD5 sums checked
In R CMD INSTALL