| Back to Multiple platform build/check report for BioC 3.6 |
|
This page was generated on 2018-04-12 13:28:19 -0400 (Thu, 12 Apr 2018).
| Package 188/1472 | Hostname | OS / Arch | INSTALL | BUILD | CHECK | BUILD BIN | ||||||
| ccmap 1.4.0 Alex Pickering
| malbec1 | Linux (Ubuntu 16.04.1 LTS) / x86_64 | OK | OK | OK | |||||||
| tokay1 | Windows Server 2012 R2 Standard / x64 | [ OK ] | OK | OK | OK | |||||||
| veracruz1 | OS X 10.11.6 El Capitan / x86_64 | OK | OK | OK | OK |
| Package: ccmap |
| Version: 1.4.0 |
| Command: rm -rf ccmap.buildbin-libdir && mkdir ccmap.buildbin-libdir && C:\cygwin\bin\curl.exe -O https://malbec1.bioconductor.org/BBS/3.6/bioc/src/contrib/ccmap_1.4.0.tar.gz && C:\Users\biocbuild\bbs-3.6-bioc\R\bin\R.exe CMD INSTALL --build --library=ccmap.buildbin-libdir --merge-multiarch ccmap_1.4.0.tar.gz && C:\Users\biocbuild\bbs-3.6-bioc\R\bin\R.exe CMD INSTALL ccmap_1.4.0.zip && rm ccmap_1.4.0.tar.gz ccmap_1.4.0.zip |
| StartedAt: 2018-04-11 18:28:26 -0400 (Wed, 11 Apr 2018) |
| EndedAt: 2018-04-11 18:30:17 -0400 (Wed, 11 Apr 2018) |
| EllapsedTime: 111.0 seconds |
| RetCode: 0 |
| Status: OK |
##############################################################################
##############################################################################
###
### Running command:
###
### rm -rf ccmap.buildbin-libdir && mkdir ccmap.buildbin-libdir && C:\cygwin\bin\curl.exe -O https://malbec1.bioconductor.org/BBS/3.6/bioc/src/contrib/ccmap_1.4.0.tar.gz && C:\Users\biocbuild\bbs-3.6-bioc\R\bin\R.exe CMD INSTALL --build --library=ccmap.buildbin-libdir --merge-multiarch ccmap_1.4.0.tar.gz && C:\Users\biocbuild\bbs-3.6-bioc\R\bin\R.exe CMD INSTALL ccmap_1.4.0.zip && rm ccmap_1.4.0.tar.gz ccmap_1.4.0.zip
###
##############################################################################
##############################################################################
% Total % Received % Xferd Average Speed Time Time Time Current
Dload Upload Total Spent Left Speed
0 0 0 0 0 0 0 0 --:--:-- --:--:-- --:--:-- 0
100 60725 100 60725 0 0 2557k 0 --:--:-- --:--:-- --:--:-- 2965k
install for i386
* installing *source* package 'ccmap' ...
** R
** preparing package for lazy loading
** help
*** installing help indices
converting help for package 'ccmap'
finding HTML links ... done
get_dprimes html
query_combos html
query_drugs html
sum_rowcolCumsum html
** building package indices
** installing vignettes
** testing if installed package can be loaded
In R CMD INSTALL
install for x64
* installing *source* package 'ccmap' ...
** testing if installed package can be loaded
* MD5 sums
packaged installation of 'ccmap' as ccmap_1.4.0.zip
* DONE (ccmap)
In R CMD INSTALL
In R CMD INSTALL
* installing to library 'C:/Users/biocbuild/bbs-3.6-bioc/R/library'
package 'ccmap' successfully unpacked and MD5 sums checked
In R CMD INSTALL