| Back to Multiple platform build/check report for BioC 3.6 |
|
This page was generated on 2018-04-12 13:28:19 -0400 (Thu, 12 Apr 2018).
| Package 188/1472 | Hostname | OS / Arch | INSTALL | BUILD | CHECK | BUILD BIN | ||||||
| ccmap 1.4.0 Alex Pickering
| malbec1 | Linux (Ubuntu 16.04.1 LTS) / x86_64 | OK | OK | OK | |||||||
| tokay1 | Windows Server 2012 R2 Standard / x64 | OK | OK | [ OK ] | OK | |||||||
| veracruz1 | OS X 10.11.6 El Capitan / x86_64 | OK | OK | OK | OK |
| Package: ccmap |
| Version: 1.4.0 |
| Command: rm -rf ccmap.buildbin-libdir ccmap.Rcheck && mkdir ccmap.buildbin-libdir ccmap.Rcheck && C:\Users\biocbuild\bbs-3.6-bioc\R\bin\R.exe CMD INSTALL --build --merge-multiarch --library=ccmap.buildbin-libdir ccmap_1.4.0.tar.gz >ccmap.Rcheck\00install.out 2>&1 && cp ccmap.Rcheck\00install.out ccmap-install.out && C:\Users\biocbuild\bbs-3.6-bioc\R\bin\R.exe CMD check --library=ccmap.buildbin-libdir --install="check:ccmap-install.out" --force-multiarch --no-vignettes --timings ccmap_1.4.0.tar.gz |
| StartedAt: 2018-04-11 22:44:57 -0400 (Wed, 11 Apr 2018) |
| EndedAt: 2018-04-11 22:49:31 -0400 (Wed, 11 Apr 2018) |
| EllapsedTime: 273.9 seconds |
| RetCode: 0 |
| Status: OK |
| CheckDir: ccmap.Rcheck |
| Warnings: 0 |
##############################################################################
##############################################################################
###
### Running command:
###
### rm -rf ccmap.buildbin-libdir ccmap.Rcheck && mkdir ccmap.buildbin-libdir ccmap.Rcheck && C:\Users\biocbuild\bbs-3.6-bioc\R\bin\R.exe CMD INSTALL --build --merge-multiarch --library=ccmap.buildbin-libdir ccmap_1.4.0.tar.gz >ccmap.Rcheck\00install.out 2>&1 && cp ccmap.Rcheck\00install.out ccmap-install.out && C:\Users\biocbuild\bbs-3.6-bioc\R\bin\R.exe CMD check --library=ccmap.buildbin-libdir --install="check:ccmap-install.out" --force-multiarch --no-vignettes --timings ccmap_1.4.0.tar.gz
###
##############################################################################
##############################################################################
* using log directory 'C:/Users/biocbuild/bbs-3.6-bioc/meat/ccmap.Rcheck'
* using R version 3.4.4 (2018-03-15)
* using platform: x86_64-w64-mingw32 (64-bit)
* using session charset: ISO8859-1
* using option '--no-vignettes'
* checking for file 'ccmap/DESCRIPTION' ... OK
* checking extension type ... Package
* this is package 'ccmap' version '1.4.0'
* checking package namespace information ... OK
* checking package dependencies ... OK
* checking if this is a source package ... OK
* checking if there is a namespace ... OK
* checking for hidden files and directories ... OK
* checking for portable file names ... OK
* checking whether package 'ccmap' can be installed ... OK
* checking installed package size ... OK
* checking package directory ... OK
* checking 'build' directory ... OK
* checking DESCRIPTION meta-information ... OK
* checking top-level files ... OK
* checking for left-over files ... OK
* checking index information ... OK
* checking package subdirectories ... OK
* checking R files for non-ASCII characters ... OK
* checking R files for syntax errors ... OK
* loading checks for arch 'i386'
** checking whether the package can be loaded ... OK
** checking whether the package can be loaded with stated dependencies ... OK
** checking whether the package can be unloaded cleanly ... OK
** checking whether the namespace can be loaded with stated dependencies ... OK
** checking whether the namespace can be unloaded cleanly ... OK
* loading checks for arch 'x64'
** checking whether the package can be loaded ... OK
** checking whether the package can be loaded with stated dependencies ... OK
** checking whether the package can be unloaded cleanly ... OK
** checking whether the namespace can be loaded with stated dependencies ... OK
** checking whether the namespace can be unloaded cleanly ... OK
* checking dependencies in R code ... NOTE
Unexported object imported by a ':::' call: 'xgboost:::predict.xgb.Booster'
See the note in ?`:::` about the use of this operator.
* checking S3 generic/method consistency ... OK
* checking replacement functions ... OK
* checking foreign function calls ... OK
* checking R code for possible problems ... OK
* checking Rd files ... OK
* checking Rd metadata ... OK
* checking Rd cross-references ... OK
* checking for missing documentation entries ... OK
* checking for code/documentation mismatches ... OK
* checking Rd \usage sections ... OK
* checking Rd contents ... OK
* checking for unstated dependencies in examples ... OK
* checking installed files from 'inst/doc' ... OK
* checking files in 'vignettes' ... OK
* checking examples ...
** running examples for arch 'i386' ... OK
Examples with CPU or elapsed time > 5s
user system elapsed
query_drugs 16.52 0.24 16.75
query_combos 11.95 0.42 23.28
get_dprimes 3.06 0.26 43.63
** running examples for arch 'x64' ... OK
Examples with CPU or elapsed time > 5s
user system elapsed
query_drugs 17.47 0.27 17.73
query_combos 17.17 0.36 23.00
* checking for unstated dependencies in 'tests' ... OK
* checking tests ...
** running tests for arch 'i386' ...
Running 'testthat.R'
OK
** running tests for arch 'x64' ...
Running 'testthat.R'
OK
* checking for unstated dependencies in vignettes ... OK
* checking package vignettes in 'inst/doc' ... OK
* checking running R code from vignettes ... SKIPPED
* checking re-building of vignette outputs ... SKIPPED
* checking PDF version of manual ... OK
* DONE
Status: 1 NOTE
See
'C:/Users/biocbuild/bbs-3.6-bioc/meat/ccmap.Rcheck/00check.log'
for details.
ccmap.Rcheck/00install.out
install for i386
* installing *source* package 'ccmap' ...
** R
** inst
** preparing package for lazy loading
** help
*** installing help indices
converting help for package 'ccmap'
finding HTML links ... done
get_dprimes html
query_combos html
query_drugs html
sum_rowcolCumsum html
** building package indices
** installing vignettes
** testing if installed package can be loaded
In R CMD INSTALL
install for x64
* installing *source* package 'ccmap' ...
** testing if installed package can be loaded
* MD5 sums
packaged installation of 'ccmap' as ccmap_1.4.0.zip
* DONE (ccmap)
In R CMD INSTALL
In R CMD INSTALL
|
ccmap.Rcheck/tests_i386/testthat.Rout
R version 3.4.4 (2018-03-15) -- "Someone to Lean On"
Copyright (C) 2018 The R Foundation for Statistical Computing
Platform: i386-w64-mingw32/i386 (32-bit)
R is free software and comes with ABSOLUTELY NO WARRANTY.
You are welcome to redistribute it under certain conditions.
Type 'license()' or 'licence()' for distribution details.
R is a collaborative project with many contributors.
Type 'contributors()' for more information and
'citation()' on how to cite R or R packages in publications.
Type 'demo()' for some demos, 'help()' for on-line help, or
'help.start()' for an HTML browser interface to help.
Type 'q()' to quit R.
> library(testthat)
> library(ccmap)
>
> test_check("ccmap")
== testthat results ===========================================================
OK: 126 SKIPPED: 0 FAILED: 0
>
> proc.time()
user system elapsed
4.84 0.20 5.15
|
ccmap.Rcheck/tests_x64/testthat.Rout
R version 3.4.4 (2018-03-15) -- "Someone to Lean On"
Copyright (C) 2018 The R Foundation for Statistical Computing
Platform: x86_64-w64-mingw32/x64 (64-bit)
R is free software and comes with ABSOLUTELY NO WARRANTY.
You are welcome to redistribute it under certain conditions.
Type 'license()' or 'licence()' for distribution details.
R is a collaborative project with many contributors.
Type 'contributors()' for more information and
'citation()' on how to cite R or R packages in publications.
Type 'demo()' for some demos, 'help()' for on-line help, or
'help.start()' for an HTML browser interface to help.
Type 'q()' to quit R.
> library(testthat)
> library(ccmap)
>
> test_check("ccmap")
== testthat results ===========================================================
OK: 126 SKIPPED: 0 FAILED: 0
>
> proc.time()
user system elapsed
4.35 0.09 4.57
|
|
ccmap.Rcheck/examples_i386/ccmap-Ex.timings
|
ccmap.Rcheck/examples_x64/ccmap-Ex.timings
|